Workbook

Sheet Naslovna
B3: Na temelju članka 39. Zakona o proračunu ("Narodne novine" br. 87/08, 136/12 i 15/15) i članka 35.Statuta
B4: Grada Sinja ("Službeni glasnik Grada Sinja" br. 10/09, 2/13 i 2/18) Gradsko vijeće Grada Sinja na
B5: 31. sjednici od 08. listopada 2020. godine donijelo je:
B7: POLUGODIŠNJI IZVJEŠTAJ O IZVRŠENJU PRORAČUNA GRADA SINJA ZA 2020. GODINU
B9: I. OPĆI DIO
B11: Članak 1.
B13: Prihodi i primitci, rashodi i izdatci Proračuna Grada Sinja za razdoblje I. - VI. 2020. godine (u daljnjem tekstu proračun) ostvareni su kako slijedi:
C15: A | D15: RAČUN PRIHODA I RASHODA | E15: Proračun 2020.g | F15: Izvršenje Proračuna I. - VI. 2020. | G15: Indeks
D16: Prihodi poslovanja | E16: =Prihodi!D7 -> 118000000 | F16: =Prihodi!E7 -> 48592071 | G16: =F16/E16*100 -> 41.179721
D17: Prihodi od prodaje nefinancijske imovine | E17: 700000 | F17: =Prihodi!E71 -> 367177 | G17: =F17/E17*100 -> 52.453857
D18: Rashodi poslovanja | E18: =Rashodi!D7 -> 81550000 | F18: =Rashodi!E7 -> 30308215 | G18: =F18/E18*100 -> 37.165194
D19: Rashodi za nabavu nefinancijske imovine | E19: =Rashodi!D96 -> 37450000 | F19: =Rashodi!E96 -> 14354842 | G19: =F19/E19*100 -> 38.330687
D20: Razlika višak / manjak | E20: -300000 | F20: =F16+F17-F18-F19 -> 4296190.2 | G20: =F20/E20*100 -> -1432.0634
C23: B | D23: RAČUN FINANCIRANJA | E23: Proračun 2020.g. | F23: Izvršenje Proračuna I. - VI. 2020. | G23: Indeks
D24: Primici od financijske imovine i zaduživanja | E24: 300000 | F24: ='Racun financiranja'!D9 -> 27939.27 | G24: =F24/E24*100 -> 9.31309
D25: Izdaci za financijsku imovinu i otplate zajmova
D26: NETO FINANCIRANJE | E26: 300000 | F26: =F24 -> 27939.27 | G26: =G24 -> 9.31309
D28: Višak / manjak + neto financiranje | E28: 0 | F28: 17222539
E30: Članak 2.
D33: Prihodi i rashodi, te primici i izdaci po ekonomskoj klasifikaciji, utvrđuju se u Računu prihoda i rashoda i Računu financiranja za 2020. godinu, kako slijedi:

Sheet Prihodi
A1: A. PRIHODI POSLOVANJA
A3: Konto | B3: Opis prihoda | C3: Ostvarenje I. - VI. 2019. | D3: Proračun 2020.g. | E3: Ostvarenje I. - VI. 2020. | F3: Indeks 5/3 | G3: Indeks 5/4
A4: 1 | B4: 2 | C4: 3 | D4: 4 | E4: 5 | F4: 6 | G4: 7
B5: PRIHODI UKUPNO (6+7) | C5: =C7+C71 -> 44408988 | D5: =D7+D71 -> 118700000 | E5: =E7+E71 -> 48959248 | F5: =E5/C5*100 -> 110.24626 | G5: =E5/D5*100 -> 41.246207
A7: 6 | B7: PRIHODI | C7: =C9+C23+C36+C48+C60+C67 -> 43971564 | D7: =D9+D23+D36+D48+D60+D67 -> 118000000 | E7: =E9+E23+E36+E48+E60+E67 -> 48592071 | F7: =E7/C7*100 -> 110.50794 | G7: =E7/D7*100 -> 41.179721
A9: 61 | B9: PRIHODI OD POREZA | C9: =C10+C16+C19 -> 32786960 | D9: =D10+D16+D19 -> 52600000 | E9: =E10+E16+E19 -> 26903843 | F9: =E9/C9*100 -> 82.056534 | G9: =E9/D9*100 -> 51.14799
A10: 611 | B10: Porez i prirez na dohodak | C10: =C11 -> 31085331 | D10: 49000000 | E10: =E11+E12+E13+E14-E15 -> 25983686 | F10: =E10/C10*100 -> 83.588255 | G10: =E10/D10*100 -> 53.027931
A11: 6111 | B11: Porez i prirez na dohodak od nesamostalnog rada | C11: 31085331 | E11: 27510382 | F11: =E11/C11*100 -> 88.499562
A12: 6112 | B12: Porez i prirez na dohodak od samostalne djelatnosti | E12: 1316616
A13: 6113 | B13: Porez i prirez na dohodak od imovine i imovinskih prava | E13: 448032
A14: 6114 | B14: Porez i prirez na dohodak od kapitala | E14: 602167
A15: 6117 | B15: Povrat poreza i prireza na dohodak po godišnjoj prijavi | E15: 3893511
A16: 613 | B16: Porezi na imovinu | C16: =C17+C18 -> 1495426.5 | D16: 3500000 | E16: =E17+E18 -> 824394 | F16: =E16/C16*100 -> 55.127683 | G16: =E16/D16*100 -> 23.554114
A17: 6131 | B17: Stalni porezi na nepokretnu imovinu (zemlju, zgrade, kuće) - porez na korištenje javnih površina | C17: 446210 | E17: 182196 | F17: =E17/C17*100 -> 40.831895
A18: 6134 | B18: Povremeni porezi na imovinu - porez na prometnekretnina | C18: 1049216.5 | E18: 642198 | F18: =E18/C18*100 -> 61.207385
A19: 614 | B19: Porezi na robu i usluge | C19: =C20+C21 -> 206202.39 | D19: 100000 | E19: =E20+E21 -> 95763 | F19: =E19/C19*100 -> 46.441266 | G19: =E19/D19*100 -> 95.763
A20: 6142 | B20: Porez na promet - porez na potrošnju | C20: 190944.75 | E20: 90455 | F20: =E20/C20*100 -> 47.372342
A21: 6145 | B21: Porez na korištenje dobara - porez na tvrtku | C21: 15257.64 | E21: 5308 | F21: =E21/C21*100 -> 34.789129
A23: 63 | B23: POMOĆI | C23: =C24+C27+C28+C30+C33 -> 5324666.1 | D23: =D24+D27+D28+D30+D33 -> 49650000 | E23: =E24+E27+E28+E30+E33 -> 16531512 | F23: =E23/C23*100 -> 310.4704 | G23: =E23/D23*100 -> 33.296097
A24: 633 | B24: Pomoći proračunu iz drugih proračuna | C24: =C26 -> 133718.82 | D24: 4000000 | E24: =E25+E26 -> 4850163 | F24: =E24/C24*100 -> 3627.1357 | G24: =E24/D24*100 -> 121.25408
A25: 6331 | B25: Tekuće pomoći proračunu iz drugih proračuna | C25: 0 | E25: 5000
A26: 6332 | B26: Kapitalne potpore iz proračuna | C26: 133718.82 | E26: 4845163 | F26: =E26/C26*100 -> 3623.3965
A27: 634 | B27: Pomoći od izvanproračunskih korisnika | C27: 0 | D27: 16750000 | E27: 0 | G27: =E27/D27*100 -> 0
A28: 635 | B28: Tekuće pomoći izravnanja za decentralizirane funkcije | C28: =C29 -> 1121067 | D28: 2300000 | E28: =E29 -> 1158894 | F28: =E28/C28*100 -> 103.37419 | G28: =E28/D28*100 -> 50.386696
A29: 6351 | B29: Tekuće pomoći izravnavanja za decentralizirane funkcije | C29: 1121067 | E29: 1158894 | F29: =E29/C29*100 -> 103.37419
A30: 636 | B30: Pomoći proračunskim korisnicima iz proračuna koji im nije nadležan | C30: =C31+C32 -> 91900 | D30: 600000 | E30: =E31+E32 -> 62980 | F30: =E30/C30*100 -> 68.531012 | G30: =E30/D30*100 -> 10.496667
A31: 6361 | B31: Tekuće pomoći proračunskim korisnicima iz proračuna koji im nije nadležan | C31: 51900 | E31: 22980 | F31: =E31/C31*100 -> 44.277457
A32: 6362 | B32: Kapitalne pomoći proračunskim korisnicima iz proračuna koji im nije nadležan | C32: 40000 | E32: 40000 | F32: =E32/C32*100 -> 100
A33: 638 | B33: Pomoći temeljem prijenosa EU sredstava | C33: =C34 -> 3977980.3 | D33: 26000000 | E33: =E34 -> 10459475 | F33: =E33/C33*100 -> 262.93431 | G33: =E33/D33*100 -> 40.22875
A34: 6382 | B34: Pomoći iz državnih proračuna temeljem prijenosa EU sredstava | C34: 3977980.3 | E34: 10459475 | F34: =E34/C34*100 -> 262.93431
A36: 64 | B36: PRIHODI OD IMOVINE | C36: =C37+C40+C45 -> 791702.43 | D36: =D37+D40+D45 -> 1500000 | E36: =E37+E40+E45 -> 622269 | F36: =E36/C36*100 -> 78.598849 | G36: =E36/D36*100 -> 41.4846
A37: 641 | B37: Prihodi od financijske imovine | C37: =C38+C39 -> 283 | D37: 20000 | E37: =E38+E39 -> 1227 | F37: =E37/C37*100 -> 433.5689 | G37: =E37/D37*100 -> 6.135
A38: 6413 | B38: Kamate na oročena sredstav i depozite po viđenje | C38: 105 | E38: 120 | F38: =E38/C38*100 -> 114.28571
A39: 6414 | B39: Prihodi od kamata za dane zajmove (prihodi od zateznih kamata) | C39: 178 | E39: 1107 | F39: =E39/C39*100 -> 621.91011
A40: 642 | B40: Prihodi od nefinancijske imovine | C40: =C41+C42+C43+C44 -> 791286 | D40: 1470000 | E40: =E41+E42+E43+E44 -> 621038 | F40: =E40/C40*100 -> 78.484644 | G40: =E40/D40*100 -> 42.247483
A41: 6421 | B41: Naknada za koncesije | C41: 26000 | E41: 0 | F41: =E41/C41*100 -> 0
A42: 6422 | B42: Prihodi od zakupa i iznajmljivanja imovine | C42: 315446 | E42: 207708 | F42: =E42/C42*100 -> 65.845818
A43: 6423 | B43: Naknada za korištenje nefinancijske imovine | C43: 377397 | E43: 370876 | F43: =E43/C43*100 -> 98.272111
A44: 6429 | B44: Ostali prihodi od nefinancijske imovine | C44: 72443 | E44: 42454 | F44: =E44/C44*100 -> 58.603316
A45: 643 | B45: Prihodi od kamata na dane zajmove | C45: =C46 -> 133.43 | D45: 10000 | E45: =E46 -> 4 | F45: =E45/C45*100 -> 2.9978266 | G45: =E45/D45*100 -> 0.04
...

Sheet Rashodi
A1: B. RASHODI POSLOVANJA
A3: Konto | B3: Opis rashoda | C3: Ostvarenje I. - VI. 2019. | D3: Proračun 2020.g. | E3: Ostvarenje I. - VI. 2020. | F3: Indeks 5/3 | G3: Indeks 5/4
A4: 1 | B4: 2 | C4: 3 | D4: 4 | E4: 5 | G4: 6
B5: RASHODI POSLOVANJA (3+4) | C5: =C7+C96 -> 44657387 | D5: =D7+D96 -> 119000000 | E5: =E7+E96 -> 44663058 | F5: =E5/C5*100 -> 100.0127 | G5: =E5/D5*100 -> 37.531981
A7: 3 | B7: RASHODI POSLOVANJA | C7: =C9+C21+C54+C61+C68+C76+C81 -> 33118153 | D7: =D9+D21+D54+D61+D68+D76+D81 -> 81550000 | E7: =E9+E21+E54+E61+E68+E76+E81 -> 30308215 | F7: =E7/C7*100 -> 91.515416 | G7: =E7/D7*100 -> 37.165194
A9: 31 | B9: Rashodi za zaposlene | C9: =C10+C14+C16 -> 8911285 | D9: =D10+D14+D16 -> 20475000 | E9: =E10+E14+E16 -> 9450601.6 | F9: =E9/C9*100 -> 106.05206 | G9: =E9/D9*100 -> 46.156785
A10: 311 | B10: Plaće | C10: =C11+C12+C13 -> 7436214 | D10: 16770000 | E10: =E11+E12 -> 7965840.5 | F10: =E10/C10*100 -> 107.12226 | G10: =E10/D10*100 -> 47.50054
A11: 3111 | B11: Plaće u novcu | C11: 7314878 | E11: 7894334.5 | F11: =E11/C11*100 -> 107.92162
A12: 3113 | B12: Plaće za prekovremeni rad | C12: 48926 | E12: 71506 | F12: =E12/C12*100 -> 146.15133
A13: 3114 | B13: Plće za posebne uvjete rada | C13: 72410 | E13: 0 | F13: =E13/C13*100 -> 0
A14: 312 | B14: Ostali rashodi za zaposlene | C14: =C15 -> 224738 | D14: 820000 | E14: 96871.06 | F14: =E14/C14*100 -> 43.103997 | G14: =E14/D14*100 -> 11.813544
A15: 3121 | B15: Ostali rashodi za zaposlene | C15: 224738 | E15: 96871.06 | F15: =E15/C15*100 -> 43.103997
A16: 313 | B16: Doprinosi na plaće | C16: =C17+C18+C19 -> 1250333 | D16: 2885000 | E16: =E17+E18 -> 1387890 | F16: =E16/C16*100 -> 111.00163 | G16: =E16/D16*100 -> 48.107107
A17: 3131 | B17: Doprinosi za mirovinsko osiguranje | C17: 91200 | E17: 97173 | F17: =E17/C17*100 -> 106.54934
A18: 3132 | B18: Doprinos za zdravstveno osiguranje | C18: 1139673 | E18: 1290717 | F18: =E18/C18*100 -> 113.25328
A19: 3133 | B19: Doprinos za zapošljavanje | C19: 19460 | F19: =E19/C19*100 -> 0
A21: 32 | B21: Materijalni rashodi | C21: =C22+C27+C34+C44+C46 -> 8254104 | D21: =D22+D27+D34+D44+D46 -> 26183000 | E21: =E22+E27+E34+E44+E46 -> 8794633.4 | F21: =E21/C21*100 -> 106.54861 | G21: =E21/D21*100 -> 33.589097
A22: 321 | B22: Naknade troškova zaposlenima | C22: =C23+C24+C25+C26 -> 591062 | D22: 1285000 | E22: =E23+E24+E25+E26 -> 590281.57 | F22: =E22/C22*100 -> 99.867961 | G22: =E22/D22*100 -> 45.936309
A23: 3211 | B23: Službena putovanja | C23: 16095 | E23: 15744 | F23: =E23/C23*100 -> 97.819199
A24: 3212 | B24: Naknada za prijevoz | C24: 549647 | E24: 551718.57 | F24: =E24/C24*100 -> 100.37689
A25: 3213 | B25: Stručno usavršavanje zaposlenika | C25: 21310 | E25: 18642 | F25: =E25/C25*100 -> 87.480056
A26: 3214 | B26: Ostale naknade troškova zaposlenicima | C26: 4010 | E26: 4177 | F26: =E26/C26*100 -> 104.16459
A27: 322 | B27: Rashodi za materijal i energiju | C27: =C28+C29+C30+C31+C32+C33 -> 2491118 | D27: 4510000 | E27: =E28+E29+E30+E31+E32+E33 -> 2525496.6 | F27: =E27/C27*100 -> 101.38005 | G27: =E27/D27*100 -> 55.997708
A28: 3221 | B28: Uredski materijal i ostali materijalni rashodi | C28: 251625 | E28: 255540 | F28: =E28/C28*100 -> 101.55589
A29: 3222 | B29: Materijal i sirovine | C29: 436360 | E29: 278511 | F29: =E29/C29*100 -> 63.825969
A30: 3223 | B30: Energija | C30: 1632122 | E30: 1868585 | F30: =E30/C30*100 -> 114.48807
A31: 3224 | B31: Materijal i dijelovi za tekuće i investicijsko održavanje | C31: 106758 | E31: 63957.64 | F31: =E31/C31*100 -> 59.90899
A32: 3225 | B32: Sitan inventar i autogume | C32: 28106 | E32: 25571 | F32: =E32/C32*100 -> 90.980574
A33: 3227 | B33: Službena, radna i zaštitna odjeća i obuća | C33: 36147 | E33: 33332 | F33: =E33/C33*100 -> 92.212355
A34: 323 | B34: Rashodi za usluge | C34: =SUM(C35:C43) -> 4213268 | D34: 17768000 | E34: =E35+E36+E37+E38+E39+E40+E41+E42+E43 -> 4712336.2 | F34: =E34/C34*100 -> 111.84516 | G34: =E34/D34*100 -> 26.521478
A35: 3231 | B35: Usluge telefona, pošte i prijevoza | C35: 117793 | E35: 118226 | F35: =E35/C35*100 -> 100.36759
A36: 3232 | B36: Usluge tekućeg i investicijskog održavanja | C36: 1662187 | E36: 1964161 | F36: =E36/C36*100 -> 118.16727
A37: 3233 | B37: Usluge promidžbe i informiranja | C37: 119655 | E37: 102078 | F37: =E37/C37*100 -> 85.310267
A38: 3234 | B38: Komunalne usluge | C38: 831491 | E38: 1262753.2 | F38: =E38/C38*100 -> 151.86613
A39: 3235 | B39: Zakupnine i najamnine | C39: 254662 | E39: 259732 | F39: =E39/C39*100 -> 101.99087
A40: 3236 | B40: Zdravstvene i veterinarske usluge | C40: 23014 | E40: 17218 | F40: =E40/C40*100 -> 74.81533
A41: 3237 | B41: Intelektualne i osobne usluge | C41: 727841 | E41: 508194 | F41: =E41/C41*100 -> 69.822118
A42: 3238 | B42: Računalne usluge | C42: 67001 | E42: 83037 | F42: =E42/C42*100 -> 123.93397
A43: 3239 | B43: Ostale usluge | C43: 409624 | E43: 396937 | F43: =E43/C43*100 -> 96.902769
A44: 324 | B44: Naknada troškova osobama izvan radnog odnosa | C44: =C45 -> 12912 | D44: 10000 | E44: 0 | F44: =E44/C44*100 -> 0 | G44: =E44/D44*100 -> 0
...

Sheet Racun financiranja
A1: C. RAČUN FINANCIRANJA
A3: Konto | B3: Opis primici / izdaci | C3: Proračun 2020.g. | D3: Ostvarenje I. - VI. 2020. | E3: Indeks
A5: 8 | B5: PRIMICI OD FINANCIJSKE IMOVINE I ZADUŽIVANJA | C5: 300000 | D5: =D7 -> 27939.27 | E5: =D5/C5*100 -> 9.31309
A7: 81 | B7: Primljene otplate (povrat) glavnice zajmova | C7: 300000 | D7: =D8+D9 -> 27939.27 | E7: =D7/C7*100 -> 9.31309
A8: 812 | B8: Primici glavnice zajmova danih neprofitnim organizacijama, građanima i kućanstvima | C8: 150000 | D8: 0 | E8: =D8/C8*100 -> 0
A9: 816 | B9: Povrat zajmova danih obrtnicima, malim i srednjim poduzetnicima | C9: 150000 | D9: 27939.27 | E9: =D9/C9*100 -> 18.62618

Sheet razdjel 1
A2: II. POSEBNI DIO
A4: Članak 4.
A6: Rashodi i izdatci proračuna realizirani su u iznosu od 44.663.057,76kn raspoređeni su po programskoj klasifikaciji po korisnicima i potanjim namjenama u Posebnom dijelu Proračuna kako slijedi:
A9: Pozicija | B9: Konto | C9: Opis rashoda i izdataka | D9: Proračun 2020.g. | E9: Ostvarenje I. - VI. 2020. | F9: Indeks
C11: RAZDJEL 1. 010 URED GRADA | D11: =D12+D100 -> 58268000 | E11: =E12+E100 -> 22344847 | F11: =E11/D11*100 -> 38.348402
A12: GLAVA 1 | B12: 1005 | C12: GRADSKA UPRAVA | D12: =D14 -> 11995000 | E12: =E14 -> 5612635.9 | F12: =E12/D12*100 -> 46.791463
A14: PROGRAM | B14: 1001 | C14: UPRAVLJANJE I ADMINISTRACIJA | D14: =D16+D62+D73+D82+D87+D95 -> 11995000 | E14: =E16+E62+E73+E82+E87+E95 -> 5612635.9 | F14: =E14/D14*100 -> 46.791463
A16: AKTIVNOST | B16: A 100101 | C16: Administrativni i stručni poslovi Grada | D16: =D18+D26+D53 -> 11330000 | E16: =E18+E26+E53+E58 -> 5293765 | F16: =E16/D16*100 -> 46.723433
B18: 31 | C18: Rashodi za zaposlene | D18: =D19+D21+D23 -> 6980000 | E18: =E19+E21+E23 -> 3272176.2 | F18: =E18/D18*100 -> 46.879315
A19: 01 | B19: 311 | C19: Plaće | D19: 5700000 | E19: =E20 -> 2766776.9 | F19: =E19/D19*100 -> 48.539946
B20: 3111 | C20: Plaće u novcu | E20: 2766776.9
A21: 02 | B21: 312 | C21: Ostali rashodi za zaposlene | D21: 300000 | E21: =E22 -> 48881.06 | F21: =E21/D21*100 -> 16.293687
B22: 3121 | C22: Ostali rashodi za zaposlene | E22: 48881.06
A23: 03 | B23: 313 | C23: Doprinosi na plaće | D23: 980000 | E23: =E24 -> 456518.19 | F23: =E23/D23*100 -> 46.583489
B24: 3132 | C24: Doprinosi za plaće | E24: 456518.19
B26: 32 | C26: Materijalni rashodi | D26: =D27+D31+D36+D45 -> 4200000 | E26: =E27+E31+E36+E45 -> 1959540.5 | F26: =E26/D26*100 -> 46.655726
A27: 04 | B27: 321 | C27: Naknade troškova zaposlenima | D27: 400000 | E27: =E28+E29+E30 -> 166896.57 | F27: =E27/D27*100 -> 41.724142
B28: 3211 | C28: Službena putovanja | E28: 15543.87
B29: 3212 | C29: Naknade za prijevoz, rad na terenu i odvojeni život | E29: 136930.5
B30: 3213 | C30: Stručno usavršavanje zaposlenika | E30: 14422.2
A31: 05 | B31: 322 | C31: Rashodi za materijal i energiju | D31: 800000 | E31: =E32+E33+E34+E35 -> 490438.94 | F31: =E31/D31*100 -> 61.304868
B32: 3221 | C32: uredski materijal i ostali materijalni rashodi | E32: 88739.81
B33: 3223 | C33: Enrgija | E33: 392400.13
B34: 3225 | C34: sitan inventar i autogume | E34: 8800
B35: 3227 | C35: Službena, radna i zaštitna odjeća i obuća | E35: 499
A36: 06 | B36: 323 | C36: Rashodi za usluge | D36: 2000000 | E36: =E37+E38+E39+E40+E41+E42+E43+E44 -> 853782.1 | F36: =E36/D36*100 -> 42.689105
B37: 3231 | C37: Usluge telefona, pošte i prijevoza | E37: 91012.94
B38: 3232 | C38: Usluge tekućeg i investicijskog održavanja | E38: 1432.48
B39: 3233 | C39: Usluge promidžbe i informiranja | E39: 87297.09
B40: 3234 | C40: Komunalne usluge | E40: 82437.88
B41: 3235 | C41: Zakupnine i najamnine | E41: 51119.71
B42: 3237 | C42: Intelektualne i osobne usluge | E42: 164431.89
B43: 3238 | C43: Računalne usluge | E43: 42042.37
B44: 3239 | C44: Ostale usluge | E44: 334007.74
A45: 07 | B45: 329 | C45: Ostali nespomenuti rashodi | D45: 1000000 | E45: =E46+E47+E48+E49+E50+E51 -> 448422.87 | F45: =E45/D45*100 -> 44.842287
B46: 3291 | C46: Naknade za rad pred. I izvrš. Tijela, povjerenstva i sl. | E46: 238576.1
B47: 3292 | C47: Premije osiguranja | E47: 69689.39
B48: 3293 | C48: Reprezentacija | E48: 108414.94
B49: 3295 | C49: Pristojbe i naknade | E49: 6807.08
B50: 3296 | C50: Troškovi sudskih postupaka | E50: 7598.06
...

Sheet razdjel 2
A2: Pozicija | B2: Konto | C2: Opis rashoda i izdataka | D2: Proračun 2020.g. | E2: Ostvarenje I. - VI. 2020. | F2: Indeks
C4: RAZDJEL 2. 020 UPRAVNI ODJEL ZA PROSTORNO UREĐENJE, KOMUNALNE DJELATNOSTI GOSPODARSTVO I UPRAVLJANJE IMOVINOM | D4: =D5+D114 -> 60732000 | E4: =E5+E114 -> 22318211 | F4: =(E4/D4)*100 -> 36.748685
A5: GLAVA 1 | B5: 2005 | C5: KOMUNALNO GOSPODARSTVO | D5: =D7+D46+D91 -> 19770000 | E5: =E7+E46+E91 -> 4956531.4 | F5: =E5/D5*100 -> 25.070973
A7: PROGRAM | B7: 1009 | C7: ODRŽAVANJE KOMUNALNE INFRASTRUKTURE | D7: =D9+D17+D23+D28+D34+D40 -> 10330000 | E7: =E9+E17+E23+E28+E34+E40 -> 4072812.1 | F7: =E7/D7*100 -> 39.427029
A9: AKTIVNOST | B9: A100901 | C9: Održavanje javne rasvjete | D9: =D11 -> 2500000 | E9: =E11 -> 1443662 | F9: =E9/D9*100 -> 57.746479
B11: 32 | C11: Materijalni rashodi | D11: =D12+D14 -> 2500000 | E11: =E12+E14 -> 1443662 | F11: =E11/D11*100 -> 57.746479
A12: 108 | B12: 322 | C12: Rashodi za materijal i energiju | D12: 1800000 | E12: =E13 -> 1245327 | F12: =E12/D12*100 -> 69.184832
B13: 3223 | C13: Energija | E13: 1245327
A14: 109 | B14: 323 | C14: Rashodi za usluge | D14: 700000 | E14: 198335 | F14: =E14/D14*100 -> 28.333571
B15: 3232 | C15: Usluge tekućeg i investicijskog održavanja | E15: 198335
A17: AKTIVNOST | B17: A100902 | C17: Održavanje nerazvrstanih cesta | D17: 5180000 | E17: =E19 -> 1522413.5 | F17: =E17/D17*100 -> 29.390223
B19: 32 | C19: Materijalni rashodi | D19: 5180000 | E19: =E20 -> 1522413.5 | F19: =E19/D19*100 -> 29.390223
A20: 110 | B20: 323 | C20: Rashodi za usluge | D20: 5180000 | E20: =E21 -> 1522413.5 | F20: =E20/D20*100 -> 29.390223
B21: 3232 | C21: Usluge tekućeg i investicijskog održavanja | E21: 1522413.5
A23: AKTIVNOST | B23: A100903 | C23: Odvodnja oborinskih voda | D23: 150000 | E23: 0 | F23: =E23/D23*100 -> 0
B25: 32 | C25: Materijalni rashodi | D25: 150000 | E25: 0 | F25: =E25/D25*100 -> 0
A26: 111 | B26: 323 | C26: Rashodi za usluge | D26: 150000 | E26: 0 | F26: =E26/D26*100 -> 0
A28: AKTIVNOST | B28: A100904 | C28: Održavanje čistoće javnih površina | D28: 900000 | E28: =E30 -> 436800 | F28: =E28/D28*100 -> 48.533333
B30: 32 | C30: Materijalni rashodi | D30: 900000 | E30: =E31 -> 436800 | F30: =E30/D30*100 -> 48.533333
A31: 112 | B31: 323 | C31: Rashodi za usluge | D31: 900000 | E31: =E32 -> 436800 | F31: =E31/D31*100 -> 48.533333
B32: 3234 | C32: Komunalne usluge | E32: 436800
A34: AKTIVNOST | B34: A100905 | C34: Održavanje javnih zelenih površina | D34: 1200000 | E34: =E36 -> 536561.3 | F34: =E34/D34*100 -> 44.713442
B36: 32 | C36: Materijalni rashodi | D36: 1200000 | E36: =E37 -> 536561.3 | F36: =E36/D36*100 -> 44.713442
A37: 113 | B37: 323 | C37: Rashodi za usluge | D37: 1200000 | E37: =E38 -> 536561.3 | F37: =E37/D37*100 -> 44.713442
B38: 3234 | C38: Komunalne usluge | E38: 536561.3
A40: AKTIVNOST | B40: A100906 | C40: Održavanje groblja | D40: 400000 | E40: =E42 -> 133375.25 | F40: =E40/D40*100 -> 33.343812
B42: 32 | C42: Materijalni rashodi | D42: 400000 | E42: =E43 -> 133375.25 | F42: =E42/D42*100 -> 33.343812
A43: 114 | B43: 323 | C43: Rashodi za usluge | D43: 400000 | E43: =E44 -> 133375.25 | F43: =E43/D43*100 -> 33.343812
B44: 3234 | C44: Komunalne usluge | E44: 133375.25
A46: PROGRAM | B46: 1010 | C46: ZAJEDNIČKI RASHODI U FUNKCIJI ODRŽAVANJA KOMUNALNE INFRASTRUKTURE | D46: =D48+D61+D66+D71+D76+D86 -> 990000 | E46: =E48+E61+E66+E71+E76+E86 -> 680792.82 | F46: =E46/D46*100 -> 68.766952
A48: AKTIVNOST | B48: A101001 | C48: Zajedničke usluge u komunalnom gospodarstvu | D48: =D50 -> 350000 | E48: =E50+E57 -> 549517.82 | F48: =E48/D48*100 -> 157.00509
B50: 32 | C50: Materijalni rashodi | D50: =D51+D54 -> 350000 | E50: =E51+E54 -> 160469.72 | F50: =E50/D50*100 -> 45.848491
A51: 115 | B51: 323 | C51: Rashodi za usluge | D51: 200000 | E51: =E52+E53 -> 38787.03 | F51: =E51/D51*100 -> 19.393515
B52: 3233 | C52: Usluge promidžbe i informiranja | E52: 5841
B53: 3234 | C53: Komunalne usluge | E53: 32946.03
A54: 116 | B54: 329 | C54: Ostali nespomenuti rashodi | D54: 150000 | E54: =E55 -> 121682.69 | F54: =E54/D54*100 -> 81.121793
B55: 3299 | C55: Ostali nespomenuti rashodi poslovanja | E55: 121682.69
A57: 116/a | B57: 38 | C57: Ostali rashodi | D57: 0 | E57: =E58 -> 389048.1 | F57: 0
B58: 383 | C58: Kazne, penali i naknade štete | D58: 0 | E58: =E59 -> 389048.1 | F58: 0
B59: 3831 | C59: Naknade šteta pravnim i fizičkim osobama | E59: 389048.1
...

Sheet Plan razvojnih 2020
A1: III. PLAN RAZVOJNIH PROGRAMA
A3: Članak 5.
A5: Plan razvojnih programa prikazuje izvršenje planiranih rashode vezanih uz provođenje investicija i davanje kapitalne pomoći i donacija za razdoblje I. - VI. 2020. godine.
A7: Odsjek: Gradska uprava
B8: OPIS RAZVOJNOG PROGRAMA
A9: STRATEŠKI CILJ | C9: NAZIV MJERE | D9: PROGRAM U PRORAČUNU | E9: AKTIVNOST/ PROJEKT | F9: ŠIFRA PROJEKTA | G9: PRORAČUN 2020.G. | H9: OSTVARENJE I. - VI. 2020. | I9: INDEKS
B11: Troškovi nabavke razne računalne i telekomunikacijske opreme Nabavka službenog vozila | C11: Efikasna lokalna samouprava Efikasna lokalna samouprava | D11: Javna uprava i administracija Javna uprava i administracija | E11: Obnova uredskih prostorija i opreme nabavka službenog vozila | F11: K100101 | G11: 70000 | H11: 46673.05 | I11: =H11/G11*100 -> 66.675786
A13: CILJ BR 1.Jačanje ljudskih resursa | B13: Ulaganje u računalne programe | C13: Efikasna lokalna samouprava Efikasna lokalna samouprava | D13: Javna uprava i administracija Javna uprava i administracija | E13: Transparentni Grad | F13: K100102 | G13: 200000 | H13: 0 | I13: 0
A15: Ukupno Gradska uprava: | G15: =G13+G11 -> 270000 | H15: =H11 -> 46673.05 | I15: =H15/G15*100 -> 17.286315
A17: Odsjek: Društvenih djelatnosti
B18: Završetak projekta sanacije i rekonstrukcije Tvrđave Grad uz potporu Ministarstva kulture RH | C18: Zaštita kulturno povijesne baštine | D18: Program kulture | E18: Sanacija Gradske tvrđave | F18: K100301 | G18: 300000 | H18: 0 | I18: 0
A19: CILJ BR. 4. Kontinuitet jedinstvenog kulturnog identiteta
B20: Promicanje istine o Domovinskom ratu | C20: Uređenje spomen sobe u čast poginulim Hrvatskim braniteljima iz Domovinskog rata | D20: Program kulture | E20: Izgradnja spomen prostora poginulim braniteljima Domovinskog rata Cetinske krajine | F20: K100302 | G20: 150000 | H20: 0 | I20: 0
B21: Ulaganje u infrastrukturu | C21: Zaštita kulturne baštine | D21: Program kulture | E21: Sanacija , rekonstrukcija zgrade Prve Franjevače klasične Gimazije u Sinju | F21: K100303 | G21: 300000 | H21: 300000 | I21: =H21/G21*100 -> 100
B22: Dovršetak uređenja infrastrukture kod Spomenika | C22: Uređenje prostora kod Spomenika | D22: Program kulture | E22: Uređenje platoa kod Spomenika Alkaru na Alkarskom trkalištu | F22: K100304 | G22: 900000 | H22: 0 | I22: 0
A23: Ukupno Društvene djelatnosti: | G23: =G19+G20+G21+G22 -> 1350000 | H23: =SUM(H18:H22) -> 300000 | I23: =H23/G23*100 -> 22.222222
A24: Ukupno Razdjel 1: | G24: =G15+G23 -> 1620000 | H24: =H23+H15 -> 346673.05 | I24: =H24/G24*100 -> 21.399571
A26: Odsjek: Komunalno gospodarstvo
A28: STRATEŠKI CILJ | B28: OPIS RAZVOJNOG PROGRAMA | C28: NAZIV MJERE | D28: PROGRAM U PRORAČUNU | E28: AKTIVNOST/ PROJEKT | F28: ŠIFRA PROJEKTA | G28: PRORAČUN 2020. | H28: OSTVARENJE I. - VI. 2020. | I28: INDEKS
B30: Daljnja provedba programa energetske učinkovitosti na sustavu javne rasvjete | C30: Učinkovito gospodarenje energijom | D30: Zajednički rashodi u funkciji održavanja komunalne infrastrukture | E30: Energetska učinkovitost na sustavu javne rasvjete | F30: K101001 | G30: 100000 | H30: 0 | I30: 0
B31: Daljnji razvitak komunalne infrastrukture | C31: Učinkovito gospodarenje komunalnim resursima | D31: Zajednički rashodi u funkciji održavanja komunalne infrastrukture | E31: Nabavka i ugradnja video - kamera na javnim površinama | F31: K101003 | G31: 190000 | H31: 0 | I31: 0
B32: Nabavka programa radi efikasnijeg upravljanja u lokalnoj samoupravi | C32: Unapređenje i pružanje informacija u komunalnom gospodarstvu | D32: Zajednički rashodi u funkciji održavanja komunalne infrastrukture | E32: Nabavka urbane opreme | F32: K101104 | G32: 150000 | H32: 131275 | I32: =H32/G32*100 -> 87.516667
A33: CILJ BR. 2. Izgrađeni i usklađeni infrastrukturni i prirodni resursi kao osnovni preduvjet kvalitete života | B33: Ishođenje građevinske dozvole, raspisivanje natječaja za sanaciju, odabir izvođača i početak radova na sanaciji | C33: Zaštita okoliša i gospodarenje otpadom | D33: Zaštita okoliša | E33: Sanacija odlagališta komunalnog otpada Mojanka | F33: K101101 | G33: 5000000 | H33: 0 | I33: 0
B34: Nabava opreme za odvojeno skupljanje otpada | C34: Zaštita okoliša i gospodarenje otpadom | D34: Zaštita okoliša | E34: Plan gospodarenja otpadom | F34: K101102 | G34: 950000 | H34: 129051.56 | I34: =H34/G34*100 -> 13.584375
B35: Stvaranje uvjeta za odvojeno prikupljanje otpada | C35: Zaštita okoliša i gospodarenje otpadom | D35: Zaštita okoliša | E35: Izgradnja sortirnice projektna dokumentacija | F35: K101103 | G35: 2500000 | H35: 73875 | I35: =H35/G35*100 -> 2.955
A36: Ukupno Komunalno gospodarstvo: | G36: =G30+G31+G32+G33+G34+G35 -> 8890000 | H36: =H35+H34+H33+H32+H31+H30 -> 334201.56 | I36: =H36/G36*100 -> 3.7592976
A48: Odsjek: Prostorno uređenje, gospodarstvo i upravljanje imovinom
G49: PRORAČUN 2020.G. | H49: OSTVARENJE I. - VI. 2020. | I49: INDEKS
A50: CILJ BR. 1. Kvalitetni i dinamički ljudski resursi, kao aktivni nositelji sadašnjosti i budućnosti Grada Sinja | B50: Ulaganje u športsko rekreacijsku kulturu i stvaranje športsko rekreativnih programa | C50: Izgradnja štala i njeno stavljanje u funkciju | D50: Program razvitka gospodarstva i izgradnja kapitalnih projekata | E50: Izgradnja štala na Hipodromu | F50: K101207 | G50: 800000 | H50: 0 | I50: 0
B51: Ulaganje u športsko rekreacijsku kulturu i stvaranje športsko rekreativnih programa | C51: Omogućavanje nadvodnjavanja na športskim terenima | D51: Program razvitka gospodarstva i izgradnja kapitalnih projekata | E51: Nabavka pumpi za nadvodnjavanje športskih terena iz bušotina | F51: K101226 | G51: 500000 | H51: 0 | I51: 0
B52: Ulaganje u športsko rekreacijsku kulturu i stvaranje športsko rekreativnih programa | C52: Uređenje prostora Aerodrom | D52: Program razvitka gospodarstva i izgradnja kapitalnih projekata | E52: Izrada ograde oko Sinjskog Aerodroma | F52: K101228 | G52: 700000 | H52: 0 | I52: 0
B53: Ulaganje u osnovno školstvo | C53: Izrada projektne dokumentacije | D53: Program razvitka gospodarstva i izgradnja kapitalnih projekata | E53: Izgradnja osnovne glazbene škole Jakova Gotovca u Sinju | F53: K101231 | G53: 200000 | H53: 0 | I53: 0
B54: Ulaganje u športsko rekreacijsku kulturu i stvaranje športsko rekreativnih programa | C54: Uređenje športskih terena | D54: Program razvitka gospodarstva i izgradnja kapitalnih projekata | E54: Izgradnja velikog igrališta sa umjetnom travom uz gradski stadion NK Junak | F54: K101233 | G54: 2000000 | H54: 0 | I54: 0
B55: Ulaganje u vjersku infrastrukturu | C55: Suradnja sa vjerskim zajednicama | D55: Program razvitka gospodarstva i izgradnja kapitalnih projekata | E55: Izgradnja Crkve na Radošiću - projektna dokumentacija | F55: K101240 | G55: 300000 | H55: 0 | I55: 0
A56: CILJ BR.2.
A57: Izgrađeni i usklađeni infrastrukturni i prirodni resursi kao osnovni preduvjet kvalitete života | B57: Rješavanje imovinsko pravnih odnosa za potrebe realizacije projekata | C57: Razvoj komunalne infrastrukture | D57: Razvitak gospodarstva i izgradnja kap.objekata | E57: Kupnja nekretnine | F57: K101204 | G57: 300000 | H57: 0 | I57: 0
B58: Nastavak izgradnje nogostupa Put Pavića | C58: Razvoj lokalne cestovne infrastrukture | D58: Razvitak gospodarstva i izgradnja kap.objekata | E58: Izgradnja nogostupa Put Pavića | F58: K101205 | G58: 200000 | H58: 0 | I58: 0
B59: Razvoj cestovne infrastrukture | C59: Kvalitetna prometna povezanost – sigurnost u prometu | D59: Razvitak gospodarstva i izgradnja kap.objekata | E59: Izgradnja nogostupa od Zorke Macana do spomenika Radošić Gornji | F59: K101206 | G59: 100000 | H59: 55250 | I59: =H59/G59*100 -> 55.25
B60: Izrada prostorno planske dokumentacije | C60: Daljnja detaljna razrada planova dijelova Grada | D60: Razvitak gospodarstva i izgradnja kap.objekata | E60: Izrada prostornih planova | F60: K101208 | G60: 250000 | H60: 108937.5 | I60: =H60/G60*100 -> 43.575
B61: Poticanje energetske učinkovitosti | C61: Provedba programa energetske učinkovitosti na objektima u vlasništvu Grada | D61: Razvitak gospodarstva i izgradnja kap.objekata | E61: Sustav energetske učinkovitosti na objektima u vlasništvu Grada | F61: K101209 | G61: 150000 | H61: 0 | I61: 0
...
