Workbook

Sheet Naslovna
B3: Na temelju članka 39. Zakona o proračunu ("Narodne novine" br. 87/08, 136/12 i 15/15) i članka 35.Statuta
B4: Grada Sinja ("Službeni glasnik Grada Sinja" br. 10/09, 2/13 i 2/18) Gradsko vijeće Grada Sinja na
B5: 31. sjednici od 08. listopada 2020. godine donijelo je:
B7: POLUGODIŠNJI IZVJEŠTAJ O IZVRŠENJU PRORAČUNA GRADA SINJA ZA 2020. GODINU
B9: I. OPĆI DIO
B11: Članak 1.
B13: Prihodi i primitci, rashodi i izdatci Proračuna Grada Sinja za razdoblje I. - VI. 2020. godine (u daljnjem tekstu proračun) ostvareni su kako slijedi:
C15: A | D15: RAČUN PRIHODA I RASHODA | E15: Proračun 2020.g | F15: Izvršenje Proračuna I. - VI. 2020. | G15: Indeks
D16: Prihodi poslovanja | E16: =Prihodi!D7 -> 118000000 | F16: =Prihodi!E7 -> 48592071 | G16: =F16/E16*100 -> 41.179721
D17: Prihodi od prodaje nefinancijske imovine | E17: 700000 | F17: =Prihodi!E71 -> 367177 | G17: =F17/E17*100 -> 52.453857
D18: Rashodi poslovanja | E18: =Rashodi!D7 -> 81550000 | F18: =Rashodi!E7 -> 30308215 | G18: =F18/E18*100 -> 37.165194
D19: Rashodi za nabavu nefinancijske imovine | E19: =Rashodi!D96 -> 37450000 | F19: =Rashodi!E96 -> 14354842 | G19: =F19/E19*100 -> 38.330687
D20: Razlika višak / manjak | E20: -300000 | F20: =F16+F17-F18-F19 -> 4296190.2 | G20: =F20/E20*100 -> -1432.0634
C23: B | D23: RAČUN FINANCIRANJA | E23: Proračun 2020.g. | F23: Izvršenje Proračuna I. - VI. 2020. | G23: Indeks
D24: Primici od financijske imovine i zaduživanja | E24: 300000 | F24: ='Racun financiranja'!D9 -> 27939.27 | G24: =F24/E24*100 -> 9.31309
D25: Izdaci za financijsku imovinu i otplate zajmova
D26: NETO FINANCIRANJE | E26: 300000 | F26: =F24 -> 27939.27 | G26: =G24 -> 9.31309
D28: Višak / manjak + neto financiranje | E28: 0 | F28: 17222539
E30: Članak 2.
D33: Prihodi i rashodi, te primici i izdaci po ekonomskoj klasifikaciji, utvrđuju se u Računu prihoda i rashoda i Računu financiranja za 2020. godinu, kako slijedi:

Sheet Prihodi
A1: A. PRIHODI POSLOVANJA
A3: Konto | B3: Opis prihoda | C3: Ostvarenje I. - VI. 2019. | D3: Proračun 2020.g. | E3: Ostvarenje I. - VI. 2020. | F3: Indeks 5/3 | G3: Indeks 5/4
A4: 1 | B4: 2 | C4: 3 | D4: 4 | E4: 5 | F4: 6 | G4: 7
B5: PRIHODI UKUPNO (6+7) | C5: =C7+C71 -> 44408988 | D5: =D7+D71 -> 118700000 | E5: =E7+E71 -> 48959248 | F5: =E5/C5*100 -> 110.24626 | G5: =E5/D5*100 -> 41.246207
A7: 6 | B7: PRIHODI | C7: =C9+C23+C36+C48+C60+C67 -> 43971564 | D7: =D9+D23+D36+D48+D60+D67 -> 118000000 | E7: =E9+E23+E36+E48+E60+E67 -> 48592071 | F7: =E7/C7*100 -> 110.50794 | G7: =E7/D7*100 -> 41.179721
A9: 61 | B9: PRIHODI OD POREZA | C9: =C10+C16+C19 -> 32786960 | D9: =D10+D16+D19 -> 52600000 | E9: =E10+E16+E19 -> 26903843 | F9: =E9/C9*100 -> 82.056534 | G9: =E9/D9*100 -> 51.14799
A10: 611 | B10: Porez i prirez na dohodak | C10: =C11 -> 31085331 | D10: 49000000 | E10: =E11+E12+E13+E14-E15 -> 25983686 | F10: =E10/C10*100 -> 83.588255 | G10: =E10/D10*100 -> 53.027931
A11: 6111 | B11: Porez i prirez na dohodak od nesamostalnog rada | C11: 31085331 | E11: 27510382 | F11: =E11/C11*100 -> 88.499562
A12: 6112 | B12: Porez i prirez na dohodak od samostalne djelatnosti | E12: 1316616
A13: 6113 | B13: Porez i prirez na dohodak od imovine i imovinskih prava | E13: 448032
A14: 6114 | B14: Porez i prirez na dohodak od kapitala | E14: 602167
A15: 6117 | B15: Povrat poreza i prireza na dohodak po godišnjoj prijavi | E15: 3893511
A16: 613 | B16: Porezi na imovinu | C16: =C17+C18 -> 1495426.5 | D16: 3500000 | E16: =E17+E18 -> 824394 | F16: =E16/C16*100 -> 55.127683 | G16: =E16/D16*100 -> 23.554114
A17: 6131 | B17: Stalni porezi na nepokretnu imovinu (zemlju, zgrade, kuće) - porez na korištenje javnih površina | C17: 446210 | E17: 182196 | F17: =E17/C17*100 -> 40.831895
A18: 6134 | B18: Povremeni porezi na imovinu - porez na prometnekretnina | C18: 1049216.5 | E18: 642198 | F18: =E18/C18*100 -> 61.207385
A19: 614 | B19: Porezi na robu i usluge | C19: =C20+C21 -> 206202.39 | D19: 100000 | E19: =E20+E21 -> 95763 | F19: =E19/C19*100 -> 46.441266 | G19: =E19/D19*100 -> 95.763
A20: 6142 | B20: Porez na promet - porez na potrošnju | C20: 190944.75 | E20: 90455 | F20: =E20/C20*100 -> 47.372342
A21: 6145 | B21: Porez na korištenje dobara - porez na tvrtku | C21: 15257.64 | E21: 5308 | F21: =E21/C21*100 -> 34.789129
A23: 63 | B23: POMOĆI | C23: =C24+C27+C28+C30+C33 -> 5324666.1 | D23: =D24+D27+D28+D30+D33 -> 49650000 | E23: =E24+E27+E28+E30+E33 -> 16531512 | F23: =E23/C23*100 -> 310.4704 | G23: =E23/D23*100 -> 33.296097
A24: 633 | B24: Pomoći proračunu iz drugih proračuna | C24: =C26 -> 133718.82 | D24: 4000000 | E24: =E25+E26 -> 4850163 | F24: =E24/C24*100 -> 3627.1357 | G24: =E24/D24*100 -> 121.25408
A25: 6331 | B25: Tekuće pomoći proračunu iz drugih proračuna | C25: 0 | E25: 5000
A26: 6332 | B26: Kapitalne potpore iz proračuna | C26: 133718.82 | E26: 4845163 | F26: =E26/C26*100 -> 3623.3965
A27: 634 | B27: Pomoći od izvanproračunskih korisnika | C27: 0 | D27: 16750000 | E27: 0 | G27: =E27/D27*100 -> 0
A28: 635 | B28: Tekuće pomoći izravnanja za decentralizirane funkcije | C28: =C29 -> 1121067 | D28: 2300000 | E28: =E29 -> 1158894 | F28: =E28/C28*100 -> 103.37419 | G28: =E28/D28*100 -> 50.386696
A29: 6351 | B29: Tekuće pomoći izravnavanja za decentralizirane funkcije | C29: 1121067 | E29: 1158894 | F29: =E29/C29*100 -> 103.37419
A30: 636 | B30: Pomoći proračunskim korisnicima iz proračuna koji im nije nadležan | C30: =C31+C32 -> 91900 | D30: 600000 | E30: =E31+E32 -> 62980 | F30: =E30/C30*100 -> 68.531012 | G30: =E30/D30*100 -> 10.496667
A31: 6361 | B31: Tekuće pomoći proračunskim korisnicima iz proračuna koji im nije nadležan | C31: 51900 | E31: 22980 | F31: =E31/C31*100 -> 44.277457
A32: 6362 | B32: Kapitalne pomoći proračunskim korisnicima iz proračuna koji im nije nadležan | C32: 40000 | E32: 40000 | F32: =E32/C32*100 -> 100
A33: 638 | B33: Pomoći temeljem prijenosa EU sredstava | C33: =C34 -> 3977980.3 | D33: 26000000 | E33: =E34 -> 10459475 | F33: =E33/C33*100 -> 262.93431 | G33: =E33/D33*100 -> 40.22875
A34: 6382 | B34: Pomoći iz državnih proračuna temeljem prijenosa EU sredstava | C34: 3977980.3 | E34: 10459475 | F34: =E34/C34*100 -> 262.93431
A36: 64 | B36: PRIHODI OD IMOVINE | C36: =C37+C40+C45 -> 791702.43 | D36: =D37+D40+D45 -> 1500000 | E36: =E37+E40+E45 -> 622269 | F36: =E36/C36*100 -> 78.598849 | G36: =E36/D36*100 -> 41.4846
A37: 641 | B37: Prihodi od financijske imovine | C37: =C38+C39 -> 283 | D37: 20000 | E37: =E38+E39 -> 1227 | F37: =E37/C37*100 -> 433.5689 | G37: =E37/D37*100 -> 6.135
A38: 6413 | B38: Kamate na oročena sredstav i depozite po viđenje | C38: 105 | E38: 120 | F38: =E38/C38*100 -> 114.28571
A39: 6414 | B39: Prihodi od kamata za dane zajmove (prihodi od zateznih kamata) | C39: 178 | E39: 1107 | F39: =E39/C39*100 -> 621.91011
A40: 642 | B40: Prihodi od nefinancijske imovine | C40: =C41+C42+C43+C44 -> 791286 | D40: 1470000 | E40: =E41+E42+E43+E44 -> 621038 | F40: =E40/C40*100 -> 78.484644 | G40: =E40/D40*100 -> 42.247483
A41: 6421 | B41: Naknada za koncesije | C41: 26000 | E41: 0 | F41: =E41/C41*100 -> 0
A42: 6422 | B42: Prihodi od zakupa i iznajmljivanja imovine | C42: 315446 | E42: 207708 | F42: =E42/C42*100 -> 65.845818
A43: 6423 | B43: Naknada za korištenje nefinancijske imovine | C43: 377397 | E43: 370876 | F43: =E43/C43*100 -> 98.272111
A44: 6429 | B44: Ostali prihodi od nefinancijske imovine | C44: 72443 | E44: 42454 | F44: =E44/C44*100 -> 58.603316
A45: 643 | B45: Prihodi od kamata na dane zajmove | C45: =C46 -> 133.43 | D45: 10000 | E45: =E46 -> 4 | F45: =E45/C45*100 -> 2.9978266 | G45: =E45/D45*100 -> 0.04
A46: 6436 | B46: Prihodi od kamata na dane zajmove trgovačkim društvima i obrtnicima | C46: 133.43 | E46: 4 | F46: =E46/C46*100 -> 2.9978266
A48: 65 | B48: PRIHODI OD UPRAVNIH I ADMINISTRATIVNIH PRISTOJBI, PRISTOJBI PO POSEBNIM PROPISIMA I NAKNADA | C48: =C49+C53+C56 -> 3984089 | D48: =D49+D53+D56 -> 9900000 | E48: =E49+E53+E56 -> 3199438 | F48: =E48/C48*100 -> 80.305385 | G48: =E48/D48*100 -> 32.317556
A49: 651 | B49: Administrativne (upravne) pristojbe | C49: =C50+C51+C52 -> 224620 | D49: 600000 | E49: =E51+E52 -> 54254 | F49: =E49/C49*100 -> 24.153682 | G49: =E49/D49*100 -> 9.0423333
A50: 6512 | B50: Županijske, gradske i općinske pristojbe i naknade | C50: 135180 | E50: 0 | F50: =E50/C50*100 -> 0
A51: 6513 | B51: Ostale upravne pristojbe | C51: 80954 | E51: 49781 | F51: =E51/C51*100 -> 61.492947
A52: 6514 | B52: Ostale pristojbe | C52: 8486 | E52: 4473 | F52: =E52/C52*100 -> 52.710346
A53: 652 | B53: Prihodi po posebnim propisima | C53: =C54+C55 -> 1234406 | D53: 2300000 | E53: =E54+E55 -> 1113494 | F53: =E53/C53*100 -> 90.204843 | G53: =E53/D53*100 -> 48.412783
A54: 6521 | B54: Prihodi državne uprave | C54: 0 | E54: 1386
A55: 6526 | B55: Ostali nespomenuti prihodi | C55: 1234406 | E55: 1112108 | F55: =E55/C55*100 -> 90.092563
A56: 653 | B56: Komunalni doprinos i naknada | C56: =C57+C58 -> 2525063 | D56: 7000000 | E56: =E57+E58 -> 2031690 | F56: =E56/C56*100 -> 80.460963 | G56: =E56/D56*100 -> 29.024143
A57: 6531 | B57: Komunalni doprinos i naknada | C57: 390429 | E57: 222255 | F57: =E57/C57*100 -> 56.925843
A58: 6532 | B58: Komunalna naknada | C58: 2134634 | E58: 1809435 | F58: =E58/C58*100 -> 84.765585
A60: 66 | B60: PRIHODI OD PRODAJE PROIZVODA I ROBA | C60: =C61+C64 -> 147352 | D60: 350000 | E60: =E61+E64 -> 58000 | F60: =E60/C60*100 -> 39.361529 | G60: =E60/D60*100 -> 16.571429
A61: 661 | B61: Prihod od prodaje proizvoda i roba | C61: =C62+C63 -> 137352 | D61: 350000 | E61: 43000 | F61: =E61/C61*100 -> 31.306424 | G61: =E61/D61*100 -> 12.285714
A62: 6614 | B62: Prihodi od prodaje proizvoda i roba | C62: 95352 | E62: 0 | F62: =E62/C62*100 -> 0
A63: 6615 | B63: Prihodi od pruženih usluga | C63: 42000 | E63: 43000 | F63: =E63/C63*100 -> 102.38095
A64: 663 | B64: Donacije od pravnih i fizičkih osoba izvan općeg proračuna | C64: =C65 -> 10000 | E64: 15000 | F64: =E64/C64*100 -> 150
A65: 6631 | B65: Tekuće donacije | C65: 10000 | E65: 15000 | F65: =E65/C65*100 -> 150
A67: 68 | B67: KAZNE, UPRAVNE MJERE I OSTALI PRIHODI | C67: =C68 -> 936794 | D67: 4000000 | E67: =E68 -> 1277009 | F67: =E67/C67*100 -> 136.31695 | G67: =E67/D67*100 -> 31.925225
A68: 683 | B68: Ostali nespomenuti prihodi | C68: =C69 -> 936794 | D68: 4000000 | E68: 1277009 | F68: =E68/C68*100 -> 136.31695 | G68: =E68/D68*100 -> 31.925225
A69: 6831 | B69: Ostali prihodi | C69: 936794 | F69: =E69/C69*100 -> 0
A71: 7 | B71: PRIHOD OD PRODAJE NEFINANCIJSKE IMOVINE | C71: =C73+C77 -> 437424.59 | D71: =D73+D77 -> 700000 | E71: =E73+E77 -> 367177 | F71: =E71/C71*100 -> 83.94064 | G71: =E71/D71*100 -> 52.453857
A73: 71 | B73: Prihod od prodaje neproizvedene imovine | C73: =C74 -> 241082.59 | D73: 400000 | E73: =E74 -> 192138 | F73: =E73/C73*100 -> 79.697999 | G73: =E73/D73*100 -> 48.0345
A74: 711 | B74: Prihod od prodaje materijalne imovine - prirodnih bogatstava | C74: =C75 -> 241082.59 | D74: 400000 | E74: =E75 -> 192138 | F74: =E74/C74*100 -> 79.697999 | G74: =E74/D74*100 -> 48.0345
A75: 7111 | B75: Zemljište | C75: 241082.59 | E75: 192138 | F75: =E75/C75*100 -> 79.697999
A77: 72 | B77: Prihod od proizvedene imovine | C77: =C78 -> 196342 | D77: 300000 | E77: =E79 -> 175039 | F77: =E77/C77*100 -> 89.150054 | G77: =E77/D77*100 -> 58.346333
A78: 721 | B78: Prihodi od prodaje građevinskih objekata | C78: =C79 -> 196342 | E78: =E79 -> 175039 | F78: =E78/C78*100 -> 89.150054
A79: 7211 | B79: Stambeni objekti (sredstva od prodaje stanova) | C79: 196342 | D79: 300000 | E79: 175039 | F79: =E79/C79*100 -> 89.150054 | G79: =E79/D79*100 -> 58.346333

Sheet Rashodi
A1: B. RASHODI POSLOVANJA
A3: Konto | B3: Opis rashoda | C3: Ostvarenje I. - VI. 2019. | D3: Proračun 2020.g. | E3: Ostvarenje I. - VI. 2020. | F3: Indeks 5/3 | G3: Indeks 5/4
A4: 1 | B4: 2 | C4: 3 | D4: 4 | E4: 5 | G4: 6
B5: RASHODI POSLOVANJA (3+4) | C5: =C7+C96 -> 44657387 | D5: =D7+D96 -> 119000000 | E5: =E7+E96 -> 44663058 | F5: =E5/C5*100 -> 100.0127 | G5: =E5/D5*100 -> 37.531981
A7: 3 | B7: RASHODI POSLOVANJA | C7: =C9+C21+C54+C61+C68+C76+C81 -> 33118153 | D7: =D9+D21+D54+D61+D68+D76+D81 -> 81550000 | E7: =E9+E21+E54+E61+E68+E76+E81 -> 30308215 | F7: =E7/C7*100 -> 91.515416 | G7: =E7/D7*100 -> 37.165194
A9: 31 | B9: Rashodi za zaposlene | C9: =C10+C14+C16 -> 8911285 | D9: =D10+D14+D16 -> 20475000 | E9: =E10+E14+E16 -> 9450601.6 | F9: =E9/C9*100 -> 106.05206 | G9: =E9/D9*100 -> 46.156785
A10: 311 | B10: Plaće | C10: =C11+C12+C13 -> 7436214 | D10: 16770000 | E10: =E11+E12 -> 7965840.5 | F10: =E10/C10*100 -> 107.12226 | G10: =E10/D10*100 -> 47.50054
A11: 3111 | B11: Plaće u novcu | C11: 7314878 | E11: 7894334.5 | F11: =E11/C11*100 -> 107.92162
A12: 3113 | B12: Plaće za prekovremeni rad | C12: 48926 | E12: 71506 | F12: =E12/C12*100 -> 146.15133
A13: 3114 | B13: Plće za posebne uvjete rada | C13: 72410 | E13: 0 | F13: =E13/C13*100 -> 0
A14: 312 | B14: Ostali rashodi za zaposlene | C14: =C15 -> 224738 | D14: 820000 | E14: 96871.06 | F14: =E14/C14*100 -> 43.103997 | G14: =E14/D14*100 -> 11.813544
A15: 3121 | B15: Ostali rashodi za zaposlene | C15: 224738 | E15: 96871.06 | F15: =E15/C15*100 -> 43.103997
A16: 313 | B16: Doprinosi na plaće | C16: =C17+C18+C19 -> 1250333 | D16: 2885000 | E16: =E17+E18 -> 1387890 | F16: =E16/C16*100 -> 111.00163 | G16: =E16/D16*100 -> 48.107107
A17: 3131 | B17: Doprinosi za mirovinsko osiguranje | C17: 91200 | E17: 97173 | F17: =E17/C17*100 -> 106.54934
A18: 3132 | B18: Doprinos za zdravstveno osiguranje | C18: 1139673 | E18: 1290717 | F18: =E18/C18*100 -> 113.25328
A19: 3133 | B19: Doprinos za zapošljavanje | C19: 19460 | F19: =E19/C19*100 -> 0
A21: 32 | B21: Materijalni rashodi | C21: =C22+C27+C34+C44+C46 -> 8254104 | D21: =D22+D27+D34+D44+D46 -> 26183000 | E21: =E22+E27+E34+E44+E46 -> 8794633.4 | F21: =E21/C21*100 -> 106.54861 | G21: =E21/D21*100 -> 33.589097
A22: 321 | B22: Naknade troškova zaposlenima | C22: =C23+C24+C25+C26 -> 591062 | D22: 1285000 | E22: =E23+E24+E25+E26 -> 590281.57 | F22: =E22/C22*100 -> 99.867961 | G22: =E22/D22*100 -> 45.936309
A23: 3211 | B23: Službena putovanja | C23: 16095 | E23: 15744 | F23: =E23/C23*100 -> 97.819199
A24: 3212 | B24: Naknada za prijevoz | C24: 549647 | E24: 551718.57 | F24: =E24/C24*100 -> 100.37689
A25: 3213 | B25: Stručno usavršavanje zaposlenika | C25: 21310 | E25: 18642 | F25: =E25/C25*100 -> 87.480056
A26: 3214 | B26: Ostale naknade troškova zaposlenicima | C26: 4010 | E26: 4177 | F26: =E26/C26*100 -> 104.16459
A27: 322 | B27: Rashodi za materijal i energiju | C27: =C28+C29+C30+C31+C32+C33 -> 2491118 | D27: 4510000 | E27: =E28+E29+E30+E31+E32+E33 -> 2525496.6 | F27: =E27/C27*100 -> 101.38005 | G27: =E27/D27*100 -> 55.997708
A28: 3221 | B28: Uredski materijal i ostali materijalni rashodi | C28: 251625 | E28: 255540 | F28: =E28/C28*100 -> 101.55589
A29: 3222 | B29: Materijal i sirovine | C29: 436360 | E29: 278511 | F29: =E29/C29*100 -> 63.825969
A30: 3223 | B30: Energija | C30: 1632122 | E30: 1868585 | F30: =E30/C30*100 -> 114.48807
A31: 3224 | B31: Materijal i dijelovi za tekuće i investicijsko održavanje | C31: 106758 | E31: 63957.64 | F31: =E31/C31*100 -> 59.90899
A32: 3225 | B32: Sitan inventar i autogume | C32: 28106 | E32: 25571 | F32: =E32/C32*100 -> 90.980574
A33: 3227 | B33: Službena, radna i zaštitna odjeća i obuća | C33: 36147 | E33: 33332 | F33: =E33/C33*100 -> 92.212355
A34: 323 | B34: Rashodi za usluge | C34: =SUM(C35:C43) -> 4213268 | D34: 17768000 | E34: =E35+E36+E37+E38+E39+E40+E41+E42+E43 -> 4712336.2 | F34: =E34/C34*100 -> 111.84516 | G34: =E34/D34*100 -> 26.521478
A35: 3231 | B35: Usluge telefona, pošte i prijevoza | C35: 117793 | E35: 118226 | F35: =E35/C35*100 -> 100.36759
A36: 3232 | B36: Usluge tekućeg i investicijskog održavanja | C36: 1662187 | E36: 1964161 | F36: =E36/C36*100 -> 118.16727
A37: 3233 | B37: Usluge promidžbe i informiranja | C37: 119655 | E37: 102078 | F37: =E37/C37*100 -> 85.310267
A38: 3234 | B38: Komunalne usluge | C38: 831491 | E38: 1262753.2 | F38: =E38/C38*100 -> 151.86613
A39: 3235 | B39: Zakupnine i najamnine | C39: 254662 | E39: 259732 | F39: =E39/C39*100 -> 101.99087
A40: 3236 | B40: Zdravstvene i veterinarske usluge | C40: 23014 | E40: 17218 | F40: =E40/C40*100 -> 74.81533
A41: 3237 | B41: Intelektualne i osobne usluge | C41: 727841 | E41: 508194 | F41: =E41/C41*100 -> 69.822118
A42: 3238 | B42: Računalne usluge | C42: 67001 | E42: 83037 | F42: =E42/C42*100 -> 123.93397
A43: 3239 | B43: Ostale usluge | C43: 409624 | E43: 396937 | F43: =E43/C43*100 -> 96.902769
A44: 324 | B44: Naknada troškova osobama izvan radnog odnosa | C44: =C45 -> 12912 | D44: 10000 | E44: 0 | F44: =E44/C44*100 -> 0 | G44: =E44/D44*100 -> 0
A45: 3241 | B45: Naknade troškova osobama izvan radnog odnosa | C45: 12912 | E45: 0 | F45: =E45/C45*100 -> 0
A46: 329 | B46: Ostali nespomenuti rashodi | C46: =SUM(C47:C52) -> 945744 | D46: 2610000 | E46: =E47+E48+E49+E50+E51+E52 -> 966518.99 | F46: =E46/C46*100 -> 102.19668 | G46: =E46/D46*100 -> 37.031379
A47: 3291 | B47: Naknade za rad prestavničkih i izvršnih tijela | C47: 233443 | E47: 255078 | F47: =E47/C47*100 -> 109.26779
A48: 3292 | B48: Premije osiguranja | C48: 128220 | E48: 126562 | F48: =E48/C48*100 -> 98.70691
A49: 3293 | B49: Reprezentacija | C49: 99316 | E49: 110765 | F49: =E49/C49*100 -> 111.52785
A50: 3295 | B50: Pristojbe i naknade | C50: 4627 | E50: 6806.99 | F50: =E50/C50*100 -> 147.11455
A51: 3296 | B51: Troškovi sudskih postupaka | C51: 3175 | E51: 9791 | F51: =E51/C51*100 -> 308.37795
A52: 3299 | B52: Ostali nespomenuti rashodi poslovanja | C52: 476963 | E52: 457516 | F52: =E52/C52*100 -> 95.922745
A54: 34 | B54: Financijski rashodi | C54: =C55 -> 106407 | D54: 225000 | E54: =E55 -> 74388.24 | F54: =E54/C54*100 -> 69.90916 | G54: =E54/D54*100 -> 33.06144
A55: 343 | B55: Ostali financijski rashodi | C55: =C56+C57+C58 -> 106407 | D55: 225000 | E55: =E56+E57+E58+E59 -> 74388.24 | F55: =E55/C55*100 -> 69.90916 | G55: =E55/D55*100 -> 33.06144
A56: 3431 | B56: Bankarske usluge i usluge platnog prometa | C56: 69230 | E56: 69038 | F56: =E56/C56*100 -> 99.722664
A57: 3432 | B57: Negativna tečajna razlika | C57: 2177 | E57: 0 | F57: =E57/C57*100 -> 0
A58: 3433 | B58: Zatezne kamate | C58: 35000 | E58: 152.24 | F58: =E58/C58*100 -> 0.43497143
A59: 3434 | B59: Ostali nespomenuti financijski rashodi | C59: 0 | E59: 5198
A61: 35 | B61: Subvencije | C61: =C62+C64 -> 791355 | D61: =D62+D64 -> 1170000 | E61: =E62+E64 -> 744077.52 | F61: =E61/C61*100 -> 94.025756 | G61: =E61/D61*100 -> 63.596369
A62: 351 | B62: Subvencije trgovačkim društvima u javnom sektoru | C62: =C63 -> 30000 | D62: 120000 | E62: 30000 | F62: =E62/C62*100 -> 100 | G62: =E62/D62*100 -> 25
A63: 3512 | B63: Subvencije trgovačkim društvima u javnom sektoru | C63: 30000 | E63: 30000 | F63: =E63/C63*100 -> 100
A64: 352 | B64: Subvencije trgovačkim društvima, poljoprivrednicima i obrtnicima izvan javnog sektora | C64: =C65+C66 -> 761355 | D64: 1050000 | E64: 714077.52 | F64: =E64/C64*100 -> 93.79035 | G64: =E64/D64*100 -> 68.007383
A65: 3522 | B65: Subvencije trgovačkim društvima, poljoprivrednicima i obrtnicima izvan javnog sektora | C65: 65000 | E65: 0 | F65: =E65/C65*100 -> 0
A66: 3523 | B66: Subvencije poljoprivrednicima i obrtnicima | C66: 696355 | E66: 714077.52 | F66: =E66/C66*100 -> 102.54504
A68: 36 | B68: Pomoći dane u inozemstvo i unutar općeg proračuna | C68: =C69+C70+C73 -> 301022 | D68: =D69+D70+D73 -> 2350000 | E68: =E69+E70+E73 -> 639663.92 | F68: =E68/C68*100 -> 212.4974 | G68: =E68/D68*100 -> 27.219741
A69: 363 | B69: Pomoći unutar općeg proračuna | C69: 0 | D69: 2050000 | E69: 0 | G69: =E69/D69*100 -> 0
A70: 366 | B70: Pomoći proračunskim korisnicima drugih proračuna | C70: =C71 -> 19000 | D70: 150000 | E70: =E71+E72 -> 391270.5 | F70: =E70/C70*100 -> 2059.3184 | G70: =E70/D70*100 -> 260.847
A71: 3661 | B71: Tekuće pomoći proračunskim korisnicima drugih proračuna | C71: 19000 | E71: 80990 | F71: =E71/C71*100 -> 426.26316
A72: 3662 | B72: Kapitalne pomoći proračunskim korisnicima drugih proračuna | C72: 0 | E72: 310280.5
A73: 368 | B73: Pomoći temeljem prijenosa EU sredstava | C73: =C74 -> 282022 | D73: 150000 | E73: 248393.42 | F73: =E73/C73*100 -> 88.075902 | G73: =E73/D73*100 -> 165.59561
A74: 3681 | B74: Tekuće pomoći temeljem prijenosa EU sredstava | C74: 282022 | E74: 248393.42 | F74: =E74/C74*100 -> 88.075902
A76: 37 | B76: Naknade građanima i kućanstvima iz proračuna | C76: =C77 -> 3729349 | D76: 9850000 | E76: =E77 -> 3024620.5 | F76: =E76/C76*100 -> 81.103176 | G76: =E76/D76*100 -> 30.706807
A77: 372 | B77: Naknade građanima i kućanstvima iz proračuna | C77: =C78+C79 -> 3729349 | D77: 9850000 | E77: =E78+E79 -> 3024620.5 | F77: =E77/C77*100 -> 81.103176 | G77: =E77/D77*100 -> 30.706807
A78: 3721 | B78: Naknade građanima i kućanstvima u novcu | C78: 2280918 | E78: 2198165.5 | F78: =E78/C78*100 -> 96.371964
A79: 3722 | B79: Naknade građanima i kućanstvima u novcu | C79: 1448431 | E79: 826455 | F79: =E79/C79*100 -> 57.058638
A81: 38 | B81: Donacije i ostali rashodi | C81: =C82+C86+C90+C92+C93 -> 11024631 | D81: =D82+D86+D92+D93 -> 21297000 | E81: =E82+E86+E90+E92+E93 -> 7580230.2 | F81: =E81/C81*100 -> 68.757224 | G81: =E81/D81*100 -> 35.592948
A82: 381 | B82: Tekuće donacije | C82: =C83+C84+C85 -> 6481543 | D82: 11819000 | E82: 4997343.5 | F82: =E82/C82*100 -> 77.101139 | G82: =E82/D82*100 -> 42.282287
A83: 3811 | B83: Tekuće donacije u novcu | C83: 5714711 | E83: 4997343.5 | F83: =E83/C83*100 -> 87.447002
A84: 3812 | B84: Tekuće donacije u naravi | C84: 2995 | F84: =E84/C84*100 -> 0
A85: 3813 | B85: Tekuće donacije iz EU fondova | C85: 763837 | F85: =E85/C85*100 -> 0
A86: 382 | B86: Kapitalne donacije | C86: =C87+C88 -> 3288252 | D86: 4678000 | E86: =E87+E89 -> 1081511 | F86: =E86/C86*100 -> 32.89015 | G86: =E86/D86*100 -> 23.11909
A87: 3821 | B87: Kapitalne donacije neprofitnim organizacijama | C87: 238209 | E87: 644351.03 | F87: =E87/C87*100 -> 270.49819
A88: 3822 | B88: Kapitalne donacije građanima i kućanstvima | C88: 3050043 | E88: 0 | F88: =E88/C88*100 -> 0
A89: 3823 | B89: Kapitalne donacije iz EZ sredstava | C89: 0 | E89: 437160
A90: 383 | B90: Kazne, penali i naknade štete | C90: 0 | E90: 389048.1
A91: 3831 | B91: Naknada štete pravnim i fizičkim osobama | C91: 0 | E91: 389048.1
A92: 385 | B92: Izvanredni rashodi | C92: 0 | D92: 300000 | E92: 0 | G92: =E92/D92*100 -> 0
A93: 386 | B93: Kapitalne pomoći | C93: =C94 -> 1254836 | D93: 4500000 | E93: 1112327.6 | F93: =E93/C93*100 -> 88.643266 | G93: =E93/D93*100 -> 24.718391
A94: 3861 | B94: Kapitalne pomoći trgovačkim društvima u javnom sektoru | C94: 1254836 | E94: 1112327.6 | F94: =E94/C94*100 -> 88.643266
A96: 4 | B96: RASHODI ZA NABAVU NEFINANCIJSKE IMOVINE | C96: =C97+C101 -> 11539234 | D96: =D97+D101 -> 37450000 | E96: =E97+E101 -> 14354842 | F96: =E96/C96*100 -> 124.40031 | G96: =E96/D96*100 -> 38.330687
A97: 41 | B97: Rashodi za nabavu neproizvedene imovine | C97: =C98 -> 166280 | D97: 800000 | E97: 0 | F97: =E97/C97*100 -> 0 | G97: =E97/D97*100 -> 0
A98: 411 | B98: Materijalna imovina | C98: =C99 -> 166280 | D98: 800000 | E98: 0 | F98: =E98/C98*100 -> 0 | G98: =E98/D98*100 -> 0
A99: 4111 | B99: Zemljište | C99: 166280 | F99: =E99/C99*100 -> 0
A101: 42 | B101: Rashodi za nabavu proizvedene dugotrajne imovine | C101: =C102+C106+C111+C113 -> 11372954 | D101: =D102+D106+D111+D113 -> 36650000 | E101: =E102+E106+E111+E113 -> 14354842 | F101: =E101/C101*100 -> 126.21912 | G101: =E101/D101*100 -> 39.167373
A102: 421 | B102: Građevinski objekti | C102: =C103+C104+C105 -> 10919622 | D102: 29600000 | E102: =E104+E105 -> 12892833 | F102: =E102/C102*100 -> 118.07032 | G102: =E102/D102*100 -> 43.556867
A103: 4212 | B103: Poslovni objekti | C103: 4264872 | E103: 0 | F103: =E103/C103*100 -> 0
A104: 4213 | B104: Ceste | C104: 24750 | E104: 3165438.5 | F104: =E104/C104*100 -> 12789.651
A105: 4214 | B105: Ostali građevinski objekti | C105: 6630000 | E105: 9727394 | F105: =E105/C105*100 -> 146.71786
A106: 422 | B106: Postrojenja i oprema | C106: =C107+C108+C109+C110 -> 333388 | D106: 5060000 | E106: =E107+E109+E110 -> 1257996.4 | F106: =E106/C106*100 -> 377.33702 | G106: =E106/D106*100 -> 24.861588
A107: 4221 | B107: Uredska oprema i namještaj | C107: 46660 | E107: 71968 | F107: =E107/C107*100 -> 154.23918
A108: 4222 | B108: Komunikacijska oprema | C108: 45755 | E108: 0 | F108: =E108/C108*100 -> 0
A109: 4223 | B109: Oprema za održavanje i opremu | C109: 230842 | E109: 54463.36 | F109: =E109/C109*100 -> 23.59335
A110: 4227 | B110: Uređaji, strojevi za ostale namjene | C110: 10131 | E110: 1131565 | F110: =E110/C110*100 -> 11169.332
A111: 424 | B111: Knjige | C111: =C112 -> 49569 | D111: 80000 | E111: 39826 | F111: =E111/C111*100 -> 80.34457 | G111: =E111/D111*100 -> 49.7825
...

Sheet Racun financiranja
A1: C. RAČUN FINANCIRANJA
A3: Konto | B3: Opis primici / izdaci | C3: Proračun 2020.g. | D3: Ostvarenje I. - VI. 2020. | E3: Indeks
A5: 8 | B5: PRIMICI OD FINANCIJSKE IMOVINE I ZADUŽIVANJA | C5: 300000 | D5: =D7 -> 27939.27 | E5: =D5/C5*100 -> 9.31309
A7: 81 | B7: Primljene otplate (povrat) glavnice zajmova | C7: 300000 | D7: =D8+D9 -> 27939.27 | E7: =D7/C7*100 -> 9.31309
A8: 812 | B8: Primici glavnice zajmova danih neprofitnim organizacijama, građanima i kućanstvima | C8: 150000 | D8: 0 | E8: =D8/C8*100 -> 0
A9: 816 | B9: Povrat zajmova danih obrtnicima, malim i srednjim poduzetnicima | C9: 150000 | D9: 27939.27 | E9: =D9/C9*100 -> 18.62618

Sheet razdjel 1
A2: II. POSEBNI DIO
A4: Članak 4.
A6: Rashodi i izdatci proračuna realizirani su u iznosu od 44.663.057,76kn raspoređeni su po programskoj klasifikaciji po korisnicima i potanjim namjenama u Posebnom dijelu Proračuna kako slijedi:
A9: Pozicija | B9: Konto | C9: Opis rashoda i izdataka | D9: Proračun 2020.g. | E9: Ostvarenje I. - VI. 2020. | F9: Indeks
C11: RAZDJEL 1. 010 URED GRADA | D11: =D12+D100 -> 58268000 | E11: =E12+E100 -> 22344847 | F11: =E11/D11*100 -> 38.348402
A12: GLAVA 1 | B12: 1005 | C12: GRADSKA UPRAVA | D12: =D14 -> 11995000 | E12: =E14 -> 5612635.9 | F12: =E12/D12*100 -> 46.791463
A14: PROGRAM | B14: 1001 | C14: UPRAVLJANJE I ADMINISTRACIJA | D14: =D16+D62+D73+D82+D87+D95 -> 11995000 | E14: =E16+E62+E73+E82+E87+E95 -> 5612635.9 | F14: =E14/D14*100 -> 46.791463
A16: AKTIVNOST | B16: A 100101 | C16: Administrativni i stručni poslovi Grada | D16: =D18+D26+D53 -> 11330000 | E16: =E18+E26+E53+E58 -> 5293765 | F16: =E16/D16*100 -> 46.723433
B18: 31 | C18: Rashodi za zaposlene | D18: =D19+D21+D23 -> 6980000 | E18: =E19+E21+E23 -> 3272176.2 | F18: =E18/D18*100 -> 46.879315
A19: 01 | B19: 311 | C19: Plaće | D19: 5700000 | E19: =E20 -> 2766776.9 | F19: =E19/D19*100 -> 48.539946
B20: 3111 | C20: Plaće u novcu | E20: 2766776.9
A21: 02 | B21: 312 | C21: Ostali rashodi za zaposlene | D21: 300000 | E21: =E22 -> 48881.06 | F21: =E21/D21*100 -> 16.293687
B22: 3121 | C22: Ostali rashodi za zaposlene | E22: 48881.06
A23: 03 | B23: 313 | C23: Doprinosi na plaće | D23: 980000 | E23: =E24 -> 456518.19 | F23: =E23/D23*100 -> 46.583489
B24: 3132 | C24: Doprinosi za plaće | E24: 456518.19
B26: 32 | C26: Materijalni rashodi | D26: =D27+D31+D36+D45 -> 4200000 | E26: =E27+E31+E36+E45 -> 1959540.5 | F26: =E26/D26*100 -> 46.655726
A27: 04 | B27: 321 | C27: Naknade troškova zaposlenima | D27: 400000 | E27: =E28+E29+E30 -> 166896.57 | F27: =E27/D27*100 -> 41.724142
B28: 3211 | C28: Službena putovanja | E28: 15543.87
B29: 3212 | C29: Naknade za prijevoz, rad na terenu i odvojeni život | E29: 136930.5
B30: 3213 | C30: Stručno usavršavanje zaposlenika | E30: 14422.2
A31: 05 | B31: 322 | C31: Rashodi za materijal i energiju | D31: 800000 | E31: =E32+E33+E34+E35 -> 490438.94 | F31: =E31/D31*100 -> 61.304868
B32: 3221 | C32: uredski materijal i ostali materijalni rashodi | E32: 88739.81
B33: 3223 | C33: Enrgija | E33: 392400.13
B34: 3225 | C34: sitan inventar i autogume | E34: 8800
B35: 3227 | C35: Službena, radna i zaštitna odjeća i obuća | E35: 499
A36: 06 | B36: 323 | C36: Rashodi za usluge | D36: 2000000 | E36: =E37+E38+E39+E40+E41+E42+E43+E44 -> 853782.1 | F36: =E36/D36*100 -> 42.689105
B37: 3231 | C37: Usluge telefona, pošte i prijevoza | E37: 91012.94
B38: 3232 | C38: Usluge tekućeg i investicijskog održavanja | E38: 1432.48
B39: 3233 | C39: Usluge promidžbe i informiranja | E39: 87297.09
B40: 3234 | C40: Komunalne usluge | E40: 82437.88
B41: 3235 | C41: Zakupnine i najamnine | E41: 51119.71
B42: 3237 | C42: Intelektualne i osobne usluge | E42: 164431.89
B43: 3238 | C43: Računalne usluge | E43: 42042.37
B44: 3239 | C44: Ostale usluge | E44: 334007.74
A45: 07 | B45: 329 | C45: Ostali nespomenuti rashodi | D45: 1000000 | E45: =E46+E47+E48+E49+E50+E51 -> 448422.87 | F45: =E45/D45*100 -> 44.842287
B46: 3291 | C46: Naknade za rad pred. I izvrš. Tijela, povjerenstva i sl. | E46: 238576.1
B47: 3292 | C47: Premije osiguranja | E47: 69689.39
B48: 3293 | C48: Reprezentacija | E48: 108414.94
B49: 3295 | C49: Pristojbe i naknade | E49: 6807.08
B50: 3296 | C50: Troškovi sudskih postupaka | E50: 7598.06
B51: 3299 | C51: Ostali nespomenuti rashodi poslovanja | E51: 17337.3
B53: 34 | C53: Financijski rashodi | D53: 150000 | E53: =E54 -> 56548.3 | F53: =E53/D53*100 -> 37.698867
A54: 08 | B54: 343 | C54: Ostali financijski rashodi | D54: 150000 | E54: =E55+E56 -> 56548.3 | F54: =E54/D54*100 -> 37.698867
B55: 3431 | C55: Bankarske usluge i usluge platnog prometa | E55: 56396.14
B56: 3433 | C56: Zatezne kamate | E56: 152.16
B58: 42 | C58: Rashodi za nabavu proizvedene dugotrajne imovine | D58: 0 | E58: =E59 -> 5500 | F58: 0
A59: 08/a | B59: 422 | C59: Postrojenje i oprema | D59: 0 | E59: =E60 -> 5500 | F59: 0
B60: 4223 | C60: Oprema za održavanje i zaštitu | E60: 5500
A62: AKTIVNOST | B62: A 100102 | C62: Proračunska zaliha | D62: 300000 | E62: =E64+E68 -> 267000 | F62: =E62/D62*100 -> 89
B64: 36 | C64: Pomoći dane u inozemstvo i unutar opće države | D64: 0 | E64: =E65 -> 200000 | F64: 0
A65: 08/b | B65: 366 | C65: Pomoći proračunskim korisnicima drugih proračuna | D65: 0 | E65: =E66 -> 200000 | F65: 0
A66: 08/c | B66: 3662 | C66: Kapitalne pomoći proračunskim korisnicima drugih proračuna | E66: 200000
B68: 38 | C68: Donacije i ostali rashodi | D68: 300000 | E68: =E69 -> 67000 | F68: =E68/D68*100 -> 22.333333
A69: 08/d | B69: 381 | C69: Tekuće donacije | D69: 0 | E69: =E70 -> 67000 | F69: 0
B70: 3811 | C70: Tekuće donacije u novcu | E70: 67000
A71: 09 | B71: 385 | C71: Izvanredni rashodi | D71: 300000 | E71: 0 | F71: =E71/D71*100 -> 0
A73: AKTIVNOST | B73: A100103 | C73: Obveze po sudskim sporovima | D73: =D75+D79 -> 65000 | E73: =E75+E79 -> 5197.94 | F73: =E73/D73*100 -> 7.9968308
B75: 34 | C75: Financijski rashodi | D75: 50000 | E75: =E76 -> 5197.94 | F75: =E75/D75*100 -> 10.39588
A76: 10 | B76: 343 | C76: Ostali nespomenuti financijski rashodi | D76: 50000 | E76: =E77 -> 5197.94 | F76: =E76/D76*100 -> 10.39588
B77: 3434 | C77: Ostali nespomenuti financijski rashodi | E77: 5197.94
B79: 32 | C79: Materijalni rashodi | D79: 15000 | E79: 0 | F79: =E79/D79*100 -> 0
A80: 11 | B80: 329 | C80: Ostali nespomenuti rashodi poslovanja | D80: 15000 | E80: 0 | F80: =E80/D80*100 -> 0
A82: AKTIVNOST | B82: A100104 | C82: Izbori za vijeća mjesnih odbora 2019. god. | D82: 30000 | E82: 0 | F82: =E82/D82*100 -> 0
B84: 32 | C84: Materijalni rashodi | D84: 30000 | E84: 0 | F84: =E84/D84*100 -> 0
A85: 12 | B85: 329 | C85: Ostali nespomenuti rashodi poslovanja | D85: 30000 | E85: 0 | F85: =E85/D85*100 -> 0
A87: PROJEKT | B87: K 100101 | C87: Obnova uredskih prostorija i opreme | D87: =D89 -> 70000 | E87: =E89 -> 46673.05 | F87: =E87/D87*100 -> 66.675786
B89: 42 | C89: Rashodi za nabavu proizvodne dugotrajne imovine | D89: =D90+D93 -> 70000 | E89: =E90 -> 46673.05 | F89: =E89/D89*100 -> 66.675786
A90: 13 | B90: 422 | C90: Postrojenja i oprema | D90: 60000 | E90: =E91+E92 -> 46673.05 | F90: =E90/D90*100 -> 77.788417
B91: 4221 | C91: Uredska oprema i namještaj | E91: 44673.05
B92: 4223 | C92: Oprema za održavanje i zaštitu | E92: 2000
A93: 14 | B93: 426 | C93: Nematerijalna proizvedena imovina - ulaganje u računalne programe | D93: 10000 | E93: 0 | F93: =E93/D93*100 -> 0
A95: PROJEKT | B95: K100102 | C95: Transparentni Grad | D95: 200000 | E95: 0 | F95: =E95/D95*100 -> 0
B97: 42 | C97: Rahodi za nabavu proizvodne dugotrajne imovine | D97: 200000 | E97: 0 | F97: =E97/D97*100 -> 0
A98: 15 | B98: 426 | C98: Nematerijalna proizvedena imovina - ulaganje u računalne programe | D98: 200000 | E98: 0 | F98: =E98/D98*100 -> 0
A100: GLAVA 2 | B100: 1010 | C100: DRUŠTVENE DJELATNOSTI | D100: =D102+D154+D258+D319+D349+D416+D486 -> 46273000 | E100: =E102+E154+E258+E319+E349+E416+E486 -> 16732211 | F100: =E100/D100*100 -> 36.159771
A102: PROGRAM | B102: 1002 | C102: PREDŠKOLSKI ODGOJ | D102: =D104+D146 -> 13017000 | E102: =E104+E146 -> 6029978 | F102: =E102/D102*100 -> 46.323869
A104: AKTIVNOST | B104: A100201 | C104: Financiranje redovne djelatnosti-DV "Bili Cvitak" Sinj | D104: =D106+D114+D138+D142 -> 10747000 | E104: =E106+E114+E138+E142 -> 4895678 | F104: =E104/D104*100 -> 45.553903
B106: 31 | C106: Rashodi za zaposlene | D106: =D107+D109+D111 -> 8120000 | E106: =E107+E109+E111 -> 3889522 | F106: =E106/D106*100 -> 47.900517
A107: 16 | B107: 311 | C107: Plaće | D107: 6680000 | E107: =E108 -> 3302453 | F107: =E107/D107*100 -> 49.437919
B108: 3111 | C108: Plaće u novcu | E108: 3302453
A109: 17 | B109: 312 | C109: Ostali rashodi za zaposlene | D109: 338000 | E109: 42164 | F109: =E109/D109*100 -> 12.474556
B110: 3121 | C110: Ostali rashodi za zaposlene | E110: 42164
A111: 18 | B111: 313 | C111: Doprinosi na plaće | D111: 1102000 | E111: =E112 -> 544905 | F111: =E111/D111*100 -> 49.446915
B112: 3132 | C112: Doprinos za zdravstveno osiguranje | E112: 544905
B114: 32 | C114: Materijalni rashodi | D114: =D115+D118+D124+D133+D134 -> 2460000 | E114: =E115+E118+E124+E134 -> 973429 | F114: =E114/D114*100 -> 39.570285
A115: 19 | B115: 321 | C115: Naknade troškova zaposlenima | D115: 700000 | E115: =E116+E117 -> 342006 | F115: =E115/D115*100 -> 48.858
B116: 3212 | C116: Naknade za prijevoz, rad na terenu i odvojeni život | E116: 337786
B117: 3213 | C117: Stručno usavršavanje zaposlenika | E117: 4220
A118: 20 | B118: 322 | C118: Rashodi za materijal i energiju | D118: 1300000 | E118: =E119+E120+E121+E122+E123 -> 462154 | F118: =E118/D118*100 -> 35.550308
B119: 3221 | C119: Uredski materijal i ostali materijalni rashodi | E119: 9619
B120: 3222 | C120: Materijal i sirovine | E120: 278280
B121: 3223 | C121: Energija | E121: 123678
B122: 3224 | C122: Materijal i dijelovi za tekuće i investicijsko održavanje | E122: 41803
B123: 3225 | C123: Sitan inventar i autogume | E123: 8774
A124: 21 | B124: 323 | C124: Rashodi za usluge | D124: 350000 | E124: =E125+E126+E127+E128+E129+E130+E131+E132 -> 119449 | F124: =E124/D124*100 -> 34.128286
B125: 3231 | C125: Usluga telefona, pošte i prijevoza | E125: 13197
B126: 3232 | C126: Usluge tekućeg i investicijskog održavanja | E126: 33575
B127: 3233 | C127: Usluge promidžbe i informiranja | E127: 5190
B128: 3234 | C128: Komunalne usluge | E128: 24546
B129: 3235 | C129: Zakupnine i najamnine | E129: 3262
...

Sheet razdjel 2
A2: Pozicija | B2: Konto | C2: Opis rashoda i izdataka | D2: Proračun 2020.g. | E2: Ostvarenje I. - VI. 2020. | F2: Indeks
C4: RAZDJEL 2. 020 UPRAVNI ODJEL ZA PROSTORNO UREĐENJE, KOMUNALNE DJELATNOSTI GOSPODARSTVO I UPRAVLJANJE IMOVINOM | D4: =D5+D114 -> 60732000 | E4: =E5+E114 -> 22318211 | F4: =(E4/D4)*100 -> 36.748685
A5: GLAVA 1 | B5: 2005 | C5: KOMUNALNO GOSPODARSTVO | D5: =D7+D46+D91 -> 19770000 | E5: =E7+E46+E91 -> 4956531.4 | F5: =E5/D5*100 -> 25.070973
A7: PROGRAM | B7: 1009 | C7: ODRŽAVANJE KOMUNALNE INFRASTRUKTURE | D7: =D9+D17+D23+D28+D34+D40 -> 10330000 | E7: =E9+E17+E23+E28+E34+E40 -> 4072812.1 | F7: =E7/D7*100 -> 39.427029
A9: AKTIVNOST | B9: A100901 | C9: Održavanje javne rasvjete | D9: =D11 -> 2500000 | E9: =E11 -> 1443662 | F9: =E9/D9*100 -> 57.746479
B11: 32 | C11: Materijalni rashodi | D11: =D12+D14 -> 2500000 | E11: =E12+E14 -> 1443662 | F11: =E11/D11*100 -> 57.746479
A12: 108 | B12: 322 | C12: Rashodi za materijal i energiju | D12: 1800000 | E12: =E13 -> 1245327 | F12: =E12/D12*100 -> 69.184832
B13: 3223 | C13: Energija | E13: 1245327
A14: 109 | B14: 323 | C14: Rashodi za usluge | D14: 700000 | E14: 198335 | F14: =E14/D14*100 -> 28.333571
B15: 3232 | C15: Usluge tekućeg i investicijskog održavanja | E15: 198335
A17: AKTIVNOST | B17: A100902 | C17: Održavanje nerazvrstanih cesta | D17: 5180000 | E17: =E19 -> 1522413.5 | F17: =E17/D17*100 -> 29.390223
B19: 32 | C19: Materijalni rashodi | D19: 5180000 | E19: =E20 -> 1522413.5 | F19: =E19/D19*100 -> 29.390223
A20: 110 | B20: 323 | C20: Rashodi za usluge | D20: 5180000 | E20: =E21 -> 1522413.5 | F20: =E20/D20*100 -> 29.390223
B21: 3232 | C21: Usluge tekućeg i investicijskog održavanja | E21: 1522413.5
A23: AKTIVNOST | B23: A100903 | C23: Odvodnja oborinskih voda | D23: 150000 | E23: 0 | F23: =E23/D23*100 -> 0
B25: 32 | C25: Materijalni rashodi | D25: 150000 | E25: 0 | F25: =E25/D25*100 -> 0
A26: 111 | B26: 323 | C26: Rashodi za usluge | D26: 150000 | E26: 0 | F26: =E26/D26*100 -> 0
A28: AKTIVNOST | B28: A100904 | C28: Održavanje čistoće javnih površina | D28: 900000 | E28: =E30 -> 436800 | F28: =E28/D28*100 -> 48.533333
B30: 32 | C30: Materijalni rashodi | D30: 900000 | E30: =E31 -> 436800 | F30: =E30/D30*100 -> 48.533333
A31: 112 | B31: 323 | C31: Rashodi za usluge | D31: 900000 | E31: =E32 -> 436800 | F31: =E31/D31*100 -> 48.533333
B32: 3234 | C32: Komunalne usluge | E32: 436800
A34: AKTIVNOST | B34: A100905 | C34: Održavanje javnih zelenih površina | D34: 1200000 | E34: =E36 -> 536561.3 | F34: =E34/D34*100 -> 44.713442
B36: 32 | C36: Materijalni rashodi | D36: 1200000 | E36: =E37 -> 536561.3 | F36: =E36/D36*100 -> 44.713442
A37: 113 | B37: 323 | C37: Rashodi za usluge | D37: 1200000 | E37: =E38 -> 536561.3 | F37: =E37/D37*100 -> 44.713442
B38: 3234 | C38: Komunalne usluge | E38: 536561.3
A40: AKTIVNOST | B40: A100906 | C40: Održavanje groblja | D40: 400000 | E40: =E42 -> 133375.25 | F40: =E40/D40*100 -> 33.343812
B42: 32 | C42: Materijalni rashodi | D42: 400000 | E42: =E43 -> 133375.25 | F42: =E42/D42*100 -> 33.343812
A43: 114 | B43: 323 | C43: Rashodi za usluge | D43: 400000 | E43: =E44 -> 133375.25 | F43: =E43/D43*100 -> 33.343812
B44: 3234 | C44: Komunalne usluge | E44: 133375.25
A46: PROGRAM | B46: 1010 | C46: ZAJEDNIČKI RASHODI U FUNKCIJI ODRŽAVANJA KOMUNALNE INFRASTRUKTURE | D46: =D48+D61+D66+D71+D76+D86 -> 990000 | E46: =E48+E61+E66+E71+E76+E86 -> 680792.82 | F46: =E46/D46*100 -> 68.766952
A48: AKTIVNOST | B48: A101001 | C48: Zajedničke usluge u komunalnom gospodarstvu | D48: =D50 -> 350000 | E48: =E50+E57 -> 549517.82 | F48: =E48/D48*100 -> 157.00509
B50: 32 | C50: Materijalni rashodi | D50: =D51+D54 -> 350000 | E50: =E51+E54 -> 160469.72 | F50: =E50/D50*100 -> 45.848491
A51: 115 | B51: 323 | C51: Rashodi za usluge | D51: 200000 | E51: =E52+E53 -> 38787.03 | F51: =E51/D51*100 -> 19.393515
B52: 3233 | C52: Usluge promidžbe i informiranja | E52: 5841
B53: 3234 | C53: Komunalne usluge | E53: 32946.03
A54: 116 | B54: 329 | C54: Ostali nespomenuti rashodi | D54: 150000 | E54: =E55 -> 121682.69 | F54: =E54/D54*100 -> 81.121793
B55: 3299 | C55: Ostali nespomenuti rashodi poslovanja | E55: 121682.69
A57: 116/a | B57: 38 | C57: Ostali rashodi | D57: 0 | E57: =E58 -> 389048.1 | F57: 0
B58: 383 | C58: Kazne, penali i naknade štete | D58: 0 | E58: =E59 -> 389048.1 | F58: 0
B59: 3831 | C59: Naknade šteta pravnim i fizičkim osobama | E59: 389048.1
A61: PROJEKT | B61: K101001 | C61: Energetska učinkovitost na sustavu javne rasvjete | D61: 100000 | E61: 0 | F61: =E61/D61*100 -> 0
B63: 32 | C63: Materijalni rashodi | D63: 100000 | E63: 0 | F63: =E63/D63*100 -> 0
A64: 117 | B64: 323 | C64: Rashodi za usluge | D64: 100000 | E64: 0 | F64: =E64/D64*100 -> 0
A66: PROJEKT | B66: K101002 | C66: Izgradnja ugibališta i autobusnih čekaonica | D66: 100000 | E66: 0 | F66: =E66/D66*100 -> 0
B68: 32 | C68: Materijalni rashodi | D68: 100000 | E68: 0 | F68: =E68/D68*100 -> 0
A69: 118 | B69: 323 | C69: Rashodi za usluge | D69: 100000 | E69: 0 | F69: =E69/D69*100 -> 0
A71: PROJEKT | B71: K101003 | C71: Nabavka i ugradnja video - kamera na javnim površinama | D71: 190000 | E71: 0 | F71: =E71/D71*100 -> 0
B73: 42 | C73: Rashodi za nabavu proizvodne dugotrajne imovine | D73: 190000 | E73: 0 | F73: =E73/D73*100 -> 0
A74: 119 | B74: 422 | C74: Postrojenja i oprema | D74: 190000 | E74: 0 | F74: =E74/D74*100 -> 0
A76: PROJEKT | B76: K101004 | C76: Nabavka urbane opreme | D76: 150000 | E76: =E78+E82 -> 131275 | F76: =E76/D76*100 -> 87.516667
B78: 32 | C78: Materijalni rashodi | D78: 0 | E78: =E79 -> 98025 | F78: 0
A79: 119/a | B79: 329 | C79: Ostali nespomenuti rashodi | D79: 0 | E79: =E80 -> 98025 | F79: 0
B80: 3299 | C80: Ostali nespomenuti rashodi poslovanja | E80: 98025
B82: 42 | C82: Rashodi za nabavu proizvodne dugotrajne imovine | D82: 150000 | E82: =E83 -> 33250 | F82: =E82/D82*100 -> 22.166667
A83: 120 | B83: 422 | C83: Postrojenja i oprema | D83: 150000 | E83: =E84 -> 33250 | F83: =E83/D83*100 -> 22.166667
B84: 4227 | C84: Uređaji, strojevi i oprema za ostale namjene | E84: 33250
A86: PROJEKT | B86: K101005 | C86: Sanacija divljeg deponija u Čitluku | D86: 100000 | E86: 0 | F86: =E86/D86*100 -> 0
B88: 32 | C88: Materijalni rashodi | D88: 100000 | E88: 0 | F88: =E88/D88*100 -> 0
A89: 121 | B89: 323 | C89: Rashodi za usluge | D89: 100000 | E89: 0 | F89: =E89/D89*100 -> 0
A91: PROGRAM | B91: 1011 | C91: ZAŠTITA OKOLIŠA | D91: =D93+D99+D108 -> 8450000 | E91: =E93+E95+E99+E108 -> 202926.56 | F91: =E91/D91*100 -> 2.4014978
A93: PROJEKT | B93: K101101 | C93: Sanacija odlagališta komunalnog otpada "Mojanka" | D93: 5000000 | E93: =E95 -> 0 | F93: =E93/D93*100 -> 0
B95: 42 | C95: Rashodi za nabavu proizvedene dug. imovine | D95: 5000000 | E95: =E97 -> 0 | F95: =E95/D95*100 -> 0
A96: 122 | B96: 421 | C96: Građevinski objekti | D96: 5000000 | E96: 0 | F96: =E96/D96*100 -> 0
B97: 422 | C97: Postrojenja i oprema
A99: PROJEKT | B99: K101102 | C99: Plan gospodarenja otpadom | D99: =D101+D104 -> 950000 | E99: =E104 -> 129051.56 | F99: =E99/D99*100 -> 13.584375
B101: 32 | C101: Materijalni rashodi | D101: 150000 | E101: 0 | F101: =E101/D101*100 -> 0
A102: 123 | B102: 323 | C102: Rashodi za usluge | D102: 150000 | E102: 0 | F102: =E102/D102*100 -> 0
B104: 42 | C104: Rashodi za nabavu proizvodne dugotrajne imovine | D104: 800000 | E104: =E105 -> 129051.56 | F104: =E104/D104*100 -> 16.131445
A105: 124 | B105: 422 | C105: Postrojenja i oprema | D105: 800000 | E105: =E106 -> 129051.56 | F105: =E105/D105*100 -> 16.131445
B106: 4227 | C106: Uređaji, strojevi i oprema za ostale namjene | E106: 129051.56
A108: PROJEKT | B108: K101103 | C108: Izgradanja sortirnice | D108: 2500000 | E108: =E110 -> 73875 | F108: =E108/D108*100 -> 2.955
B110: 42 | C110: Rashodi za nabavu proizvodne dugotrajne imovine | D110: 2500000 | E110: =E111 -> 73875 | F110: =E110/D110*100 -> 2.955
A111: 125 | B111: 421 | C111: Građevinski objekti | D111: 2500000 | E111: =E112 -> 73875 | F111: =E111/D111*100 -> 2.955
B112: 4214 | C112: Ostali građevinski objekti | E112: 73875
A114: GLAVA 2 | B114: 2010 | C114: PROSTORNO UREĐENJE, GOSPODARSTVO I UPRAVLJANJE IMOVINOM | D114: =D116+D436+D449 -> 40962000 | E114: =E116+E436+E449 -> 17361680 | F114: =E114/D114*100 -> 42.384844
A116: PROGRAM | B116: 1012 | C116: RAZVITAK GOSPODARSTVA I IZGRADNJA KAPITALNIH OBJEKATA | D116: =D118+D128+D134+D143+D150+D157+D163+D169+D174+D180+D185+D190+D196+D201+D207+D212+D217+D225+D234+D240+D245+D250+D256+D261+D266+D271+D277+D282+D288+D294+D299+D304+D309+D314+D319+D324+D329+D334+D339+D344+D349+D355+D360+D365+D370+D375+D380+D385+D390+D395+D400+D405+D410+D415+D420+D425 -> 28320000 | E116: =E118+E128+E134+E143+E150+E157+E163+E169+E174+E180+E185+E190+E196+E201+E207+E212+E217+E225+E234+E240+E245+E250+E256+E261+E266+E271+E277+E282+E288+E294+E299+E304+E309+E314+E319+E324+E329+E334+E339+E344+E349+E355+E360+E365+E370+E375+E380+E385+E390+E395+E400+E405+E410+E415+E420+E425+E430 -> 5617781.1 | F116: =E116/D116*100 -> 19.836798
A118: AKTIVNOST | B118: A101201 | C118: Priprema razvojnih programa i ostali zajednički rashodi | D118: =D120 -> 450000 | E118: =E120 -> 52318.13 | F118: =E118/D118*100 -> 11.626251
B120: 32 | C120: Materijalni rashodi | D120: =D121+D124 -> 450000 | E120: =E121+E124 -> 52318.13 | F120: =E120/D120*100 -> 11.626251
A121: 126 | B121: 323 | C121: Rashodi za usluge | D121: 300000 | E121: =E122+E123 -> 21000 | F121: =E121/D121*100 -> 7
B122: 3233 | C122: Usluge promidžbe i informiranja | E122: 3750
B123: 3238 | C123: Računalne usluge | E123: 17250
A124: 127 | B124: 329 | C124: Ostali nespomenuti rashodi | D124: 150000 | E124: =E125+E126 -> 31318.13 | F124: =E124/D124*100 -> 20.878753
B125: 3296 | C125: Troškovi sudskih postupaka | E125: 2193.13
B126: 3299 | C126: Ostali nespomenuti rashodi poslovanja | E126: 29125
A128: AKTIVNOST | B128: A101202 | C128: Katastarska izmjera nerazvrstanih cesta | D128: 200000 | E128: =E130 -> 136875 | F128: =E128/D128*100 -> 68.4375
B130: 32 | C130: Materijalni rashodi | D130: 200000 | E130: =E131 -> 136875 | F130: =E130/D130*100 -> 68.4375
A131: 128 | B131: 323 | C131: Rashodi za usluge | D131: 200000 | E131: =E132 -> 136875 | F131: =E131/D131*100 -> 68.4375
B132: 3237 | C132: Intelektualne i osobne usluge | E132: 136875
A134: AKTIVNOST | B134: A101203 | C134: Poticanje poduzetništva | D134: =D136 -> 920000 | E134: =E136 -> 702503.86 | F134: =E134/D134*100 -> 76.359115
B136: 35 | C136: Subvencije | D136: =D137+D139+D141 -> 920000 | E136: =E137+E139+E141 -> 702503.86 | F136: =E136/D136*100 -> 76.359115
A137: 129 | B137: 351 | C137: Subvencije trgovačkim društvima - Gradsko kino | D137: 120000 | E137: =E138 -> 30000 | F137: =E137/D137*100 -> 25
B138: 3512 | C138: Subvencije trgovačkim društvima u javnom sektoru | E138: 30000
A139: 130 | B139: 352 | C139: Subvencije poljoprivrednicima, obrtnicima | D139: 700000 | E139: =E140 -> 672503.86 | F139: =E139/D139*100 -> 96.07198
B140: 3523 | C140: Subvencije poljoprivrednicima i obrtnicima | E140: 672503.86
A141: 131 | B141: 352 | C141: Subvencije - Poduzetnički centar | D141: 100000 | E141: 0 | F141: =E141/D141*100 -> 0
A143: AKTIVNOST | B143: A101204 | C143: Fond za poticanje zapošljavanja | D143: =D145 -> 250000 | E143: =E145 -> 41573.66 | F143: =E143/D143*100 -> 16.629464
B145: 35 | C145: Subvencije | D145: =D146+D148 -> 250000 | E145: =E146 -> 41573.66 | F145: =E145/D145*100 -> 16.629464
A146: 132 | B146: 352 | C146: Subvencije trgovačkim društvima, poljoprivrednicima i obrtnicima izvan javnog sektora | D146: 200000 | E146: =E147 -> 41573.66 | F146: =E146/D146*100 -> 20.78683
B147: 3523 | C147: Subvencije poljoprivrednicima i obrtnicima | E147: 41573.66
A148: 133 | B148: 352 | C148: Subvencije kamata na poduzetničke kredite | D148: 50000 | E148: 0 | F148: =E148/D148*100 -> 0
...

Sheet Plan razvojnih 2020
A1: III. PLAN RAZVOJNIH PROGRAMA
A3: Članak 5.
A5: Plan razvojnih programa prikazuje izvršenje planiranih rashode vezanih uz provođenje investicija i davanje kapitalne pomoći i donacija za razdoblje I. - VI. 2020. godine.
A7: Odsjek: Gradska uprava
B8: OPIS RAZVOJNOG PROGRAMA
A9: STRATEŠKI CILJ | C9: NAZIV MJERE | D9: PROGRAM U PRORAČUNU | E9: AKTIVNOST/ PROJEKT | F9: ŠIFRA PROJEKTA | G9: PRORAČUN 2020.G. | H9: OSTVARENJE I. - VI. 2020. | I9: INDEKS
B11: Troškovi nabavke razne računalne i telekomunikacijske opreme Nabavka službenog vozila | C11: Efikasna lokalna samouprava Efikasna lokalna samouprava | D11: Javna uprava i administracija Javna uprava i administracija | E11: Obnova uredskih prostorija i opreme nabavka službenog vozila | F11: K100101 | G11: 70000 | H11: 46673.05 | I11: =H11/G11*100 -> 66.675786
A13: CILJ BR 1.Jačanje ljudskih resursa | B13: Ulaganje u računalne programe | C13: Efikasna lokalna samouprava Efikasna lokalna samouprava | D13: Javna uprava i administracija Javna uprava i administracija | E13: Transparentni Grad | F13: K100102 | G13: 200000 | H13: 0 | I13: 0
A15: Ukupno Gradska uprava: | G15: =G13+G11 -> 270000 | H15: =H11 -> 46673.05 | I15: =H15/G15*100 -> 17.286315
A17: Odsjek: Društvenih djelatnosti
B18: Završetak projekta sanacije i rekonstrukcije Tvrđave Grad uz potporu Ministarstva kulture RH | C18: Zaštita kulturno povijesne baštine | D18: Program kulture | E18: Sanacija Gradske tvrđave | F18: K100301 | G18: 300000 | H18: 0 | I18: 0
A19: CILJ BR. 4. Kontinuitet jedinstvenog kulturnog identiteta
B20: Promicanje istine o Domovinskom ratu | C20: Uređenje spomen sobe u čast poginulim Hrvatskim braniteljima iz Domovinskog rata | D20: Program kulture | E20: Izgradnja spomen prostora poginulim braniteljima Domovinskog rata Cetinske krajine | F20: K100302 | G20: 150000 | H20: 0 | I20: 0
B21: Ulaganje u infrastrukturu | C21: Zaštita kulturne baštine | D21: Program kulture | E21: Sanacija , rekonstrukcija zgrade Prve Franjevače klasične Gimazije u Sinju | F21: K100303 | G21: 300000 | H21: 300000 | I21: =H21/G21*100 -> 100
B22: Dovršetak uređenja infrastrukture kod Spomenika | C22: Uređenje prostora kod Spomenika | D22: Program kulture | E22: Uređenje platoa kod Spomenika Alkaru na Alkarskom trkalištu | F22: K100304 | G22: 900000 | H22: 0 | I22: 0
A23: Ukupno Društvene djelatnosti: | G23: =G19+G20+G21+G22 -> 1350000 | H23: =SUM(H18:H22) -> 300000 | I23: =H23/G23*100 -> 22.222222
A24: Ukupno Razdjel 1: | G24: =G15+G23 -> 1620000 | H24: =H23+H15 -> 346673.05 | I24: =H24/G24*100 -> 21.399571
A26: Odsjek: Komunalno gospodarstvo
A28: STRATEŠKI CILJ | B28: OPIS RAZVOJNOG PROGRAMA | C28: NAZIV MJERE | D28: PROGRAM U PRORAČUNU | E28: AKTIVNOST/ PROJEKT | F28: ŠIFRA PROJEKTA | G28: PRORAČUN 2020. | H28: OSTVARENJE I. - VI. 2020. | I28: INDEKS
B30: Daljnja provedba programa energetske učinkovitosti na sustavu javne rasvjete | C30: Učinkovito gospodarenje energijom | D30: Zajednički rashodi u funkciji održavanja komunalne infrastrukture | E30: Energetska učinkovitost na sustavu javne rasvjete | F30: K101001 | G30: 100000 | H30: 0 | I30: 0
B31: Daljnji razvitak komunalne infrastrukture | C31: Učinkovito gospodarenje komunalnim resursima | D31: Zajednički rashodi u funkciji održavanja komunalne infrastrukture | E31: Nabavka i ugradnja video - kamera na javnim površinama | F31: K101003 | G31: 190000 | H31: 0 | I31: 0
B32: Nabavka programa radi efikasnijeg upravljanja u lokalnoj samoupravi | C32: Unapređenje i pružanje informacija u komunalnom gospodarstvu | D32: Zajednički rashodi u funkciji održavanja komunalne infrastrukture | E32: Nabavka urbane opreme | F32: K101104 | G32: 150000 | H32: 131275 | I32: =H32/G32*100 -> 87.516667
A33: CILJ BR. 2. Izgrađeni i usklađeni infrastrukturni i prirodni resursi kao osnovni preduvjet kvalitete života | B33: Ishođenje građevinske dozvole, raspisivanje natječaja za sanaciju, odabir izvođača i početak radova na sanaciji | C33: Zaštita okoliša i gospodarenje otpadom | D33: Zaštita okoliša | E33: Sanacija odlagališta komunalnog otpada Mojanka | F33: K101101 | G33: 5000000 | H33: 0 | I33: 0
B34: Nabava opreme za odvojeno skupljanje otpada | C34: Zaštita okoliša i gospodarenje otpadom | D34: Zaštita okoliša | E34: Plan gospodarenja otpadom | F34: K101102 | G34: 950000 | H34: 129051.56 | I34: =H34/G34*100 -> 13.584375
B35: Stvaranje uvjeta za odvojeno prikupljanje otpada | C35: Zaštita okoliša i gospodarenje otpadom | D35: Zaštita okoliša | E35: Izgradnja sortirnice projektna dokumentacija | F35: K101103 | G35: 2500000 | H35: 73875 | I35: =H35/G35*100 -> 2.955
A36: Ukupno Komunalno gospodarstvo: | G36: =G30+G31+G32+G33+G34+G35 -> 8890000 | H36: =H35+H34+H33+H32+H31+H30 -> 334201.56 | I36: =H36/G36*100 -> 3.7592976
A48: Odsjek: Prostorno uređenje, gospodarstvo i upravljanje imovinom
G49: PRORAČUN 2020.G. | H49: OSTVARENJE I. - VI. 2020. | I49: INDEKS
A50: CILJ BR. 1. Kvalitetni i dinamički ljudski resursi, kao aktivni nositelji sadašnjosti i budućnosti Grada Sinja | B50: Ulaganje u športsko rekreacijsku kulturu i stvaranje športsko rekreativnih programa | C50: Izgradnja štala i njeno stavljanje u funkciju | D50: Program razvitka gospodarstva i izgradnja kapitalnih projekata | E50: Izgradnja štala na Hipodromu | F50: K101207 | G50: 800000 | H50: 0 | I50: 0
B51: Ulaganje u športsko rekreacijsku kulturu i stvaranje športsko rekreativnih programa | C51: Omogućavanje nadvodnjavanja na športskim terenima | D51: Program razvitka gospodarstva i izgradnja kapitalnih projekata | E51: Nabavka pumpi za nadvodnjavanje športskih terena iz bušotina | F51: K101226 | G51: 500000 | H51: 0 | I51: 0
B52: Ulaganje u športsko rekreacijsku kulturu i stvaranje športsko rekreativnih programa | C52: Uređenje prostora Aerodrom | D52: Program razvitka gospodarstva i izgradnja kapitalnih projekata | E52: Izrada ograde oko Sinjskog Aerodroma | F52: K101228 | G52: 700000 | H52: 0 | I52: 0
B53: Ulaganje u osnovno školstvo | C53: Izrada projektne dokumentacije | D53: Program razvitka gospodarstva i izgradnja kapitalnih projekata | E53: Izgradnja osnovne glazbene škole Jakova Gotovca u Sinju | F53: K101231 | G53: 200000 | H53: 0 | I53: 0
B54: Ulaganje u športsko rekreacijsku kulturu i stvaranje športsko rekreativnih programa | C54: Uređenje športskih terena | D54: Program razvitka gospodarstva i izgradnja kapitalnih projekata | E54: Izgradnja velikog igrališta sa umjetnom travom uz gradski stadion NK Junak | F54: K101233 | G54: 2000000 | H54: 0 | I54: 0
B55: Ulaganje u vjersku infrastrukturu | C55: Suradnja sa vjerskim zajednicama | D55: Program razvitka gospodarstva i izgradnja kapitalnih projekata | E55: Izgradnja Crkve na Radošiću - projektna dokumentacija | F55: K101240 | G55: 300000 | H55: 0 | I55: 0
A56: CILJ BR.2.
A57: Izgrađeni i usklađeni infrastrukturni i prirodni resursi kao osnovni preduvjet kvalitete života | B57: Rješavanje imovinsko pravnih odnosa za potrebe realizacije projekata | C57: Razvoj komunalne infrastrukture | D57: Razvitak gospodarstva i izgradnja kap.objekata | E57: Kupnja nekretnine | F57: K101204 | G57: 300000 | H57: 0 | I57: 0
B58: Nastavak izgradnje nogostupa Put Pavića | C58: Razvoj lokalne cestovne infrastrukture | D58: Razvitak gospodarstva i izgradnja kap.objekata | E58: Izgradnja nogostupa Put Pavića | F58: K101205 | G58: 200000 | H58: 0 | I58: 0
B59: Razvoj cestovne infrastrukture | C59: Kvalitetna prometna povezanost – sigurnost u prometu | D59: Razvitak gospodarstva i izgradnja kap.objekata | E59: Izgradnja nogostupa od Zorke Macana do spomenika Radošić Gornji | F59: K101206 | G59: 100000 | H59: 55250 | I59: =H59/G59*100 -> 55.25
B60: Izrada prostorno planske dokumentacije | C60: Daljnja detaljna razrada planova dijelova Grada | D60: Razvitak gospodarstva i izgradnja kap.objekata | E60: Izrada prostornih planova | F60: K101208 | G60: 250000 | H60: 108937.5 | I60: =H60/G60*100 -> 43.575
B61: Poticanje energetske učinkovitosti | C61: Provedba programa energetske učinkovitosti na objektima u vlasništvu Grada | D61: Razvitak gospodarstva i izgradnja kap.objekata | E61: Sustav energetske učinkovitosti na objektima u vlasništvu Grada | F61: K101209 | G61: 150000 | H61: 0 | I61: 0
B62: Razvoj infrastrukture | C62: Povećanje broja grobnih mjesta | D62: Razvitak gospodarstva i izgradnja kap.objekata | E62: Uređenje parking prostora uz groblje u Brnazama | F62: K101210 | G62: 100000 | H62: 0 | I62: 0
B63: Razvoj infrastrukture | C63: Povećanje broja grobnih mjesta | D63: Razvitak gospodarstva i izgradnja kap.objekata | E63: Proširenje groblja u Turjacima | F63: K101211 | G63: 500000 | H63: 0 | I63: 0
B64: Razvoj lokalne cestovne infrastruture | C64: Kvalitetna prometna povezanost – sigurnost u prometu | D64: Razvitak gospodarstva i izgradnja kap.objekata | E64: Izgradnja nogostupa sa biciklističkom stazom nastavak do Aerodroma | F64: K101214 | G64: 1000000 | H64: 0 | I64: 0
B65: Razvoj lokalne cestovne infrastrukture | C65: Razvoj komunalne infrastrukture | D65: Razvitak gospodarstva i izgradnja kap. objekata | E65: Izgradnja sabirne ulice u Ex Vojarni Ivaniše Nelipića | F65: K101216 | G65: 4500000 | H65: 2769229.4 | I65: =H65/G65*100 -> 61.538431
B66: Razvoj komun alne infrastrukture | C66: Povećanje broja grobnih mjesta | D66: Razvitak gospodarstva i izgradnja kap. objekata | E66: Uređenje nove lokacije na izgradnji groblja Jasensko - Karakašica | F66: K101218 | G66: 150000 | H66: 0 | I66: 0
B67: Razvoj cestovne infrastrukture | C67: Kvalitetna povezanost zbog bržeg i sigurnijeg odvijanja prometa | D67: Razvitak gospodarstva i izgradnja kap. objekata | E67: Rekonstrukcija ceste s nogostupom od škole do Masnića | F67: K101219 | G67: 3200000 | H67: 0 | I67: 0
B68: Razvoj cestovne infrastruture | C68: Kvalitetna povezanost zbog bržeg i sigurnijeg odvijanja prometa | D68: Razvitak gospodarstva i izgradnja kap. objekata | E68: Završetak izgradnje nogostupa u Čitluku | F68: K101220 | G68: 200000 | H68: 195841.05 | I68: =H68/G68*100 -> 97.920525
B69: Razvoj cestovne infrastruture | C69: Kvalitetna povezanost zbog bržeg i sigurnijeg odvijanja prometa | D69: Razvitak gospodarstva i izgradnja kap. objekata | E69: Izgradnj nogostupa Privija - Šuća | F69: K101222 | G69: 300000 | H69: 123125 | I69: =H69/G69*100 -> 41.041667
B70: Razvoj cestovne infrastrukture | C70: Kvalitetna povezanost zbog bržeg i sigurnijeg odvijanja prometa | D70: Razvitak gospodarstva i izgradnja kap. objekata | E70: Izgradnja nogostupa od raskrižja do fontane Đardin | F70: K101223 | G70: 300000 | H70: 77242.96 | I70: =H70/G70*100 -> 25.747653
B71: Razvoj cestovne infrastrukture | C71: Kvalitetna povezanost zbog bržeg i sigurnijeg odvijanja prometa | D71: Razvitak gospodarstva i izgradnja kap. objekata | E71: Izgradnja nogostupa od Donaldove do 72. bojne | F71: K101225 | G71: 300000 | H71: 0 | I71: 0
B72: Razvoj cestovne infrastruture | C72: Kvalitetna povezanost zbog bržeg i sigurnijeg odvijanja prometa | D72: Razvitak gospodarstva i izgradnja kap. objekata | E72: Izgradnja nogostupa u Glavicama od Dolića do raskrižja Vučić - Labrović | F72: K101234 | G72: 2500000 | H72: 0 | I72: 0
B73: Nabavka programa | C73: Efikasna i učinkovita lokalna samouprava | D73: Razvitak gospodarstva i izgradnja kap.objekata | E73: GIS Grada Sinja | F73: K101232 | G73: 100000 | H73: 0 | I73: 0
B74: Nastavak projekta rekonstrukcije te proširenje vodoopskrbe i odvodnje u sustavu aglomeracije Sinj | C74: Razvoj komunalne infrastrukture | D74: Financiranje projekta iz fondova EU | E74: Priprema projekata za sufinanciranje izgradnje integriranog sustava odvodnje i strukturnih fondova EU | F74: K101302 | G74: 2500000 | H74: 310562.05 | I74: =H74/G74*100 -> 12.422482
A75: CILJ BROJ. 3.
A76: Održivo i konkurentno gospodarstvo, kao osnova ekonomske dinamike urbane cjeline | B76: Poboljšanje poslovne infrastrukture i potpora poduzetnicima | C76: Uspostava razvojnog centra | D76: Razvitak gospodarstva i izgradnja kap.objekata | E76: Centar za razvoj Sinjska Alka | F76: K101202 | G76: 0 | H76: 0 | I76: 0
B77: Ulaganje u daljnji razvoj GZK | C77: Osiguranje potpore poduzetnicima | D77: Razvitak gospodarstva i izgradnja kap.objekata | E77: Gospodarska zona Kukuzovac | F77: K101203 | G77: 2000000 | H77: 801765.56 | I77: =H77/G77*100 -> 40.088278
B78: =B76 -> Poboljšanje poslovne infrastrukture i potpora poduzetnicima | C78: Razvoj komunalne infrastrukture | D78: =D77 -> Razvitak gospodarstva i izgradnja kap.objekata | E78: Uređenje Sinjskog pazara | F78: K101217 | G78: 150000 | H78: 0 | I78: 0
B79: Poboljšanje poslovne infrastrukture i potpora poduzetnicima | C79: Osiguranje potpore poduzetnicima | D79: Razvitak gospodarstva i izgradnja kap.objekata | E79: Izgradnja poduzetničkog inkubatora u GZK | F79: K101229 | G79: 200000 | H79: 0 | I79: 0
B82: Ulaganje u infrastrukturu u kulturi i kulturna ponuda | C82: Strateško upravljanje s kulturno povijesnim nasljeđem | D82: Razvitak gospodarstva i izgradnja kapitalnih projekata | E82: Rasvjeta, opremanje i uređenja Alkarskih dvora | F82: K101201 | G82: 700000 | H82: 55865 | I82: =H82/G82*100 -> 7.9807143
A83: CILJ BR 4. Kontinuitet jedinstvenog kulturnog indetiteta zajednice | B83: Ulaganje u infrastrukturu u kulturi | C83: Zaštita i turistička valorizacija kulturno povijesne baštine | D83: EU projekt - Obnova kulturne baštine u Sinju | E83: Sinjska Alka - nabavka tribina | F83: K101405 | G83: 418000 | H83: 0 | I83: 0
B84: Ulaganje u infrastrukturu u kulturi | C84: Zaštita i turistička valorizacija kulturno povijesne baštine | D84: EU projekt - Obnova kulturne baštine u Sinju | E84: Nabavka replika Alkarskih odora | F84: K101406 | G84: 480000 | H84: 362894.55 | I84: =H84/G84*100 -> 75.603031
B85: Ulaganje u infrastrukturu u kulturi | C85: Zaštita i turistička valorizacija kulturno povijesne baštine | D85: EU projekt - Obnova kulturne baštine u Sinju | E85: Nabavka LED ekrana za Sinjsku Alku | F85: K101407 | G85: 210000 | H85: 0 | I85: 0
B86: Ulaganje u infrastrukturu u kulturi | C86: Unapređenje turističke ponude rekreacijskih aktivnosti | D86: EU projekt - Obnova kulturne baštine u Sinju | E86: Izgradnja interpretacijsko - edukacijskog centra Sinjska Alka | F86: K101409 | G86: 6500000 | H86: 9653519.1 | I86: =H86/G86*100 -> 148.51568
B87: Ulaganje u infrastrukturu u kulturi | C87: Unapređenje turističke ponude rekreacijskih aktivnosti | D87: EU projekt - Obnova kulturne baštine u Sinju | E87: Rekonstrukcija ulica i opremanje urbanističke cijeline Sinj | F87: K101410 | G87: 0 | H87: 0 | I87: 0
B88: Ulaganje u infrastrukturu u kulturi | C88: Unapređenje turističke ponude rekreacijskih aktivnosti | D88: EU projekt - Obnova kulturne baštine u Sinju | E88: Oprema za zgradu Palacine | F88: K101413 | G88: 600000 | H88: 813888.75 | I88: =H88/G88*100 -> 135.64813
B89: Ulaganje u infrastrukturu u kulturi | C89: Unapređenje turističke ponude rekreacijskih aktivnosti | D89: EU projekt - Obnova kulturne baštine u Sinju | E89: Opremanje Muzeja Cetinske krajine | F89: K101422 | G89: 600000 | H89: 155375 | I89: =H89/G89*100 -> 25.895833
A90: Ukupno Odsjek gospodarstvo: | G90: =G50+G51+G52+G53+G54+G55+G57+G58+G59+G60+G61+G62+G63+G64+G65+G66+G67+G68+G69+G70+G71+G72+G73+G74+G76+G77+G78+G79+G82+G83+G84+G85+G86+G87+G88+G89 -> 33008000 | H90: =H89+H88+H87+H86+H85+H84+H83+H82+H79+H78+H77+H76+H74+H73+H72+H71+H70+H69+H68+H67+H66+H65+H64+H63+H62+H61+H60+H59+H58+H57+H55+H54+H53+H52+H51+H50 -> 15483496 | I90: =H90/G90*100 -> 46.908313
A91: Ukupno Razdjel 2: | G91: =G90+G36 -> 41898000 | H91: =H90+H36 -> 15817697 | I91: =H91/G91*100 -> 37.75287
A92: Ukupno Plan razvojnih programa : | G92: =G91+G24 -> 43518000 | H92: =H91+H24 -> 16164371 | I92: =H92/G92*100 -> 37.144103
A95: Gradsko vijeće Grada Sinja
A96: Klasa: 400-06/20-01/2
A97: Ur.broj: 2175/01-01-20-1
A98: Sinj, listopad 2020. godine
A100: Potpredsjednik Gradskog vijeća:
A101: Anđelko Bilandžić
