Workbook

Sheet Naslovna
B3: Na temelju članka 39. Zakona o proračunu ("Narodne novine" br. 87/08, 136/12 i 15/15) i članka 35.Statuta
B4: Grada Sinja ("Službeni glasnik Grada Sinja" br. 10/09, 2/13 i 2/18) Gradsko vijeće Grada Sinja na
B5: 27. sjednici održanoj 12. prosinca 2019. godine donijelo je:
B7: PRORAČUN GRADA SINJA ZA 2020.G. S PROJEKCIJAMA ZA 2021. I 2022.GOD.
B9: I. OPĆI DIO
B11: Članak 1.
B13: U Proračunu Grada Sinja za 2020. godinu (u daljnjem tekstu Proračun) i projekcije za 2021. i 2022. godinu sastoji se od :
C15: A | D15: RAČUN PRIHODA I RASHODA | E15: Proračun 2020.g | F15: Projekcija 2021.g. | G15: Projekcija 2022.g.
D16: Prihodi poslovanja | E16: =Prihodi!C7 -> 118000000 | F16: =Prihodi!D7 -> 112200000 | G16: =Prihodi!E7 -> 76500000
D17: Prihodi od prodaje nefinancijske imovine | E17: 700000 | F17: =Prihodi!D37 -> 700000 | G17: =Prihodi!E37 -> 600000
D18: Rashodi poslovanja | E18: =Rashodi!C7 -> 81550000 | F18: =Rashodi!D7 -> 75540000 | G18: =Rashodi!E7 -> 72840000
D19: Rashodi za nabavu nefinancijske imovine | E19: =Rashodi!C42 -> 37450000 | F19: =Rashodi!D42 -> 37660000 | G19: =Rashodi!E42 -> 4460000
D20: Razlika višak / manjak | E20: -300000 | F20: -300000 | G20: -200000
C23: B | D23: RAČUN FINANCIRANJA | E23: Proračun 2020.g. | F23: Projekcija 2021.g. | G23: Projekcija 2022.g.
D24: Primici od financijske imovine i zaduživanja | E24: 300000 | F24: 0 | G24: 300000
D25: Izdaci za financijsku imovinu i otplate zajmova
D26: NETO FINANCIRANJE | E26: 300000 | F26: 0 | G26: 300000
D28: Višak / manjak + neto financiranje | E28: 0 | F28: 0 | G28: 0
E30: Članak 2.
D32: U proračunsku zalihu Proračuna Grada Sinja izdvaja se 300.000,00 kn.
E34: Članak 3.
D37: Prihodi i rashodi, te primici i izdaci po ekonomskoj klasifikaciji, utvrđuju se u Računu prihoda i rashoda i Računu financiranja za 2020. godinu, kako slijedi:

Sheet Prihodi
A1: A. PRIHODI POSLOVANJA
A3: Konto | B3: Opis prihoda | C3: Proračun 2020.g. | D3: Projekcija 2021.g. | E3: Projekcija 2022.g.
B5: PRIHODI UKUPNO (6+7) | C5: =C7+C37 -> 118700000 | D5: =D7+D37 -> 112900000 | E5: =E7+E37 -> 77100000
A7: 6 | B7: PRIHODI | C7: =C9+C14+C21+C26+C31+C34 -> 118000000 | D7: =D9+D14+D21+D26+D31+D34 -> 112200000 | E7: =E9+E14+E21+E26+E31+E34 -> 76500000
A9: 61 | B9: PRIHODI OD POREZA | C9: =C10+C11+C12 -> 52600000 | D9: 54000000 | E9: 54000000
A10: 611 | B10: Porez i prirez na dohodak | C10: 49000000
A11: 613 | B11: Porezi na imovinu | C11: 3500000
A12: 614 | B12: Porezi na robu i usluge | C12: 100000
A14: 63 | B14: POMOĆI | C14: =C15+C16+C17+C18+C19 -> 49650000 | D14: 43950000 | E14: 8150000
A15: 633 | B15: Pomoći proračunu iz drugih proračuna | C15: 4000000
A16: 634 | B16: Pomoći od izvanproračunskih korisnika | C16: 16750000
A17: 635 | B17: Tekuće pomoći izravnanja za decentralizirane funkcije | C17: 2300000
A18: 636 | B18: Pomoći proračunskim korisnicima iz proračuna koji im nije nadležan | C18: 600000
A19: 638 | B19: Pomoći temeljem prijenosa EU sredstava | C19: 26000000
A21: 64 | B21: PRIHODI OD IMOVINE | C21: =C22+C23+C24 -> 1500000 | D21: 1500000 | E21: 1500000
A22: 641 | B22: Prihodi od financijske imovine | C22: 20000
A23: 642 | B23: Prihodi od nefinancijske imovine | C23: 1470000
A24: 643 | B24: Prihodi od kamata na dane zajmove | C24: 10000
A26: 65 | B26: PRIHODI OD UPRAVNIH I ADMINISTRATIVNIH PRISTOJBI, PRISTOJBI PO POSEBNIM PROPISIMA I NAKNADA | C26: =C27+C28+C29 -> 9900000 | D26: 9900000 | E26: 10000000
A27: 651 | B27: Administrativne (upravne) pristojbe | C27: 600000
A28: 652 | B28: Prihodi po posebnim propisima | C28: 2300000
A29: 653 | B29: Komunalni doprinos i naknada | C29: 7000000
A31: 66 | B31: PRIHODI OD PRODAJE PROIZVODA I ROBA | C31: 350000 | D31: 350000 | E31: 350000
A32: 661 | B32: Prihod od prodaje proizvoda i roba | C32: 350000
A34: 68 | B34: KAZNE, UPRAVNE MJERE I OSTALI PRIHODI | C34: 4000000 | D34: 2500000 | E34: 2500000
A35: 683 | B35: Ostali nespomenuti prihodi | C35: 4000000
A37: 7 | B37: PRIHOD OD PRODAJE NEFINANCIJSKE IMOVINE | C37: =C39+C42 -> 700000 | D37: =D39+D42 -> 700000 | E37: =E39+E42 -> 600000
A39: 71 | B39: Prihod od prodaje neproizvedene imovine | C39: 400000 | D39: 400000 | E39: 300000
A40: 711 | B40: Prihod od prodaje materijalne imovine - prirodnih bogatstava | C40: 400000
A42: 72 | B42: Prihod od proizvedene imovine | C42: 300000 | D42: 300000 | E42: 300000
A43: 721 | B43: Prihod od prodaje građevinskih objekata | C43: 300000

Sheet Rashodi
A1: B. RASHODI POSLOVANJA
A3: Konto | B3: Opis rashoda | C3: Proračun 2020.g. | D3: Projekcija 2021.g. | E3: Projekcija 2022.g.
B5: RASHODI POSLOVANJA (3+4) | C5: =C7+C42 -> 119000000 | D5: =D7+D42 -> 113200000 | E5: =E7+E42 -> 77300000
A7: 3 | B7: RASHODI POSLOVANJA | C7: =C9+C14+C21+C24+C28+C33+C36 -> 81550000 | D7: =D9+D14+D21+D24+D28+D33+D36 -> 75540000 | E7: =E9+E14+E21+E24+E28+E33+E36 -> 72840000
A9: 31 | B9: Rashodi za zaposlene | C9: =C10+C11+C12 -> 20475000 | D9: 20385000 | E9: 18900000
A10: 311 | B10: Plaće | C10: 16770000
A11: 312 | B11: Ostali rashodi za zaposlene | C11: 820000
A12: 313 | B12: Doprinosi na plaće | C12: 2885000
A14: 32 | B14: Materijalni rashodi | C14: =C15+C16+C17+C18+C19 -> 26183000 | D14: 20368000 | E14: 19486000
A15: 321 | B15: Naknade troškova zaposlenima | C15: 1285000
A16: 322 | B16: Rashodi za materijal i energiju | C16: 4510000
A17: 323 | B17: Rashodi za usluge | C17: 17768000
A18: 324 | B18: Naknada troškova osobama izvan radnog odnosa | C18: 10000
A19: 329 | B19: Ostali nespomenuti rashodi | C19: 2610000
A21: 34 | B21: Financijski rashodi | C21: 225000 | D21: 221000 | E21: 221000
A22: 343 | B22: Ostali financijski rashodi | C22: 225000
A24: 35 | B24: Subvencije | C24: =C25+C26 -> 1170000 | D24: 980000 | E24: 980000
A25: 351 | B25: Subvencije trgovačkim društvima u javnom sektoru | C25: 120000
A26: 352 | B26: Subvencije trgovačkim društvima, poljoprivrednicima i obrtnicima izvan javnog sektora | C26: 1050000
A28: 36 | B28: Pomoći dane u inozemstvo i unutar općeg proračuna | C28: =C29+C30+C31 -> 2350000 | D28: 2000000 | E28: 750000
A29: 363 | B29: Pomoći unutar općeg proračuna | C29: 2050000
A30: 366 | B30: Pomoći proračunskim korisnicima drugih proračuna | C30: 150000
A31: 368 | B31: Pomoći temeljem prijenosa EU sredstava | C31: 150000
A33: 37 | B33: Naknade građanima i kućanstvima iz proračuna | C33: 9850000 | D33: 9700000 | E33: 9700000
A34: 372 | B34: Naknade građanima i kućanstvima iz proračuna | C34: 9850000
A36: 38 | B36: Donacije i ostali rashodi | C36: =C37+C38+C39+C40 -> 21297000 | D36: 21886000 | E36: 22803000
A37: 381 | B37: Tekuće donacije | C37: 11819000
A38: 382 | B38: Kapitalne donacije | C38: 4678000
A39: 385 | B39: Izvanredni rashodi | C39: 300000
A40: 386 | B40: Kapitalne pomoći | C40: 4500000
A42: 4 | B42: RASHODI ZA NABAVU NEFINANCIJSKE IMOVINE | C42: =C43+C46 -> 37450000 | D42: =D43+D46 -> 37660000 | E42: =E43+E46 -> 4460000
A43: 41 | B43: Rashodi za nabavu neproizvedene imovine | C43: 800000 | D43: 300000 | E43: 300000
A44: 411 | B44: Materijalna imovina | C44: 800000
A46: 42 | B46: Rashodi za nabavu proizvedene dugotrajne imovine | C46: =C47+C48+C49+C50 -> 36650000 | D46: 37360000 | E46: 4160000
A47: 421 | B47: Građevinski objekti | C47: 29600000
A48: 422 | B48: Postrojenja i oprema | C48: 5060000
A49: 424 | B49: Knjige | C49: 80000
A50: 426 | B50: Nematerijalna proizvedena imovina | C50: 1910000

Sheet Racun financiranja
A1: C. RAČUN FINANCIRANJA
A3: Konto | B3: Opis primici / izdaci | C3: Proračun 2020.g. | D3: Projekcija 2021.g. | E3: Projekcija 2022.g.
A5: 8 | B5: PRIMICI OD FINANCIJSKE IMOVINE I ZADUŽIVANJA | C5: 300000 | D5: 300000 | E5: 200000
A7: 81 | B7: Primljene otplate (povrat) glavnice zajmova | C7: 300000 | D7: 300000 | E7: 200000
A8: 812 | B8: Primici glavnice zajmova danih neprofitnim organizacijama, građanima i kućanstvima | C8: 150000
A9: 816 | B9: Povrat zajmova danih obrtnicima, malim i srednjim poduzetnicima | C9: 150000

Sheet razdjel 1
A2: II. POSEBNI DIO
A4: Članak 4.
A6: Rashodi i izdaci Proračuna u iznosu od 119.000.000,00 kn raspoređuju se po programskoj klasifikaciji po korisnicima i potanjim namjenama u Posebnom dijelu Proračuna kako slijedi:
A9: Pozicija | B9: Konto | C9: Opis rashoda i izdataka | D9: Proračun 2020.g. | E9: Projekicija 2021.g. | F9: Projekcija 2022.g.
C11: RAZDJEL 1. 010 URED GRADA | D11: =D12+D61 -> 58268000 | E11: =E12+E61 -> 55290000 | F11: =F12+F61 -> 51290000
A12: GLAVA 1 | B12: 1005 | C12: GRADSKA UPRAVA | D12: =D14 -> 11995000 | E12: =E14 -> 11795000 | F12: =F14 -> 11795000
A14: PROGRAM | B14: 1001 | C14: UPRAVLJANJE I ADMINISTRACIJA | D14: =D16+D32+D37+D45+D50+D56 -> 11995000 | E14: =E16+E32+E37+E45+E50+E56 -> 11795000 | F14: =F16+F32+F37+F45+F50+F56 -> 11795000
A16: AKTIVNOST | B16: A 100101 | C16: Administrativni i stručni poslovi Grada | D16: =D18+D23+D29 -> 11330000 | E16: =E18+E23+E29 -> 11330000 | F16: =F18+F23+F29 -> 11330000
B18: 31 | C18: Rashodi za zaposlene | D18: =D19+D20+D21 -> 6980000 | E18: 6980000 | F18: 6980000
A19: 01 | B19: 311 | C19: Plaće | D19: 5700000
A20: 02 | B20: 312 | C20: Ostali rashodi za zaposlene | D20: 300000
A21: 03 | B21: 313 | C21: Doprinosi na plaće | D21: 980000
B23: 32 | C23: Materijalni rashodi | D23: =D24+D25+D26+D27 -> 4200000 | E23: 4200000 | F23: 4200000
A24: 04 | B24: 321 | C24: Naknade troškova zaposlenima | D24: 400000
A25: 05 | B25: 322 | C25: Rashodi za materijal i energiju | D25: 800000
A26: 06 | B26: 323 | C26: Rashodi za usluge | D26: 2000000
A27: 07 | B27: 329 | C27: Ostali nespomenuti rashodi | D27: 1000000
B29: 34 | C29: Financijski rashodi | D29: 150000 | E29: 150000 | F29: 150000
A30: 08 | B30: 343 | C30: Ostali financijski rashodi | D30: 150000
A32: AKTIVNOST | B32: A 100102 | C32: Proračunska zaliha | D32: 300000 | E32: 300000 | F32: 300000
B34: 38 | C34: Donacije i ostali rashodi | D34: 300000 | E34: 300000 | F34: 300000
A35: 09 | B35: 385 | C35: Izvanredni rashodi | D35: 300000
A37: AKTIVNOST | B37: A100103 | C37: Obveze po sudskim sporovima | D37: =D39+D42 -> 65000 | E37: =E39+E42 -> 65000 | F37: =F39+F42 -> 65000
B39: 34 | C39: Financijski rashodi | D39: 50000 | E39: 50000 | F39: 50000
A40: 10 | B40: 343 | C40: Ostali nespomenuti financijski rashodi | D40: 50000
B42: 32 | C42: Materijalni rashodi | D42: 15000 | E42: 15000 | F42: 15000
A43: 11 | B43: 329 | C43: Ostali nespomenuti rashodi poslovanja | D43: 15000
A45: AKTIVNOST | B45: A100104 | C45: Izbori za vijeća mjesnih odbora 2019. god. | D45: 30000 | E45: 30000 | F45: 30000
B47: 32 | C47: Materijalni rashodi | D47: 30000 | E47: 30000 | F47: 30000
A48: 12 | B48: 329 | C48: Ostali nespomenuti rashodi poslovanja | D48: 30000
A50: PROJEKT | B50: K 100101 | C50: Obnova uredskih prostorija i opreme | D50: =D52 -> 70000 | E50: 70000 | F50: 70000
B52: 42 | C52: Rashodi za nabavu proizvodne dugotrajne imovine | D52: =D53+D54 -> 70000 | E52: 70000 | F52: 70000
A53: 13 | B53: 422 | C53: Postrojenja i oprema | D53: 60000
A54: 14 | B54: 426 | C54: Nematerijalna proizvedena imovina - ulaganje u računalne programe | D54: 10000
A56: PROJEKT | B56: K100102 | C56: Transparentni Grad | D56: 200000 | E56: 0 | F56: 0
B58: 42 | C58: Rahodi za nabavu proizvodne dugotrajne imovine | D58: 200000 | E58: 0 | F58: 0
A59: 15 | B59: 426 | C59: Nematerijalna proizvedena imovina - ulaganje u računalne programe | D59: 200000
A61: GLAVA 2 | B61: 1010 | C61: DRUŠTVENE DJELATNOSTI | D61: =D63+D91+D179+D232+D259+D312+D351 -> 46273000 | E61: =E63+E91+E179+E232+E259+E312+E351 -> 43495000 | F61: =F63+F91+F179+F232+F259+F312+F351 -> 39495000
A63: PROGRAM | B63: 1002 | C63: PREDŠKOLSKI ODGOJ | D63: =D65+D85 -> 13017000 | E63: =E65+E85 -> 12951000 | F63: =F65+F85 -> 12951000
A65: AKTIVNOST | B65: A100201 | C65: Financiranje redovne djelatnosti-DV "Bili Cvitak" Sinj | D65: =D67+D72+D79+D82 -> 10747000 | E65: =E67+E72+E79+E82 -> 10681000 | F65: =F67+F72+F79+F82 -> 10681000
B67: 31 | C67: Rashodi za zaposlene | D67: =D68+D69+D70 -> 8120000 | E67: 8120000 | F67: 8120000
A68: 16 | B68: 311 | C68: Plaće | D68: 6680000
A69: 17 | B69: 312 | C69: Ostali rashodi za zaposlene | D69: 338000
A70: 18 | B70: 313 | C70: Doprinosi na plaće | D70: 1102000
B72: 32 | C72: Materijalni rashodi | D72: =D73+D74+D75+D76+D77 -> 2460000 | E72: 2398000 | F72: 2398000
A73: 19 | B73: 321 | C73: Naknade troškova zaposlenima | D73: 700000
A74: 20 | B74: 322 | C74: Rashodi za materijal i energiju | D74: 1300000
A75: 21 | B75: 323 | C75: Rashodi za usluge | D75: 350000
A76: 22 | B76: 324 | C76: Naknade troškova osobama izvan radnog odnosa | D76: 10000
A77: 23 | B77: 329 | C77: Ostali nespomenuti rashodi | D77: 100000
B79: 34 | C79: Financijski rashodi | D79: 17000 | E79: 13000 | F79: 13000
A80: 24 | B80: 343 | C80: Ostali financijski rashodi | D80: 17000
B82: 42 | C82: Rashodi za nabavu proizvedene dugotrajne imovine | D82: 150000 | E82: 150000 | F82: 150000
A83: 25 | B83: 422 | C83: Uredska oprema i namještaj | D83: 150000
A85: AKTIVNOST | B85: A100202 | C85: Sufinanciranje predškolskog odgoja | D85: =D87 -> 2270000 | E85: 2270000 | F85: 2270000
B87: 38 | C87: Ostali rashodi | D87: =D88+D89 -> 2270000 | E87: 2270000 | F87: 2270000
A88: 26 | B88: 381 | C88: Tekuće donacije - vjerski vrtići "Blagovijest" | D88: 525000
A89: 27 | B89: 381 | C89: Tekuće donacije - privatni vrtić "Čarobni pianino" | D89: 1745000
A91: PROGRAM | B91: 1003 | C91: KULTURA | D91: =D93+D113+D118+D124+D129+D135+D139+D144+D149+D154+D159+D164+D169+D174 -> 5123000 | E91: =E93+E113+E118+E124+E129+E135+E139+E144+E149+E154+E159+E164+E169+E174 -> 3208000 | F91: =F93+F113+F118+F124+F129+F135+F139+F144+F149+F154+F159+F164+F169+F174 -> 3236000
A93: AKTIVNOST | B93: A100301 | C93: Gradska knjižnica | D93: =D95+D100+D106+D109 -> 523000 | E93: =E95+E100+E106+E109 -> 528000 | F93: =F95+F100+F106+F109 -> 528000
B95: 31 | C95: Rashodi za zaposlene | D95: =D96+D97+D98 -> 357000 | E95: 360000 | F95: 360000
A96: 28 | B96: 311 | C96: Plaće | D96: 300000
A97: 29 | B97: 312 | C97: Ostali rashodi za zaposlene | D97: 7000
A98: 30 | B98: 313 | C98: Doprinosi na plaće | D98: 50000
B100: 32 | C100: Materijalni rashodi | D100: =D101+D102+D103+D104 -> 73000 | E100: 75000 | F100: 75000
A101: 31 | B101: 321 | C101: Naknade troškova zaposlenima | D101: 3000
A102: 32 | B102: 322 | C102: Rashodi za materijal i energiju | D102: 25000
A103: 33 | B103: 323 | C103: Rashodi za usluge | D103: 40000
A104: 34 | B104: 329 | C104: Ostali nespomenuti rashodi | D104: 5000
B106: 34 | C106: Financijski rashodi | D106: 3000 | E106: 3000 | F106: 3000
A107: 35 | B107: 343 | C107: Ostali financijski rashodi | D107: 3000
B109: 42 | C109: Rashodi za nabavu proizvedene dugotrajne imovine | D109: =D110+D111 -> 90000 | E109: 90000 | F109: 90000
A110: 36 | B110: 424 | C110: Knjige u knjižnicama | D110: 80000
A111: 37 | B111: 422 | C111: Postrojenja i oprema | D111: 10000
A113: AKTIVNOST | B113: A100302 | C113: Kulturne manifestacije - Dani Alke i Velike Gospe, Advent u Sinju i ostale manifestacije | D113: 750000 | E113: 700000 | F113: 700000
B115: 32 | C115: Materijalni rashodi | D115: 750000 | E115: 700000 | F115: 700000
A116: 38 | B116: 329 | C116: Ostali nespomenuti rashodi | D116: 750000
A118: AKTIVNOST | B118: A100303 | C118: Kulturno umjetnička društva i udruge | D118: =D120 -> 950000 | E118: 850000 | F118: 850000
B120: 38 | C120: Donacije i ostali rashodi | D120: =D121+D122 -> 950000 | E120: 850000 | F120: 850000
A121: 39 | B121: 381 | C121: Tekuće donacije | D121: 850000
A122: 40 | B122: 382 | C122: Kapitalne donacije | D122: 100000
A124: AKTIVNOST | B124: A100304 | C124: Kulturno umjetničko središte - Sinj | D124: 720000 | E124: 720000 | F124: 720000
B126: 38 | C126: Ostali rashodi | D126: 720000 | E126: 720000 | F126: 720000
A127: 41 | B127: 381 | C127: Tekuće donacije | D127: 720000
A129: AKTIVNOST | B129: A100305 | C129: Financiranje tekućih rashoda | D129: =D131 -> 60000 | E129: 60000 | F129: 60000
B131: 32 | C131: Materijalni rashodi | D131: =D132+D133 -> 60000 | E131: 60000 | F131: 60000
A132: 42 | B132: 323 | C132: Rashodi za usluge | D132: 40000
A133: 43 | B133: 329 | C133: Ostali nespomenuti rashodi | D133: 20000
A135: AKTIVNOST | B135: A100306 | C135: Sufinanciranje rada Muzeja Cetinske krajine | D135: 50000 | E135: 50000 | F135: 50000
B136: 36 | C136: Pomoći dane u inozemstvo i unutar općeg proračuna | D136: 50000 | E136: 50000 | F136: 50000
A137: 44 | B137: 366 | C137: Pomoći pror. korisnicima drugih proračuna | D137: 50000
A139: AKTIVNOST | B139: A100307 | C139: Galerija Sikirica - izdavanje monografije Stipe Sikirica | D139: 20000 | E139: 0 | F139: 0
B141: 38 | C141: Ostali rashodi | D141: 20000 | E141: 0 | F141: 0
A142: 45 | B142: 381 | C142: Tekuće donacije - KUS | D142: 20000
A144: AKTIVNOST | B144: A100308 | C144: Kultura je vrijednost života | D144: =D146 -> 0 | E144: =E146 -> 300000 | F144: =F146 -> 328000
B146: 32 | C146: Materijalni rashodi | D146: 0 | E146: 300000 | F146: 328000
A147: 46 | B147: 329 | C147: Ostali nespomenuti rashodi poslovanja | D147: 0
A149: AKTIVNOST | B149: A100309 | C149: Predstavljanje Alke u Francuskoj | D149: 200000 | E149: 0 | F149: 0
B151: 32 | C151: Materijalni rashodi | D151: 200000 | E151: 0 | F151: 0
A152: 47 | B152: 329 | C152: Ostali nespomenuti rashodi poslovanja | D152: 200000
...

Sheet razdjel 2
A2: Pozicija | B2: Konto | C2: Opis rashoda i izdataka | D2: Proračun 2020.g. | E2: Projekcija 2021.g. | F2: Projekcija 2022.g.
C4: RAZDJEL 2. 020 UPRAVNI ODJEL ZA PROSTORNO UREĐENJE, KOMUNALNE DJELATNOSTI GOSPODARSTVO I UPRAVLJANJE IMOVINOM | D4: =D5+D93 -> 60732000 | E4: =E5+E93 -> 57910000 | F4: =F5+F93 -> 26010000
A5: GLAVA 1 | B5: 2005 | C5: KOMUNALNO GOSPODARSTVO | D5: =D7+D40+D73 -> 19770000 | E5: =E7+E40+E73 -> 37200000 | F5: =F7+F40+F73 -> 8900000
A7: PROGRAM | B7: 1009 | C7: ODRŽAVANJE KOMUNALNE INFRASTRUKTURE | D7: =D9+D15+D20+D25+D30+D35 -> 10330000 | E7: =E9+E15+E20+E25+E30+E35 -> 7750000 | F7: =F9+F15+F20+F25+F30+F35 -> 7950000
A9: AKTIVNOST | B9: A100901 | C9: Održavanje javne rasvjete | D9: =D11 -> 2500000 | E9: =E11 -> 2500000 | F9: 2700000
B11: 32 | C11: Materijalni rashodi | D11: =D12+D13 -> 2500000 | E11: 2500000 | F11: 2700000
A12: 108 | B12: 322 | C12: Rashodi za materijal i energiju | D12: 1800000
A13: 109 | B13: 323 | C13: Rashodi za usluge | D13: 700000
A15: AKTIVNOST | B15: A100902 | C15: Održavanje nerazvrstanih cesta | D15: 5180000 | E15: =E17 -> 2500000 | F15: 2500000
B17: 32 | C17: Materijalni rashodi | D17: 5180000 | E17: 2500000 | F17: 2500000
A18: 110 | B18: 323 | C18: Rashodi za usluge | D18: 5180000
A20: AKTIVNOST | B20: A100903 | C20: Odvodnja oborinskih voda | D20: 150000 | E20: 150000 | F20: 150000
B22: 32 | C22: Materijalni rashodi | D22: 150000 | E22: 150000 | F22: 150000
A23: 111 | B23: 323 | C23: Rashodi za usluge | D23: 150000
A25: AKTIVNOST | B25: A100904 | C25: Održavanje čistoće javnih površina | D25: 900000 | E25: 1000000 | F25: 1000000
B27: 32 | C27: Materijalni rashodi | D27: 900000 | E27: 1000000 | F27: 1000000
A28: 112 | B28: 323 | C28: Rashodi za usluge | D28: 900000
A30: AKTIVNOST | B30: A100905 | C30: Održavanje javnih zelenih površina | D30: 1200000 | E30: 1200000 | F30: 1200000
B32: 32 | C32: Materijalni rashodi | D32: 1200000 | E32: 1200000 | F32: 1200000
A33: 113 | B33: 323 | C33: Rashodi za usluge | D33: 1200000
A35: AKTIVNOST | B35: A100906 | C35: Održavanje groblja | D35: 400000 | E35: 400000 | F35: 400000
B37: 32 | C37: Materijalni rashodi | D37: 400000 | E37: 400000 | F37: 400000
A38: 114 | B38: 323 | C38: Rashodi za usluge | D38: 400000
A40: PROGRAM | B40: 1010 | C40: ZAJEDNIČKI RASHODI U FUNKCIJI ODRŽAVANJA KOMUNALNE INFRASTRUKTURE | D40: =D42+D48+D53+D58+D63+D68 -> 990000 | E40: =E42+E48+E53+E58+E63+E68 -> 800000 | F40: =F42+F48+F53+F58+F63+F68 -> 800000
A42: AKTIVNOST | B42: A101001 | C42: Zajedničke usluge u komunalnom gospodarstvu | D42: =D44 -> 350000 | E42: 350000 | F42: 350000
B44: 32 | C44: Materijalni rashodi | D44: =D45+D46 -> 350000 | E44: 350000 | F44: 350000
A45: 115 | B45: 323 | C45: Rashodi za usluge | D45: 200000
A46: 116 | B46: 329 | C46: Ostali nespomenuti rashodi | D46: 150000
A48: PROJEKT | B48: K101001 | C48: Energetska učinkovitost na sustavu javne rasvjete | D48: 100000 | E48: 300000 | F48: 300000
B50: 32 | C50: Materijalni rashodi | D50: 100000 | E50: 300000 | F50: 300000
A51: 117 | B51: 323 | C51: Rashodi za usluge | D51: 100000
A53: PROJEKT | B53: K101002 | C53: Izgradnja ugibališta i autobusnih čekaonica | D53: 100000 | E53: 50000 | F53: 50000
B55: 32 | C55: Materijalni rashodi | D55: 100000 | E55: 50000 | F55: 50000
A56: 118 | B56: 323 | C56: Rashodi za usluge | D56: 100000
A58: PROJEKT | B58: K101003 | C58: Nabavka i ugradnja video - kamera na javnim površinama | D58: 190000 | E58: 0 | F58: 0
B60: 42 | C60: Rashodi za nabavu proizvodne dugotrajne imovine | D60: 190000 | E60: 0 | F60: 0
A61: 119 | B61: 422 | C61: Postrojenja i oprema | D61: 190000
A63: PROJEKT | B63: K101004 | C63: Nabavka urbane opreme | D63: 150000 | E63: 100000 | F63: 100000
B65: 42 | C65: Rashodi za nabavu proizvodne dugotrajne imovine | D65: 150000 | E65: 100000 | F65: 100000
A66: 120 | B66: 422 | C66: Postrojenja i oprema | D66: 150000
A68: PROJEKT | B68: K101005 | C68: Sanacija divljeg deponija u Čitluku | D68: 100000 | E68: 0 | F68: 0
B70: 32 | C70: Materijalni rashodi | D70: 100000 | E70: 0 | F70: 0
A71: 121 | B71: 323 | C71: Rashodi za usluge | D71: 100000
A73: PROGRAM | B73: 1011 | C73: ZAŠTITA OKOLIŠA | D73: =D75+D80+D88 -> 8450000 | E73: =E75+E80+E88 -> 28650000 | F73: =F75+F80+F88 -> 150000
A75: PROJEKT | B75: K101101 | C75: Sanacija odlagališta komunalnog otpada "Mojanka" | D75: 5000000 | E75: 15000000 | F75: 0
B77: 42 | C77: Rashodi za nabavu proizvedene dug. imovine | D77: 5000000 | E77: 15000000 | F77: 0
A78: 122 | B78: 421 | C78: Građevinski objekti | D78: 5000000
A80: PROJEKT | B80: K101102 | C80: Plan gospodarenja otpadom | D80: =D82+D85 -> 950000 | E80: =E82+E85 -> 150000 | F80: =F82+F85 -> 150000
B82: 32 | C82: Materijalni rashodi | D82: 150000 | E82: 150000 | F82: 150000
A83: 123 | B83: 323 | C83: Rashodi za usluge | D83: 150000
B85: 42 | C85: Rashodi za nabavu proizvodne dugotrajne imovine | D85: 800000 | E85: 0 | F85: 0
A86: 124 | B86: 422 | C86: Postrojenja i oprema | D86: 800000
A88: PROJEKT | B88: K101103 | C88: Izgradanja sortirnice | D88: 2500000 | E88: 13500000 | F88: 0
B90: 42 | C90: Rashodi za nabavu proizvodne dugotrajne imovine | D90: 2500000 | E90: 13500000 | F90: 0
A91: 125 | B91: 421 | C91: Građevinski objekti | D91: 2500000
A93: GLAVA 2 | B93: 2010 | C93: PROSTORNO UREĐENJE, GOSPODARSTVO I UPRAVLJANJE IMOVINOM | D93: =D95+D388+D400 -> 40962000 | E93: =E95+E388+E400 -> 20710000 | F93: =F95+F388+F400 -> 17110000
A95: PROGRAM | B95: 1012 | C95: RAZVITAK GOSPODARSTVA I IZGRADNJA KAPITALNIH OBJEKATA | D95: =D97+D103+D108+D115+D121+D127+D132+D137+D142+D147+D152+D157+D162+D167+D172+D177+D182+D190+D198+D203+D208+D213+D218+D223+D228+D233+D238+D243+D248+D253+D258+D263+D268+D273+D278+D283+D288+D293+D298+D303+D308+D313+D318+D323+D328+D333+D338+D343+D348+D353+D358+D363+D368+D373+D378+D383 -> 28320000 | E95: =E97+E103+E108+E115+E121+E127+E132+E137+E142+E147+E152+E157+E162+E167+E172+E177+E182+E190+E198+E203+E208+E213+E218+E223+E228+E233+E238+E243+E248+E253+E258+E263+E268+E273+E278+E283+E288+E293+E298+E303+E308+E313+E318+E323+E328+E333+E338+E343+E348+E353+E358+E363+E368+E373+E378+E383 -> 13610000 | F95: =F97+F103+F108+F115+F121+F127+F132+F137+F142+F147+F152+F157+F162+F167+F172+F177+F182+F190+F198+F203+F208+F213+F218+F223+F228+F233+F238+F243+F248+F253+F258+F263+F268+F273+F278+F283+F288+F293+F298+F303+F308+F313+F318+F323+F328+F333+F338+F343+F348+F353+F358+F363+F368+F373+F378+F383 -> 9010000
A97: AKTIVNOST | B97: A101201 | C97: Priprema razvojnih programa i ostali zajednički rashodi | D97: =D99 -> 450000 | E97: 400000 | F97: 400000
B99: 32 | C99: Materijalni rashodi | D99: =D100+D101 -> 450000 | E99: 400000 | F99: 400000
A100: 126 | B100: 323 | C100: Rashodi za usluge | D100: 300000
A101: 127 | B101: 329 | C101: Ostali nespomenuti rashodi | D101: 150000
A103: AKTIVNOST | B103: A101202 | C103: Katastarska izmjera nerazvrstanih cesta | D103: 200000 | E103: 250000 | F103: 250000
B105: 32 | C105: Materijalni rashodi | D105: 200000 | E105: 250000 | F105: 250000
A106: 128 | B106: 323 | C106: Rashodi za usluge | D106: 200000
A108: AKTIVNOST | B108: A101203 | C108: Poticanje poduzetništva | D108: =D110 -> 920000 | E108: 890000 | F108: 890000
B110: 35 | C110: Subvencije | D110: =D111+D112+D113 -> 920000 | E110: 890000 | F110: 890000
A111: 129 | B111: 351 | C111: Subvencije trgovačkim društvima - Gradsko kino | D111: 120000
A112: 130 | B112: 352 | C112: Subvencije poljoprivrednicima, obrtnicima | D112: 700000
A113: 131 | B113: 352 | C113: Subvencije - Poduzetnički centar | D113: 100000
A115: AKTIVNOST | B115: A101204 | C115: Fond za poticanje zapošljavanja | D115: =D117 -> 250000 | E115: 90000 | F115: 90000
B117: 35 | C117: Subvencije | D117: =D118+D119 -> 250000 | E117: 90000 | F117: 90000
A118: 132 | B118: 352 | C118: Subvencije trgovačkim društvima, poljoprivrednicima i obrtnicima izvan javnog sektora | D118: 200000
A119: 133 | B119: 352 | C119: Subvencije kamata na poduzetničke kredite | D119: 50000
A121: AKTIVNOST | B121: A101205 | C121: Uređenje mrtvačnice i uređenje groblja | D121: =D123 -> 100000 | E121: 100000 | F121: 100000
B123: 32 | C123: Materijalni rashodi | D123: =D124+D125 -> 100000 | E123: 100000 | F123: 100000
A124: 134 | B124: 323 | C124: Rashodi za usluge | D124: 80000
A125: 135 | B125: 329 | C125: Ostali nespomenuti rashodi poslovanja | D125: 20000
A127: AKTIVNOST | B127: A101206 | C127: Zakup Galerije u okviru Alkarski dvora | D127: 330000 | E127: 330000 | F127: 330000
B129: 32 | C129: Materijalni rashodi | D129: 330000 | E129: 330000 | F129: 330000
A130: 136 | B130: 323 | C130: Rashodi za usluge | D130: 330000
A132: PROJEKT | B132: K101201 | C132: Rasvjeta, opremanje i uređenje Alkarskih dvora | D132: 700000 | E132: 0 | F132: 0
B134: 38 | C134: Ostali rashodi | D134: 700000 | E134: 0 | F134: 0
A135: 137 | B135: 382 | C135: Kapitalne donacije | D135: 700000
A137: PROJEKT | B137: K101202 | C137: Rekonstrukcija Centra za razvoj Sinjska alka | D137: 0 | E137: 0 | F137: 0
B139: 42 | C139: Rashodi za nabavu dugotrajne imovine | D139: 0 | E139: 0 | F139: 0
A140: 138 | B140: 421 | C140: Građevinski objekti | D140: 0
A142: PROJEKT | B142: K101203 | C142: Gospodarska zona Kukuzovac | D142: 2000000 | E142: 3000000 | F142: 3000000
B144: 38 | C144: Ostali rashodi | D144: 2000000 | E144: 3000000 | F144: 3000000
A145: 139 | B145: 386 | C145: Kapitalne pomoći GZK | D145: 2000000
A147: PROJEKT | B147: K101204 | C147: Kupnja nekretnina | D147: 300000 | E147: 300000 | F147: 300000
B149: 41 | C149: Rashodi za nabavu neproizvedene dugotrajne imovine | D149: 300000 | E149: 300000 | F149: 300000
A150: 140 | B150: 411 | C150: Materijalna imovina, prirodno bogatsvo - zemljište | D150: 300000
A152: PROJEKT | B152: K101205 | C152: Izgradnja nogostupa Put Pavića | D152: 200000 | E152: 1500000 | F152: 0
B154: 42 | C154: Rashodi za nabavu proizvodne dugotrajne imovine | D154: 200000 | E154: 1500000 | F154: 0
A155: 141 | B155: 421 | C155: Građevinski objekti | D155: 200000
A157: PROJEKT | B157: K101206 | C157: Izgradnja nogostupa od Zorke Macana do spomenika Radošić Gornji | D157: 100000 | E157: 0 | F157: 0
B159: 42 | C159: Rashodi za nabavu proizvedene dug. imovine | D159: 100000 | E159: 0 | F159: 0
A160: 142 | B160: 426 | C160: Ostala nematerijalna imovina | D160: 100000
A162: PROJEKT | B162: K101207 | C162: Izgradnja štala na Hipodromu | D162: 800000 | E162: 0 | F162: 0
B164: 42 | C164: Rashodi za nabavu proizvedene dugotrajne impovine | D164: 800000 | E164: 0 | F164: 0
...

Sheet Plan razv 2019 
A1: III. PLAN RAZVOJNIH PROGRAMA
A3: Članak 5.
A5: Plan razvojnih programa prikazuje planirane rashode vezane uz provođenje investicija i davanje kapitalne pomoći i donacija za razdoblje 2020. - 2022. godine.
A7: Odsjek: Gradska uprava
B8: OPIS RAZVOJNOG PROGRAMA
A9: STRATEŠKI CILJ | C9: NAZIV MJERE | D9: PROGRAM U PRORAČUNU | E9: AKTIVNOST/ PROJEKT | F9: ŠIFRA PROJEKTA | G9: PRORAČUN 2020.G. | H9: PROJEKCIJA 2021.G. | I9: PROJEKCIJA 2022.G.
B11: Troškovi nabavke razne računalne i telekomunikacijske opreme Nabavka službenog vozila | C11: Efikasna lokalna samouprava Efikasna lokalna samouprava | D11: Javna uprava i administracija Javna uprava i administracija | E11: Obnova uredskih prostorija i opreme nabavka službenog vozila | F11: K100101 | G11: 70000 | H11: 70000 | I11: 70000
A13: CILJ BR 1.Jačanje ljudskih resursa | B13: Ulaganje u računalne programe | C13: Efikasna lokalna samouprava Efikasna lokalna samouprava | D13: Javna uprava i administracija Javna uprava i administracija | E13: Transparentni Grad | F13: K100102 | G13: 200000 | H13: 0 | I13: 0
A15: Ukupno Gradska uprava: | G15: =G13+G11 -> 270000 | H15: =H11+H13 -> 70000 | I15: =I11+I13 -> 70000
A17: Odsjek: Društvenih djelatnosti
B18: Završetak projekta sanacije i rekonstrukcije Tvrđave Grad uz potporu Ministarstva kulture RH | C18: Zaštita kulturno povijesne baštine | D18: Program kulture | E18: Sanacija Gradske tvrđave | F18: K100301 | G18: 300000 | H18: 0 | I18: 0
A19: CILJ BR. 4. Kontinuitet jedinstvenog kulturnog identiteta
B20: Promicanje istine o Domovinskom ratu | C20: Uređenje spomen sobe u čast poginulim Hrvatskim braniteljima iz Domovinskog rata | D20: Program kulture | E20: Izgradnja spomen prostora poginulim braniteljima Domovinskog rata Cetinske krajine | F20: K100302 | G20: 150000 | H20: 0 | I20: 0
B21: Ulaganje u infrastrukturu | C21: Zaštita kulturne baštine | D21: Program kulture | E21: Sanacija , rekonstrukcija zgrade Prve Franjevače klasične Gimazije u Sinju | F21: K100303 | G21: 300000 | H21: 0 | I21: 0
B22: Dovršetak uređenja infrastrukture kod Spomenika | C22: Uređenje prostora kod Spomenika | D22: Program kulture | E22: Uređenje platoa kod Spomenika Alkaru na Alkarskom trkalištu | F22: K100304 | G22: 900000 | H22: 0 | I22: 0
A23: Ukupno Društvene djelatnosti: | G23: =G19+G20+G21+G22 -> 1350000 | H23: =H19+H20+H21+H22 -> 0 | I23: =I19+I20+I22 -> 0
A24: Ukupno Razdjel 1: | G24: =G15+G23 -> 1620000 | H24: =H15+H23 -> 70000 | I24: =I15+I23 -> 70000
A26: Odsjek: Komunalno gospodarstvo
A28: STRATEŠKI CILJ | B28: OPIS RAZVOJNOG PROGRAMA | C28: NAZIV MJERE | D28: PROGRAM U PRORAČUNU | E28: AKTIVNOST/ PROJEKT | F28: ŠIFRA PROJEKTA | G28: PRORAČUN 2020. | H28: PROJEKCIJA 2021.G. | I28: PROJEKCIJA 2022.G.
B30: Daljnja provedba programa energetske učinkovitosti na sustavu javne rasvjete | C30: Učinkovito gospodarenje energijom | D30: Zajednički rashodi u funkciji održavanja komunalne infrastrukture | E30: Energetska učinkovitost na sustavu javne rasvjete | F30: K101001 | G30: 100000 | H30: 300000 | I30: 300000
B31: Daljnji razvitak komunalne infrastrukture | C31: Učinkovito gospodarenje komunalnim resursima | D31: Zajednički rashodi u funkciji održavanja komunalne infrastrukture | E31: Nabavka i ugradnja video - kamera na javnim površinama | F31: K101003 | G31: 190000 | H31: 0 | I31: 0
B32: Nabavka programa radi efikasnijeg upravljanja u lokalnoj samoupravi | C32: Unapređenje i pružanje informacija u komunalnom gospodarstvu | D32: Zajednički rashodi u funkciji održavanja komunalne infrastrukture | E32: Nabavka urbane opreme | F32: K101104 | G32: 150000 | H32: 100000 | I32: 100000
A33: CILJ BR. 2. Izgrađeni i usklađeni infrastrukturni i prirodni resursi kao osnovni preduvjet kvalitete života | B33: Ishođenje građevinske dozvole, raspisivanje natječaja za sanaciju, odabir izvođača i početak radova na sanaciji | C33: Zaštita okoliša i gospodarenje otpadom | D33: Zaštita okoliša | E33: Sanacija odlagališta komunalnog otpada Mojanka | F33: K101101 | G33: 5000000 | H33: 15000000 | I33: 0
B34: Nabava opreme za odvojeno skupljanje otpada | C34: Zaštita okoliša i gospodarenje otpadom | D34: Zaštita okoliša | E34: Plan gospodarenja otpadom | F34: K101102 | G34: 950000 | H34: 150000 | I34: 150000
B35: Stvaranje uvjeta za odvojeno prikupljanje otpada | C35: Zaštita okoliša i gospodarenje otpadom | D35: Zaštita okoliša | E35: Izgradnja sortirnice projektna dokumentacija | F35: K101103 | G35: 2500000 | H35: 13500000 | I35: 0
A36: Ukupno Komunalno gospodarstvo: | G36: =G30+G31+G32+G33+G34+G35 -> 8890000 | H36: =H30+H31+H32+H33+H34+H35 -> 29050000 | I36: =I30+I31+I32+I33+I34+I35 -> 550000
A48: Odsjek: Prostorno uređenje, gospodarstvo i upravljanje imovinom
G49: PRORAČUN 2020.G. | H49: PROJEKCIJA 2021.G. | I49: PROJEKCIJA 2022.G.
A50: CILJ BR. 1. Kvalitetni i dinamički ljudski resursi, kao aktivni nositelji sadašnjosti i budućnosti Grada Sinja | B50: Ulaganje u športsko rekreacijsku kulturu i stvaranje športsko rekreativnih programa | C50: Izgradnja štala i njeno stavljanje u funkciju | D50: Program razvitka gospodarstva i izgradnja kapitalnih projekata | E50: Izgradnja štala na Hipodromu | F50: K101207 | G50: 800000 | H50: 0 | I50: 0
B51: Ulaganje u športsko rekreacijsku kulturu i stvaranje športsko rekreativnih programa | C51: Omogućavanje nadvodnjavanja na športskim terenima | D51: Program razvitka gospodarstva i izgradnja kapitalnih projekata | E51: Nabavka pumpi za nadvodnjavanje športskih terena iz bušotina | F51: K101226 | G51: 500000 | H51: 0 | I51: 0
B52: Ulaganje u športsko rekreacijsku kulturu i stvaranje športsko rekreativnih programa | C52: Uređenje prostora Aerodrom | D52: Program razvitka gospodarstva i izgradnja kapitalnih projekata | E52: Izrada ograde oko Sinjskog Aerodroma | F52: K101228 | G52: 700000 | H52: 0 | I52: 0
B53: Ulaganje u osnovno školstvo | C53: Izrada projektne dokumentacije | D53: Program razvitka gospodarstva i izgradnja kapitalnih projekata | E53: Izgradnja osnovne glazbene škole Jakova Gotovca u Sinju | F53: K101231 | G53: 200000 | H53: 0 | I53: 0
B54: Ulaganje u športsko rekreacijsku kulturu i stvaranje športsko rekreativnih programa | C54: Uređenje športskih terena | D54: Program razvitka gospodarstva i izgradnja kapitalnih projekata | E54: Izgradnja velikog igrališta sa umjetnom travom uz gradski stadion NK Junak | F54: K101233 | G54: 2000000 | H54: 0 | I54: 0
B55: Ulaganje u vjersku infrastrukturu | C55: Suradnja sa vjerskim zajednicama | D55: Program razvitka gospodarstva i izgradnja kapitalnih projekata | E55: Izgradnja Crkve na Radošiću - projektna dokumentacija | F55: K101240 | G55: 300000 | H55: 0 | I55: 0
A56: CILJ BR.2.
A57: Izgrađeni i usklađeni infrastrukturni i prirodni resursi kao osnovni preduvjet kvalitete života | B57: Rješavanje imovinsko pravnih odnosa za potrebe realizacije projekata | C57: Razvoj komunalne infrastrukture | D57: Razvitak gospodarstva i izgradnja kap.objekata | E57: Kupnja nekretnine | F57: K101204 | G57: 300000 | H57: 300000 | I57: 300000
B58: Nastavak izgradnje nogostupa Put Pavića | C58: Razvoj lokalne cestovne infrastrukture | D58: Razvitak gospodarstva i izgradnja kap.objekata | E58: Izgradnja nogostupa Put Pavića | F58: K101205 | G58: 200000 | H58: 1500000 | I58: 0
B59: Razvoj cestovne infrastrukture | C59: Kvalitetna prometna povezanost – sigurnost u prometu | D59: Razvitak gospodarstva i izgradnja kap.objekata | E59: Izgradnja nogostupa od Zorke Macana do spomenika Radošić Gornji | F59: K101206 | G59: 100000 | H59: 0 | I59: 0
B60: Izrada prostorno planske dokumentacije | C60: Daljnja detaljna razrada planova dijelova Grada | D60: Razvitak gospodarstva i izgradnja kap.objekata | E60: Izrada prostornih planova | F60: K101208 | G60: 250000 | H60: 200000 | I60: 200000
B61: Poticanje energetske učinkovitosti | C61: Provedba programa energetske učinkovitosti na objektima u vlasništvu Grada | D61: Razvitak gospodarstva i izgradnja kap.objekata | E61: Sustav energetske učinkovitosti na objektima u vlasništvu Grada | F61: K101209 | G61: 150000 | H61: 2000000 | I61: 3000000
B62: Razvoj infrastrukture | C62: Povećanje broja grobnih mjesta | D62: Razvitak gospodarstva i izgradnja kap.objekata | E62: Uređenje parking prostora uz groblje u Brnazama | F62: K101210 | G62: 100000 | H62: 0 | I62: 0
B63: Razvoj infrastrukture | C63: Povećanje broja grobnih mjesta | D63: Razvitak gospodarstva i izgradnja kap.objekata | E63: Proširenje groblja u Turjacima | F63: K101211 | G63: 500000 | H63: 1000000 | I63: 0
B64: Razvoj lokalne cestovne infrastruture | C64: Kvalitetna prometna povezanost – sigurnost u prometu | D64: Razvitak gospodarstva i izgradnja kap.objekata | E64: Izgradnja nogostupa sa biciklističkom stazom nastavak do Aerodroma | F64: K101214 | G64: 1000000 | H64: 900000 | I64: 0
B65: Razvoj lokalne cestovne infrastrukture | C65: Razvoj komunalne infrastrukture | D65: Razvitak gospodarstva i izgradnja kap. objekata | E65: Izgradnja sabirne ulice u Ex Vojarni Ivaniše Nelipića | F65: K101216 | G65: 4500000 | H65: 0 | I65: 0
B66: Razvoj komun alne infrastrukture | C66: Povećanje broja grobnih mjesta | D66: Razvitak gospodarstva i izgradnja kap. objekata | E66: Uređenje nove lokacije na izgradnji groblja Jasensko - Karakašica | F66: K101218 | G66: 150000 | H66: 1000000 | I66: 0
B67: Razvoj cestovne infrastrukture | C67: Kvalitetna povezanost zbog bržeg i sigurnijeg odvijanja prometa | D67: Razvitak gospodarstva i izgradnja kap. objekata | E67: Rekonstrukcija ceste s nogostupom od škole do Masnića | F67: K101219 | G67: 3200000 | H67: 0 | I67: 0
B68: Razvoj cestovne infrastruture | C68: Kvalitetna povezanost zbog bržeg i sigurnijeg odvijanja prometa | D68: Razvitak gospodarstva i izgradnja kap. objekata | E68: Završetak izgradnje nogostupa u Čitluku | F68: K101220 | G68: 200000 | H68: 0 | I68: 0
B69: Razvoj cestovne infrastruture | C69: Kvalitetna povezanost zbog bržeg i sigurnijeg odvijanja prometa | D69: Razvitak gospodarstva i izgradnja kap. objekata | E69: Izgradnj nogostupa Privija - Šuća | F69: K101222 | G69: 300000 | H69: 0 | I69: 0
... B74: Nastavak projekta rekonstrukcije te proširenje vodoopskrbe i odvodnje u sustavu aglomeracije Sinj | C74: Razvoj komunalne infrastrukture | D74: Financiranje projekta iz fondova EU | E74: Priprema projekata za sufinanciranje izgradnje integriranog sustava odvodnje i strukturnih fondova EU | F74: K101302 | G74: 2500000 | H74: 7000000 | I74: 8000000
A75: CILJ BROJ. 3.
A76: Održivo i konkurentno gospodarstvo, kao osnova ekonomske dinamike urbane cjeline | B76: Poboljšanje poslovne infrastrukture i potpora poduzetnicima | C76: Uspostava razvojnog centra | D76: Razvitak gospodarstva i izgradnja kap.objekata | E76: Centar za razvoj Sinjska Alka | F76: K101202 | G76: 0 | H76: 0 | I76: 0
B77: Ulaganje u daljnji razvoj GZK | C77: Osiguranje potpore poduzetnicima | D77: Razvitak gospodarstva i izgradnja kap.objekata | E77: Gospodarska zona Kukuzovac | F77: K101203 | G77: 2000000 | H77: 3000000 | I77: 3000000
B78: =B76 -> Poboljšanje poslovne infrastrukture i potpora poduzetnicima | C78: Razvoj komunalne infrastrukture | D78: =D77 -> Razvitak gospodarstva i izgradnja kap.objekata | E78: Uređenje Sinjskog pazara | F78: K101217 | G78: 150000 | H78: 1000000 | I78: 0
B79: Poboljšanje poslovne infrastrukture i potpora poduzetnicima | C79: Osiguranje potpore poduzetnicima | D79: Razvitak gospodarstva i izgradnja kap.objekata | E79: Izgradnja poduzetničkog inkubatora u GZK | F79: K101229 | G79: 200000 | H79: 0 | I79: 0
I80: ,
B82: Ulaganje u infrastrukturu u kulturi i kulturna ponuda | C82: Strateško upravljanje s kulturno povijesnim nasljeđem | D82: Razvitak gospodarstva i izgradnja kapitalnih projekata | E82: Rasvjeta, opremanje i uređenja Alkarskih dvora | F82: K101201 | G82: 700000 | H82: 0 | I82: 0
A83: CILJ BR 4. Kontinuitet jedinstvenog kulturnog indetiteta zajednice | B83: Ulaganje u infrastrukturu u kulturi | C83: Zaštita i turistička valorizacija kulturno povijesne baštine | D83: EU projekt - Obnova kulturne baštine u Sinju | E83: Sinjska Alka - nabavka tribina | F83: K101405 | G83: 418000 | H83: 0 | I83: 0
B84: Ulaganje u infrastrukturu u kulturi | C84: Zaštita i turistička valorizacija kulturno povijesne baštine | D84: EU projekt - Obnova kulturne baštine u Sinju | E84: Nabavka replika Alkarskih odora | F84: K101406 | G84: 480000 | H84: 0 | I84: 0
B85: Ulaganje u infrastrukturu u kulturi | C85: Zaštita i turistička valorizacija kulturno povijesne baštine | D85: EU projekt - Obnova kulturne baštine u Sinju | E85: Nabavka LED ekrana za Sinjsku Alku | F85: K101407 | G85: 210000 | H85: 0 | I85: 0
B86: Ulaganje u infrastrukturu u kulturi | C86: Unapređenje turističke ponude rekreacijskih aktivnosti | D86: EU projekt - Obnova kulturne baštine u Sinju | E86: Izgradnja interpretacijsko - edukacijskog centra Sinjska Alka | F86: K101409 | G86: 6500000 | H86: 0 | I86: 0
B87: Ulaganje u infrastrukturu u kulturi | C87: Unapređenje turističke ponude rekreacijskih aktivnosti | D87: EU projekt - Obnova kulturne baštine u Sinju | E87: Rekonstrukcija ulica i opremanje urbanističke cijeline Sinj | F87: K101410 | G87: 0 | H87: 0 | I87: 0
B88: Ulaganje u infrastrukturu u kulturi | C88: Unapređenje turističke ponude rekreacijskih aktivnosti | D88: EU projekt - Obnova kulturne baštine u Sinju | E88: Oprema za zgradu Palacine | F88: K101413 | G88: 600000 | H88: 0 | I88: 0
B89: Ulaganje u infrastrukturu u kulturi | C89: Unapređenje turističke ponude rekreacijskih aktivnosti | D89: EU projekt - Obnova kulturne baštine u Sinju | E89: Opremanje Muzeja Cetinske krajine | F89: K101422 | G89: 600000 | H89: 0 | I89: 0
A90: Ukupno Odsjek gospodarstvo: | G90: =G50+G51+G52+G53+G54+G55+G57+G58+G59+G60+G61+G62+G63+G64+G65+G66+G67+G68+G69+G70+G71+G72+G73+G74+G76+G77+G78+G79+G82+G83+G84+G85+G86+G87+G88+G89 -> 33008000 | H90: =H50+H51+H52+H53+H54+H55+H57+H58+H59+H60+H61+H62+H63+H64+H65+H66+H67+H68+H69+H70+H71+H72+H73+H74+H76+H77+H78+H79+H82+H83+H84+H85+H86+H87+H88+H89 -> 17950000 | I90: =I50+I51+I52+I53+I54+I55+I57+I58+I59+I60+I61+I62+I63+I64+I65+I66+I67+I68+I69+I70+I71+I72+I73+I74+I76+I77+I78+I79+I82+I83+I84+I85+I86+I87+I88+I89 -> 14550000
A91: Ukupno Razdjel 2: | G91: =G90+G36 -> 41898000 | H91: =H90+H36 -> 47000000 | I91: =I90+I36 -> 15100000
A92: Ukupno Plan razvojnih programa : | G92: =G91+G24 -> 43518000 | H92: =H91+H24 -> 47070000 | I92: =I91+I24 -> 15170000
A94: Članak 6.
A96: Ovaj Proračun objavit će se u Službenom glasniku Grada Sinja, a stupa na snagu 01.01.2020. godine
A98: Gradsko vijeće Grada Sinja
A99: Klasa: 400-06/19-01/5
A100: Ur.broj: 2175/01-01-19-8
A101: Sinj, prosinac 2019. godine
A103: Potpredsjednik Gradskog vijeća:
A104: Anđelko Bilandžić
