Workbook

Sheet Naslovna
B3: Na temelju članka 39. Zakona o proračunu ("Narodne novine" br. 87/08, 136/12 i 15/15) i članka 34. Statuta Grada Sinja ("Službeni glasnik Grada Sinja" br. 2/21) Gradsko vijeće Grada Sinja na 8.sjednici održanoj 29. prosinca 2021.g. donijelo je
B6: PRORAČUN GRADA SINJA ZA 2022. GODINU S PROJEKCIJAMA ZA 2023. i 2024. GODINU
B9: I. OPĆI DIO
B11: Članak 1.
B13: Proračun Grada Sinja za 2022. godinu (u daljnjem tekstu Proračun) s projekcijama za 2023. i 2024. godinu sastoji se od:
C15: A | D15: RAČUN PRIHODA I RASHODA | E15: Proračun 2022.g. | F15: Projekcija 2023. | G15: Projekcija 2024.
D16: Prihodi poslovanja | E16: =Prihodi!C7 -> 98613000 | F16: =Prihodi!D7 -> 113000000 | G16: =Prihodi!E7 -> 115100000
D17: Prihodi od prodaje nefinancijske imovine | E17: =Prihodi!C38 -> 700000 | F17: =Prihodi!D38 -> 1000000 | G17: =Prihodi!E38 -> 700000
D18: Rashodi poslovanja | E18: =Rashodi!C7 -> 100410000 | F18: =Rashodi!D7 -> 89345000 | G18: =Rashodi!E7 -> 87235000
D19: Rashodi za nabavu nefinancijske imovine | E19: =Rashodi!C43 -> 23290000 | F19: =Rashodi!D43 -> 24855000 | G19: =Rashodi!E43 -> 28765000
D20: Razlika višak / manjak | E20: -24387000 | F20: -200000 | G20: -200000
C22: B | D22: RAČUN FINANCIRANJA | E22: Proračun 2022. | F22: Projekcija 2023. | G22: Projekcija 2024.
D23: Primici od financijske imovine i zaduživanja | E23: 300000 | F23: 200000 | G23: 200000
D24: Izdaci za financijsku imovinu i otplate zajmova
D25: NETO FINANCIRANJE | E25: 300000 | F25: 200000 | G25: 200000
C27: C | D27: Ukupan donos viška koji će se rasporediti u 2022.g. | E27: 24087000 | F27: 0 | G27: 0
C29: D | D29: Višak / manjak + neto financiranje (A-B+C) | E29: 0 | F29: 0 | G29: 0
E31: Članak 2.
B33: U proračunsku zalihu Proračuna Grada Sinja izdvaja se 350.000,00 kn.
E35: Članak 3.
B37: Prihodi i rashodi, te primici i izdaci po ekonomskoj klasifikaciji, utvrđuju se u Računu prihoda i rashoda i Računu financiranja za 2022.g, kako slijedi:

Sheet Prihodi
A1: A. PRIHODI POSLOVANJA
A3: Konto | B3: Opis prihoda | C3: Proračun 2022. | D3: Projekcija 2023. | E3: Projekcija 2024.
B5: PRIHODI UKUPNO (6+7) | C5: =C7+C38 -> 99313000 | D5: =D7+D38 -> 114000000 | E5: =E7+E38 -> 115800000
A7: 6 | B7: PRIHODI | C7: =C9+C14+C21+C26+C31+C35 -> 98613000 | D7: =D9+D14+D21+D26+D31+D35 -> 113000000 | E7: =E9+E14+E21+E26+E31+E35 -> 115100000
A9: 61 | B9: PRIHODI OD POREZA | C9: =C10+C11+C12 -> 34600000 | D9: 38200000 | E9: 39000000
A10: 611 | B10: Porez i prirez na dohodak | C10: 32000000
A11: 613 | B11: Porezi na imovinu | C11: 2500000
A12: 614 | B12: Porezi na robu i usluge | C12: 100000
A14: 63 | B14: POMOĆI | C14: =C15+C16+C17+C18+C19 -> 48700000 | D14: 53900000 | E14: 55000000
A15: 633 | B15: Pomoći proračunu iz drugih proračuna | C15: 26000000
A16: 634 | B16: Pomoći od izvanproračunskih korisnika | C16: 5000000
A17: 635 | B17: Tekuće pomoći izravnanja za decentralizirane funkcije | C17: 2400000
A18: 636 | B18: Pomoći proračunskim korisnicima iz proračuna koji im nije nadležan | C18: 800000
A19: 638 | B19: Pomoći temeljem prijenosa EU sredstava | C19: 14500000
A21: 64 | B21: PRIHODI OD IMOVINE | C21: =C22+C23+C24 -> 1403000 | D21: 2000000 | E21: 2100000
A22: 641 | B22: Prihodi od financijske imovine | C22: 73000
A23: 642 | B23: Prihodi od nefinancijske imovine | C23: 1325000
A24: 643 | B24: Prihodi od kamata na dane zajmove | C24: 5000
A26: 65 | B26: PRIHODI OD UPRAVNIH I ADMINISTRATIVNIH PRISTOJBI, PRISTOJBI PO POSEBNIM PROPISIMA I NAKNADA | C26: =C27+C28+C29 -> 8600000 | D26: 12000000 | E26: 12000000
A27: 651 | B27: Administrativne (upravne) pristojbe | C27: 200000
A28: 652 | B28: Prihodi po posebnim propisima | C28: 2400000
A29: 653 | B29: Komunalni doprinos i naknada | C29: 6000000
A31: 66 | B31: PRIHODI OD PRODAJE PROIZVODA I ROBA | C31: =C32+C33 -> 450000 | D31: 1000000 | E31: 1000000
A32: 661 | B32: Prihod od prodaje proizvoda i roba | C32: 420000
A33: 663 | B33: Donacije od pravnih i fizičkih osoba izvan općeg proračuna | C33: 30000
A35: 68 | B35: KAZNE, UPRAVNE MJERE I OSTALI PRIHODI | C35: =C36 -> 4860000 | D35: 5900000 | E35: 6000000
A36: 683 | B36: Ostali nespomenuti prihodi | C36: 4860000
A38: 7 | B38: PRIHOD OD PRODAJE NEFINANCIJSKE IMOVINE | C38: =C40+C43 -> 700000 | D38: =D40+D43 -> 1000000 | E38: =E40+E43 -> 700000
A40: 71 | B40: Prihod od prodaje neproizvedene imovine | C40: 400000 | D40: 700000 | E40: 400000
A41: 711 | B41: Prihod od prodaje materijalne imovine - prirodnih bogatstava | C41: 400000
A43: 72 | B43: Prihod od proizvedene imovine | C43: 300000 | D43: 300000 | E43: 300000
A44: 721 | B44: Prihod od prodaje građevinskih objekata | C44: 300000

Sheet Rashodi
A1: B. RASHODI POSLOVANJA
A3: Konto | B3: Opis rashoda | C3: Proračun 2022.g. | D3: Projekcija 2023. | E3: Projekcija 2024.
B5: RASHODI POSLOVANJA (3+4) | C5: =C7+C43 -> 123700000 | D5: =D7+D43 -> 114200000 | E5: =E7+E43 -> 116000000
A7: 3 | B7: RASHODI POSLOVANJA | C7: =C9+C14+C21+C24+C28+C33+C36 -> 100410000 | D7: =D9+D14+D21+D24+D28+D33+D36 -> 89345000 | E7: =E9+E14+E21+E24+E33+E28+E36 -> 87235000
A9: 31 | B9: Rashodi za zaposlene | C9: =SUM(C10:C12) -> 24974000 | D9: 23384000 | E9: 22664000
A10: 311 | B10: Plaće | C10: 20174000
A11: 312 | B11: Ostali rashodi za zaposlene | C11: 1234000
A12: 313 | B12: Doprinosi na plaće | C12: 3566000
A14: 32 | B14: Materijalni rashodi | C14: =SUM(C15:C19) -> 30278000 | D14: 25748000 | E14: 24648000
A15: 321 | B15: Naknade troškova zaposlenima | C15: 983000
A16: 322 | B16: Rashodi za materijal i energiju | C16: 5125000
A17: 323 | B17: Rashodi za usluge | C17: 21580000
A18: 324 | B18: Naknada troškova osobama izvan radnog odnosa | C18: 0
A19: 329 | B19: Ostali nespomenuti rashodi | C19: 2590000
A21: 34 | B21: Financijski rashodi | C21: =C22 -> 208000 | D21: 208000 | E21: 208000
A22: 343 | B22: Ostali financijski rashodi | C22: 208000
A24: 35 | B24: Subvencije | C24: =C25+C26 -> 1910000 | D24: 1250000 | E24: 1250000
A25: 351 | B25: Subvencije trgovačkim društvima u javnom sektoru | C25: 100000
A26: 352 | B26: Subvencije trgovačkim društvima, poljoprivrednicima i obrtnicima izvan javnog sektora | C26: 1810000
A28: 36 | B28: Pomoći dane u inozemstvo i unutar općeg proračuna | C28: =C29+C30+C31 -> 1675000 | D28: 100000 | E28: 100000
A29: 363 | B29: Pomoći unutar općeg proračuna | C29: 1575000
A30: 366 | B30: Pomoći proračunskim korisnicima drugih proračuna | C30: 100000
A31: 368 | B31: Pomoći temeljem prijenosa EU sredstava | C31: 0
A33: 37 | B33: Naknade građanima i kućanstvima iz proračuna | C33: =C34 -> 13800000 | D33: 12200000 | E33: 12000000
A34: 372 | B34: Naknade građanima i kućanstvima iz proračuna | C34: 13800000
A36: 38 | B36: Donacije i ostali rashodi | C36: =SUM(C37:C41) -> 27565000 | D36: 26455000 | E36: 26365000
A37: 381 | B37: Tekuće donacije | C37: 15305000
A38: 382 | B38: Kapitalne donacije | C38: 3910000
A39: 383 | B39: Kazna, penali i naknade štete | C39: 300000
A40: 385 | B40: Izvanredni rashodi | C40: 350000
A41: 386 | B41: Kapitalne pomoći | C41: 7700000
A43: 4 | B43: RASHODI ZA NABAVU NEFINANCIJSKE IMOVINE | C43: =C44+C48 -> 23290000 | D43: =D44+D48 -> 24855000 | E43: =E44+E48 -> 28765000
A44: 41 | B44: Rashodi za nabavu neproizvedene imovine | C44: =C45+C46 -> 4500000 | D44: 1100000 | E44: 1100000
A45: 411 | B45: Materijalna imovina | C45: 1000000
A46: 412 | B46: Nematerijalna imovina | C46: 3500000
A48: 42 | B48: Rashodi za nabavu proizvedene dugotrajne imovine | C48: =SUM(C49:C53) -> 18790000 | D48: 23755000 | E48: 27665000
A49: 421 | B49: Građevinski objekti | C49: 14730000
A50: 422 | B50: Postrojenja i oprema | C50: 3040000
A51: 423 | B51: Prijevozna sredstva | C51: 120000
A52: 424 | B52: Knjige | C52: 180000
A53: 426 | B53: Nematerijalna proizvedena imovina | C53: 720000

Sheet Funk. klasifikacija
A1: RASHODI PO FUNKCIJSKOJ KLASIFIKACIJI
A2: Oznaka | B2: Plan 2022. | C2: Projekcija 2023. | D2: Projekcija 2024.
A3: RASHODI - FUNKCIJSKA KLASIFIKACIJA | B3: =B5+B34 -> 123700000 | C3: =C5+C34 -> 114200000 | D3: =D5+D34 -> 116000000
A5: Funk.klas. 0 Javnost | B5: =B6+B8+B10+B15+B19+B25+B27+B31 -> 112147000 | C5: =C6+C8+C10+C15+C19+C25+C27+C31 -> 106830000 | D5: =D6+D8+D10+D15+D19+D25+D27+D31 -> 108430000
A6: Funk.klas. 01 OPĆE JAVNE USLUGE | B6: =B7 -> 14695000 | C6: =C7 -> 15595000 | D6: =D7 -> 15595000
A7: Funk.klas. 011 Izvršna i zakonodavna tijela, financijski i fiskalni poslovi, vanjski poslovi | B7: 14695000 | C7: 15595000 | D7: 15595000
A8: Funk.klas. 03 JAVNI RED I SIGURNOST | B8: =B9 -> 6705000 | C8: =C9 -> 6755000 | D8: =D9 -> 6755000
A9: Funk.klas. 032 Usluge protupožarne zaštite | B9: 6705000 | C9: 6755000 | D9: 6755000
A10: Funk.klas. 04 EKONOMSKI POSLOVI | B10: =B11+B12+B13+B14 -> 17180000 | C10: =C11+C12+C13+C14 -> 17740000 | D10: =D11+D12+D13+D14 -> 20270000
A11: Funk.klas. 042 Poljoprivreda, šumarstvo, ribarstvo i lov | B11: 300000 | C11: 500000 | D11: 500000
A12: Funk.klas. 045 Promet | B12: 11230000 | C12: 10290000 | D12: 12780000
A13: Funk.klas. 047 Turizam | B13: 800000 | C13: 2400000 | D13: 2400000
A14: Funk.klas. 049 Ekonomski poslovi koji nisu drugdje svrstani | B14: 4850000 | C14: 4550000 | D14: 4590000
A15: Funk.klas. 05 ZAŠTITA OKOLIŠA | B15: =B16+B17+B18 -> 15810000 | C15: =C16+C17+C18 -> 14300000 | D15: =D16+D17+D18 -> 19950000
A16: Funk.klas. 051 Gospodarenje otpadom | B16: 8110000 | C16: 6700000 | D16: 11850000
A17: Funk.klas. 052 Gospodarenje otpadnim vodama | B17: 7300000 | C17: 7200000 | D17: 7700000
A18: Funk.klas. 056 Poslovi i usluge zaštite okoliša koji nisu drugdje svrstani | B18: 400000 | C18: 400000 | D18: 400000
A19: Funk.klas. 06 USLUGE UNAPREĐENJA STANOVANJA I ZAJEDNICE | B19: =B20+B21+B22+B23+B24 -> 9640000 | C19: =C20+C21+C22+C23+C24 -> 11929000 | D19: =D20+D21+D22+D23+D24 -> 11295000
A20: Funk.klas. 061 Razvoj stanovanja | B20: 2600000 | C20: 2600000 | D20: 2600000
A21: Funk.klas. 062 Razvoj zajednice | B21: 1440000 | C21: 2240000 | D21: 1850000
A22: Funk.klas. 063 Opskrba vodom | B22: 500000 | C22: 800000 | D22: 800000
A23: Funk.klas. 064 Ulična rasvjeta | B23: 2850000 | C23: 3350000 | D23: 3550000
A24: Funk.klas. 066 Rashodi vezani za stanovanje i kom.pogodnosti koji nisu drugdje svrstani | B24: 2250000 | C24: 2939000 | D24: 2495000
A25: Funk.klas. 07 ZDRAVSTVO | B25: =B26 -> 500000 | C25: =C26 -> 0 | D25: =D26 -> 0
A26: Funk.klas. 075 Istraživanje i razvoj zdravstva | B26: 500000 | C26: 0 | D26: 0
A27: Funk.klas. 08 REKREACIJA, KULTURA, RELIGIJA | B27: =B28+B29+B30 -> 18640000 | C27: =C28+C29+C30 -> 15306000 | D27: =D28+D29+D30 -> 13550000
A28: Funk.klas. 081 Službe rekreacije i sporta | B28: 13180000 | C28: 9936000 | D28: 9080000
A29: Funk.klas. 082 Službe kulture | B29: 4725000 | C29: 4635000 | D29: 3735000
A30: Funk.klas. 084 Religijske i druge službe zajednice | B30: 735000 | C30: 735000 | D30: 735000
A31: Funk.klas. 09 OBRAZOVANJE | B31: =B32+B33 -> 28977000 | C31: =C32+C33 -> 25205000 | D31: =D32+D33 -> 21015000
A32: Funk.klas. 091 Predškolstvo i osnovno obrazovanje | B32: 22607000 | C32: 19335000 | D32: 15145000
A33: Funk.klas. 098 Usluge obrazovanja koje nisu drugdje svrstane | B33: 6370000 | C33: 5870000 | D33: 5870000
A34: Funk.klas. 10 SOCIJALNA ZAŠTITA | B34: =B35 -> 11553000 | C34: =C35 -> 7370000 | D34: =D35 -> 7570000
A35: Funk.klas. 109 Aktivnosti socijalne zaštite koji nisu drugdje svrstane | B35: 11553000 | C35: 7370000 | D35: 7570000

Sheet Racun financiranja
A1: C. RAČUN FINANCIRANJA
A3: Konto | B3: Opis primici / izdaci | C3: Proračun 2022.g. | D3: Projekcija 2023. | E3: Projekcija 2024.
A5: 8 | B5: PRIMICI OD FINANCIJSKE IMOVINE I ZADUŽIVANJA | C5: =C7 -> 300000 | D5: =D7 -> 200000 | E5: =E7 -> 200000
A7: 81 | B7: Primljene otplate (povrat) glavnice zajmova | C7: =C8+C9 -> 300000 | D7: 200000 | E7: 200000
A8: 812 | B8: Primici glavnice zajmova danih neprofitnim organizacijama, građanima i kućanstvima | C8: 100000
A9: 816 | B9: Povrat zajmova danih obrtnicima, malim i srednjim poduzetnicima | C9: 200000

Sheet razdjel 1
A2: II. POSEBNI DIO
A4: Članak 4.
A6: Rashodi i izdaci Proračuna u iznosu od 123.700.000,00 kn raspoređuju se po programskoj klasifikaciji po korisnicima i potanjim namjenama u Posebnom dijelu Proračuna kako slijedi:
A9: Pozicija | B9: Konto | C9: Opis rashoda i izdataka | D9: Proračun 2022. | E9: Projekcija 2023. | F9: Projekcija 2024.
C11: RAZDJEL 1. 010 URED GRADA | D11: =D12+D46 -> 66520000 | E11: =E12+E46 -> 56625000 | F11: =F12+F46 -> 54435000
A12: GLAVA 1 | B12: 1005 | C12: GRADSKA UPRAVA | D12: =D14 -> 4145000 | E12: =E14 -> 4445000 | F12: =F14 -> 4445000
A14: PROGRAM | B14: 1001 | C14: JAVNA UPRAVA I ADMINISTRACIJA | D14: =D16+D24+D33+D39 -> 4145000 | E14: =E16+E24+E33+E39 -> 4445000 | F14: =F16+F24+F33+F39 -> 4445000
A16: AKTIVNOST | B16: A100101 | C16: Administrativni i stručni poslovi Grada | D16: =D19 -> 3800000 | E16: 4100000 | F16: 4100000
A17: FUNKCIJSKA KLASIFIKACIJA | B17: 011 | C17: Izvršna i zakonodavna tijela
B19: 32 | C19: Materijalni rashodi | D19: =D20+D21+D22 -> 3800000 | E19: 4100000 | F19: 4100000
A20: 1 | B20: 322 | C20: Rashodi za materijal | D20: 900000
A21: 2 | B21: 323 | C21: Rashodi za usluge | D21: 1900000
A22: 3 | B22: 329 | C22: Ostali nespomenuti rashodi | D22: 1000000
A24: AKTIVNOST | B24: A100102 | C24: Obveze po sudskim sporovima | D24: =D27+D30 -> 65000 | E24: =E27+E30 -> 65000 | F24: =F27+F30 -> 65000
A25: FUNKCIJSKA KALSIFIKACIJA | B25: 011 | C25: Izvršna i zakonodavna tijela
B27: 34 | C27: Financijski rashodi | D27: =D28 -> 50000 | E27: 50000 | F27: 50000
A28: 4 | B28: 343 | C28: Ostali nespomenuti financijski rashodi | D28: 50000
B30: 32 | C30: Materijalni rashodi | D30: =D31 -> 15000 | E30: 15000 | F30: 15000
A31: 5 | B31: 329 | C31: Ostali nespomenuti rashodi poslovanja | D31: 15000
A33: AKTIVNOST | B33: A100103 | C33: Savjet mladih | D33: =D36 -> 20000 | E33: 20000 | F33: 20000
A34: FUNKCIJSKA KLASIFIKACIJA | B34: 011 | C34: Izvršna i zakonodavna tijela
B36: 32 | C36: Materijalni rashodi | D36: =D37 -> 20000 | E36: 20000 | F36: 20000
A37: 6 | B37: 329 | C37: Ostali nespomenuti rashodi poslovanja | D37: 20000
A39: PROJEKT | B39: K 100101 | C39: Obnova uredskih prostorija i opreme | D39: =D42 -> 260000 | E39: 260000 | F39: 260000
A40: FUNKCIJSKA KLASIFIKACIJA | B40: 011 | C40: Izvršna i zakonodavna tijela
B42: 42 | C42: Rashodi za nabavu proizvodne dugotrajne imovine | D42: =D43+D44 -> 260000 | E42: 260000 | F42: 260000
A43: 7 | B43: 422 | C43: Postrojenja i oprema | D43: 120000
A44: 8 | B44: 426 | C44: Nematerijalna proizvedena imovina - ulaganje u računalne programe | D44: 140000
A46: GLAVA 2 | B46: 1010 | C46: DRUŠTVENE DJELATNOSTI | D46: =D48+D117+D187+D261+D301+D360+D403+D445 -> 62375000 | E46: =E48+E117+E187+E261+E301+E360+E403+E445 -> 52180000 | F46: =F48+F117+F187+F261+F301+F360+F403+F445 -> 49990000
A48: PROGRAM | B48: 1002 | C48: PREDŠKOLSKI ODGOJ | D48: =D50+D71+D80+D86+D92+D106 -> 21647000 | E48: =E50+E71+E80+E86+E92+E106 -> 17335000 | F48: =F50+F71+F80+F86+F92+F106 -> 14945000
A50: AKTIVNOST | B50: A100201 | C50: Financiranje redovne djelatnosti-DV "Bili Cvitak" Sinj | D50: =D53+D58+D65+D68 -> 11620000 | E50: =E53+E58+E65+E68 -> 11635000 | F50: =F53+F58+F65+F68 -> 11635000
A51: FUNKCIJSKA KLASIFIKACIJA | B51: 091 | C51: Predškolsko obrazovanje
B53: 31 | C53: Rashodi za zaposlene | D53: =D54+D55+D56 -> 8970000 | E53: 8895000 | F53: 8895000
A54: 9 | B54: 311 | C54: Plaće | D54: 7400000
A55: 10 | B55: 312 | C55: Ostali rashodi za zaposlene | D55: 350000
A56: 11 | B56: 313 | C56: Doprinosi na plaće | D56: 1220000
B58: 32 | C58: Materijalni rashodi | D58: =D59+D60+D61+D62+D63 -> 2430000 | E58: 2400000 | F58: 2400000
A59: 12 | B59: 321 | C59: Naknade troškova zaposlenima | D59: 800000
A60: 13 | B60: 322 | C60: Rashodi za materijal i energiju | D60: 1080000
A61: 14 | B61: 323 | C61: Rashodi za usluge | D61: 450000
A62: 15 | B62: 324 | C62: Naknade troškova osobama izvan radnog odnosa | D62: 0
A63: 16 | B63: 329 | C63: Ostali nespomenuti rashodi | D63: 100000
B65: 34 | C65: Financijski rashodi | D65: =D66 -> 20000 | E65: 20000 | F65: 20000
A66: 17 | B66: 343 | C66: Ostali financijski rashodi | D66: 20000
B68: 42 | C68: Rashodi za nabavu proizvedene dugotrajne imovine | D68: 200000 | E68: 320000 | F68: 320000
A69: 18 | B69: 422 | C69: Uredska oprema i namještaj | D69: 200000
A71: AKTIVNOST | B71: A100202 | C71: Sufinanciranje predškolskog odgoja | D71: =D74 -> 3050000 | E71: =E74 -> 3050000 | F71: 2060000
A72: FUNKCIJSKA KALSIFIKACIJA | B72: 091 | C72: Predškolsko obrazovanje
B74: 38 | C74: Ostali rashodi | D74: =D75+D76+D78 -> 3050000 | E74: 3050000 | F74: 2060000
A75: 19 | B75: 381 | C75: Tekuće donacije - vjerski vrtići "Blagovijest" | D75: 650000
A76: 20 | B76: 382 | C76: Kapitalne donacije | D76: 60000
A78: 21 | B78: 381 | C78: Tekuće donacije - privatni vrtić "Čarobni pianino" | D78: 2340000
A80: AKTIVNOST | B80: A100203 | C80: Novčana pomoć roditeljima djece koji su ostvarili pravo na upis u dječji vrtić, ali nisu mogli biti upisani zbog popunjenosti kapaciteta | D80: 900000 | E80: 400000 | F80: 0
A81: FUNKCIJSKA KLASIFIKACIJA | B81: 091 | C81: Predškolsko obrazovanje
B83: 37 | C83: Naknade građanima i kućanstvima na temelju osiguranja i druge naknade | D83: 900000 | E83: 400000 | F83: 0
A84: 22 | B84: 372 | C84: Naknade građanima i kućanstvim u novcu | D84: 900000
A86: PROJEKT | B86: K100201 | C86: Uređenje prostora za potrebe Dječjeg vrtića u Crkvi u Brnazama | D86: =D89 -> 3500000 | E86: 0 | F86: 0
A87: FUNKCIJSKA KLASIFIKACIJA | B87: 091 | C87: Predškolsko obrazovanje
B89: 41 | C89: Rashodi za nabavu neprizvedene dugotrajne imovine | D89: =D90 -> 3500000 | E89: 0 | F89: 0
A90: 23 | B90: 412 | C90: Nematerijalna imovina | D90: 3500000
A92: PROJEKT | B92: K100202 | C92: Zajedno za djecu Sinja - EU | D92: =D95+D100+D103 -> 1184000 | E92: =E95+E100+E103 -> 400000 | F92: =F95+F100+F103 -> 0
A93: FUNKCIJSKA KLASIFIKACIJA | B93: 091 | C93: Predškolsko obrazovanje
B95: 31 | C95: Rashodi za zaposlene | D95: =D96+D97+D98 -> 224000 | E95: 120000 | F95: 0
A96: 24 | B96: 311 | C96: Plaće | D96: 184000
A97: 25 | B97: 312 | C97: Ostali rashodi za zaposlene | D97: 10000
A98: 26 | B98: 313 | C98: Doprinosi na plaće | D98: 30000
B100: 32 | C100: Materijalni rashodi | D100: 840000 | E100: 280000 | F100: 0
A101: 27 | B101: 323 | C101: Rashodi za usluge | D101: 840000
B103: 42 | C103: Rashodi za nabavu proizvedene dugotrajne imovine | D103: 120000 | E103: 0 | F103: 0
A104: 28 | B104: 423 | C104: Prijevozna sredstva | D104: 120000
A106: PROJEKT | B106: K100203 | C106: Mala sinjska priča - EU | D106: =D109+D114 -> 1393000 | E106: =E109+E114 -> 1850000 | F106: =F109+F114 -> 1250000
A107: FUNKCIJSKA KLASIFIKACIJA | B107: 091 | C107: Predškolsko obrazovanje
B109: 31 | C109: Rashodi za zaposlene | D109: =D110+D111+D112 -> 993000 | E109: 1400000 | F109: 800000
A110: 29 | B110: 311 | C110: Plaće | D110: 810000
A111: 30 | B111: 312 | C111: Ostali rashodi za zaposlene | D111: 50000
A112: 31 | B112: 313 | C112: Doprinosi na plaće | D112: 133000
B114: 42 | C114: Rashodi za nabavu proizvedene dugotrajne imovine | D114: 400000 | E114: 450000 | F114: 450000
A115: 32 | B115: 422 | C115: Postrojenja i oprema | D115: 400000
A117: PROGRAM | B117: 1003 | C117: KULTURA | D117: =D119+D140+D149+D156+D162+D169+D175+D181 -> 3685000 | E117: =E119+E140+E149+E156+E162+E169+E175+E181 -> 3635000 | F117: =F119+F140+F149+F156+F162+F169+F175+F181 -> 3635000
A119: AKTIVNOST | B119: A100301 | C119: Gradska knjižnica | D119: =D122+D127+D133+D136 -> 545000 | E119: =E122+E127+E133+E136 -> 545000 | F119: =F122+F127+F133+F136 -> 545000
A120: FUNKCIJSKA KLASIFIKACIJA | B120: 082 | C120: Službe kulture
B122: 31 | C122: Rashodi za zaposlene | D122: =D123+D124+D125 -> 369000 | E122: 369000 | F122: 369000
A123: 33 | B123: 311 | C123: Plaće | D123: 300000
A124: 34 | B124: 312 | C124: Ostali rashodi za zaposlene | D124: 19000
A125: 35 | B125: 313 | C125: Doprinosi na plaće | D125: 50000
B127: 32 | C127: Materijalni rashodi | D127: =D128+D129+D130+D131 -> 83000 | E127: 83000 | F127: 83000
A128: 36 | B128: 321 | C128: Naknade troškova zaposlenima | D128: 3000
A129: 37 | B129: 322 | C129: Rashodi za materijal i energiju | D129: 25000
A130: 38 | B130: 323 | C130: Rashodi za usluge | D130: 50000
A131: 39 | B131: 329 | C131: Ostali nespomenuti rashodi | D131: 5000
B133: 34 | C133: Financijski rashodi | D133: =D134 -> 3000 | E133: 3000 | F133: 3000
A134: 40 | B134: 343 | C134: Ostali financijski rashodi | D134: 3000
B136: 42 | C136: Rashodi za nabavu proizvedene dugotrajne imovine | D136: =D137+D138 -> 90000 | E136: 90000 | F136: 90000
A137: 41 | B137: 422 | C137: Postrojenje i oprema | D137: 10000
A138: 42 | B138: 424 | C138: Knjige u knjižnicama | D138: 80000
A140: AKTIVNOST | B140: A100302 | C140: Kulturne manifestacije - Dani Alke i Velike Gospe, Advent u Sinju i ostale manifestacije | D140: =D143+D146 -> 900000 | E140: =E143+E146 -> 900000 | F140: =F143+F146 -> 900000
A141: FUNKCIJSKA KLASIFIKACIJA | B141: 082 | C141: Službe kulture
B143: 32 | C143: Materijalni rashodi | D143: 810000 | E143: 900000 | F143: 900000
A144: 43 | B144: 329 | C144: Ostali nespomenuti rashodi | D144: 810000
B146: 42 | C146: Rashodi za nabavu proizvedene dugotrajne imovine | D146: 90000 | E146: 0 | F146: 0
...

Sheet razdjel 2
A2: Pozicija | B2: Konto | C2: Opis rashoda i izdataka | D2: Proračun 2022. | E2: Projekcija 2023. | F2: Projekcija 2024.
C4: RAZDJEL 2. UPRAVNI ODJEL ZA KOMUNALNI SUSTAV | D4: =D5+D126 -> 29870000 | E4: =E5+E126 -> 25464000 | F4: =F5+F126 -> 30705000
A5: GLAVA 1 | B5: 2005 | C5: KOMUNALNO GOSPODARSTVO | D5: =D7+D70+D103 -> 17700000 | E5: =E7+E70+E103 -> 16940000 | F5: =F7+F70+F103 -> 22300000
A7: PROGRAM | B7: 1010 | C7: ODRŽAVANJE KOMUNALNE INFRASTRUKTURE | D7: =D9+D16+D22+D28+D34+D40+D46+D52+D58+D64 -> 9790000 | E7: =E9+E16+E22+E28+E34+E40+E46+E52+E58+E64 -> 9790000 | F7: =F9+F16+F22+F28+F34+F40+F46+F52+F58+F64 -> 9800000
A9: AKTIVNOST | B9: A101001 | C9: Održavanje javne rasvjete | D9: =D12 -> 2550000 | E9: 2550000 | F9: 2550000
A10: FUNKCIJSKA KLASIFIKACIJA | B10: 064 | C10: Ulična rasvjeta
B12: 32 | C12: Materijalni rashodi | D12: =D13+D14 -> 2550000 | E12: 2550000 | F12: 2550000
A13: 123 | B13: 322 | C13: Rashodi za materijal i energiju | D13: 2100000
A14: 124 | B14: 323 | C14: Rashodi za usluge | D14: 450000
A16: AKTIVNOST | B16: A101002 | C16: Održavanje nerazvrstanih cesta | D16: =D19 -> 4250000 | E16: =E19 -> 4250000 | F16: =F19 -> 4250000
A17: FUNKCIJSKA KLASIFIKACIJA | B17: 045 | C17: Cestovni promet
B19: 32 | C19: Materijalni rashodi | D19: =D20 -> 4250000 | E19: 4250000 | F19: 4250000
A20: 125 | B20: 323 | C20: Rashodi za usluge | D20: 4250000
A22: AKTIVNOST | B22: A101003 | C22: Odvodnja oborinskih voda | D22: =D25 -> 200000 | E22: =E25 -> 200000 | F22: 200000
A23: FUNKCIJSKA KLASIFIKACIJA | B23: 052 | C23: Gospodarenje otpadnim vodama
B25: 32 | C25: Materijalni rashodi | D25: =D26 -> 200000 | E25: 200000 | F25: 200000
A26: 126 | B26: 323 | C26: Rashodi za usluge | D26: 200000
A28: AKTIVNOST | B28: A101004 | C28: Održavanje čistoće javnih površina | D28: =D31 -> 1000000 | E28: 1000000 | F28: 1000000
A29: FUNKCIJSKA KLASIFIKACIJA | B29: 051 | C29: Gospodarenje otpadom
B31: 32 | C31: Materijalni rashodi | D31: =D32 -> 1000000 | E31: 1000000 | F31: 1000000
A32: 127 | B32: 323 | C32: Rashodi za usluge | D32: 1000000
A34: AKTIVNOST | B34: A101005 | C34: Održavanje javnih zelenih površina | D34: =D37 -> 650000 | E34: 650000 | F34: 650000
A35: FUNKCIJSKA KLASIFIKACIJA | B35: 051 | C35: Gospodarenje otpadom
B37: 32 | C37: Materijalni rashodi | D37: =D38 -> 650000 | E37: 650000 | F37: 650000
A38: 128 | B38: 323 | C38: Rashodi za usluge | D38: 650000
A40: AKTIVNOSTI | B40: A101006 | C40: Održavanje javnih površina na kojima nije dopušten promet motornim vozilima | D40: =D43 -> 150000 | E40: 150000 | F40: 150000
A41: FUNKCIJSKA KLASIFIKACIJA | B41: 045 | C41: Cestovni promet
B43: 32 | C43: Materijalni rashodi | D43: =D44 -> 150000 | E43: 150000 | F43: 150000
A44: 129 | B44: 323 | C44: Rashodi za usluge | D44: 150000
A46: AKTIVNOST | B46: A101007 | C46: Održavanje građevina, uređaja i predmeta javne namjene | D46: =D49 -> 190000 | E46: 190000 | F46: 200000
A47: FUNKCIJSKA KLASIFIKACIJA | B47: 062 | C47: Razvoj zajednice
B49: 32 | C49: Materijalni rashodi | D49: =D50 -> 190000 | E49: 190000 | F49: 200000
A50: 130 | B50: 323 | C50: Rashodi za usluge | D50: 190000
A52: AKTIVNOST | B52: A101008 | C52: Dezinsekcija i deratizacija javnih površina | D52: =D55 -> 170000 | E52: 170000 | F52: 170000
A53: FUNKCIJSKA KLASIFIKACIJA | B53: 056 | C53: Poslovi i usluge zaštite okoliša
B55: 32 | C55: Materijalni rashodi | D55: =D56 -> 170000 | E55: 170000 | F55: 170000
A56: 131 | B56: 323 | C56: Rashodi za usluge | D56: 170000
A58: AKTIVNOST | B58: A101009 | C58: Veterinarsko - higijeničarski poslovi | D58: =D61 -> 230000 | E58: 230000 | F58: 230000
A59: FUNKCIJSKA KLASIFIKACIJA | B59: 056 | C59: Poslovi i usluge zaštite okoliša
B61: 32 | C61: Materijalni rashodi | D61: =D62 -> 230000 | E61: 230000 | F61: 230000
A62: 132 | B62: 323 | C62: Rashodi za usluge | D62: 230000
A64: AKTIVNOST | B64: A101010 | C64: Održavanje groblja | D64: =D67 -> 400000 | E64: 400000 | F64: 400000
A65: FUNKCIJSKA KLASIFIKACIJA | B65: 062 | C65: Razvoj zajednice
B67: 32 | C67: Materijalni rashodi | D67: =D68 -> 400000 | E67: 400000 | F67: 400000
A68: 133 | B68: 323 | C68: Rashodi za usluge | D68: 400000
A70: PROGRAM | B70: 1011 | C70: ZAJEDNIČKI RASHODI U FUNKCIJI ODRŽAVANJA KOMUNALNE INFRASTRUKTURE | D70: =D72+D79+D85+D91+D97 -> 1550000 | E70: =E72+E79+E85+E91+E97 -> 2700000 | F70: =F72+F79+F85+F91+F97 -> 2800000
A72: AKTIVNOST | B72: A101101 | C72: Zajedničke usluge u komunalnom gospodarstvu | D72: =D75 -> 850000 | E72: 950000 | F72: 950000
A73: FUNKCIJSKA KLASIFIKACIJA | B73: 066 | C73: Rashodi vezani za stanovanje i komunalne pogodnosti koje nisu drugdje svrstane
B75: 32 | C75: Materijalni rashodi | D75: =D76+D77 -> 850000 | E75: 950000 | F75: 950000
A76: 134 | B76: 323 | C76: Rashodi za usluge | D76: 700000
A77: 135 | B77: 329 | C77: Ostali nespomenuti rashodi | D77: 150000
A79: AKTIVNOST | B79: A101102 | C79: Naknada za smanjenje količine miješanog komunalnog otpada po Rješenju Fonda | D79: 100000 | E79: 600000 | F79: 500000
A80: FUNKCIJSKA KLASIFIKACIJA | B80: 051 | C80: Gospodarenje otpadom
B82: 38 | C82: Ostali rashodi | D82: 100000 | E82: 600000 | F82: 500000
A83: 136 | B83: 383 | C83: Kazna, penali i naknade štete | D83: 100000
A85: PROJEKT | B85: K101101 | C85: Energetska učinkovitost na sustavu javne rasvjete | D85: 300000 | E85: 800000 | F85: 1000000
A86: FUNKCIJSKA KLASIFIKACIJA | B86: 064 | C86: Ulična rasvjeta
B88: 32 | C88: Materijlani rashodi | D88: 300000 | E88: 800000 | F88: 1000000
A89: 137 | B89: 323 | C89: Rashodi za usluge | D89: 300000
A91: PROJEKT | B91: K101102 | C91: Nabavka i ugradnja kućišta za kamere i video - kamera na javnim površinama | D91: =D94 -> 150000 | E91: =E94 -> 150000 | F91: =F94 -> 150000
A92: FUNKCIJSKA KLASIFIKACIJA | B92: 062 | C92: Razvoj zajednice
B94: 42 | C94: Rashodi za nabavu proizvodne dugotrajne imovine | D94: =D95 -> 150000 | E94: 150000 | F94: 150000
A95: 138 | B95: 422 | C95: Postrojenja i oprema | D95: 150000
A97: PROJEKT | B97: K101103 | C97: Nabavka urbane opreme | D97: 150000 | E97: 200000 | F97: 200000
A98: FUNKCIJSKA KLASIFIKACIJA | B98: 062 | C98: Razvoj zajednice
B100: 42 | C100: Rashodi za nabavu proizvodne dugotrajne imovine | D100: 150000 | E100: 200000 | F100: 200000
A101: 139 | B101: 422 | C101: Postrojenja i oprema | D101: 150000
A103: PROGRAM | B103: 1012 | C103: ZAŠTITA OKOLIŠA | D103: =D105+D111+D120 -> 6360000 | E103: =E105+E111+E120 -> 4450000 | F103: =F105+F111+F120 -> 9700000
A105: PROJEKT | B105: K101201 | C105: Sanacija odlagališta komunalnog otpada "Mojanka" | D105: =D108 -> 5300000 | E105: 3000000 | F105: 5000000
A106: FUNKCIJSKA KLASIFIKACIJA | B106: 051 | C106: Gospodarenje otpadom
B108: 42 | C108: Rashodi za nabavu proizvedene dug. imovine | D108: =D109 -> 5300000 | E108: 3000000 | F108: 5000000
A109: 140 | B109: 421 | C109: Građevinski objekti | D109: 5300000
A111: PROJEKT | B111: K101202 | C111: Gospodarenja otpadom | D111: =D114+D117 -> 560000 | E111: =E114+E117 -> 250000 | F111: =F114+F117 -> 700000
A112: FUNKCIJSKA KLASIFIKACIJA | B112: 051 | C112: Gospodarenje otpadom
B114: 32 | C114: Materijalni rashodi | D114: 60000 | E114: 50000 | F114: 500000
A115: 141 | B115: 323 | C115: Rashodi za usluge | D115: 60000
B117: 42 | C117: Rashodi za nabavu proizvodne dugotrajne imovine | D117: 500000 | E117: 200000 | F117: 200000
A118: 142 | B118: 422 | C118: Postrojenja i oprema | D118: 500000
A120: PROJEKT | B120: K101203 | C120: Izgradanja sortirnice i kompostane | D120: =D123 -> 500000 | E120: 1200000 | F120: 4000000
A121: FUNKCIJSKA KLASIFIKACIJA | B121: 051 | C121: Gospodarenje otpadom
B123: 42 | C123: Rashodi za nabavu proizvodne dugotrajne imovine | D123: =D124 -> 500000 | E123: 1200000 | F123: 4000000
A124: 143 | B124: 421 | C124: Građevinski objekti | D124: 500000
A126: GLAVA 2 | B126: 2010 | C126: RAZVITAK GOSPODARSTVA | D126: =D127 -> 12170000 | E126: =E127 -> 8524000 | F126: =F127 -> 8405000
A127: PROGRAM | B127: 1013 | C127: PROGRAM IZGRADNJE OBJEKATA I UREĐAJA KOMUNALNE INFRASTRUKTURE | D127: =D129+D134+D140+D148+D156+D162+D171+D177+D185+D191+D197+D203+D211+D219+D225+D231+D237+D243+D249+D255+D261+D269+D275+D281+D287+D293+D298+D304+D310+D316+D322+D328+D334+D340+D352+D358+D364+D370+D376+D382+D388+D394+D346+D400+D406 -> 12170000 | E127: =E129+E134+E140+E148+E156+E162+E171+E177+E185+E191+E197+E203+E211+E219+E225+E231+E237+E243+E249+E255+E261+E269+E275+E281+E287+E293+E298+E304+E310+E316+E322+E328+E334+E340+E352+E358+E364+E370+E376+E382+E388+E394+E346+E400+E406 -> 8524000 | F127: =F129+F134+F140+F148+F156+F162+F171+F177+F185+F191+F197+F203+F211+F219+F225+F231+F237+F243+F249+F255+F261+F269+F275+F281+F287+F293+F298+F304+F310+F316+F322+F328+F334+F340+F352+F358+F364+F370+F376+F382+F388+F394+F346+F400+F406 -> 8405000
A129: PROJEKT | B129: K101301 | C129: Izgradnja nogostupa Put Pavića | D129: 0 | E129: 500000 | F129: 0
A130: FUNKCIJSKA KLASIFIKACIJA | B130: 045 | C130: Cestovni promet
B132: 42 | C132: Rashodi za nabavu proizvodne dugotrajne imovine | D132: 0 | E132: 500000 | F132: 0
A134: PROJEKT | B134: K101302 | C134: Izgradnja nogostupa od Zorke Macana do spomenika Radošić Gornji | D134: 270000 | E134: =E137 -> 400000 | F134: 0
A135: FUNKCIJSKA KLASIFIKACIJA | B135: 045 | C135: Cestovni promet
B137: 42 | C137: Rashodi za nabavu proizvedene dug. imovine | D137: 270000 | E137: 400000 | F137: 0
A138: 144 | B138: 426 | C138: Ostala nematerijalna imovina | D138: 270000
A140: PROJEKT | B140: K101303 | C140: Proširenje groblja u Turjacima | D140: =D143+D146 -> 150000 | E140: =E143+E146 -> 514000 | F140: =F143+F146 -> 0
A141: FUNKCIJSKA KLASIFIKACIJA | B141: 066 | C141: Rashodi vezani za stanovanje i komunalne pogodnosti koje nisu drugdje svrstane
B143: 32 | C143: Materijalni rashodi | D143: 150000 | E143: 0 | F143: 0
A144: 145 | B144: 323 | C144: Rashodi za usluge | D144: 150000
B146: 42 | C146: Rashodi za nabavu neproizvedene dugotrajne imovine | D146: 0 | E146: 514000 | F146: 0
A148: PROJEKT | B148: K101304 | C148: Izgradnja groblja u naselju Jasensko | D148: =D151+D154 -> 200000 | E148: =E151+E154 -> 150000 | F148: =F151+F154 -> 515000
A149: FUNKCIJSKA KLASIFIKACIJA | B149: 066 | C149: Rashodi vezani za stanovanje i komunalne pogodnosti koje nisu drugdje svrstane
B151: 32 | C151: Materijalni rashodi | D151: 200000 | E151: 150000 | F151: 0
A152: 146 | B152: 323 | C152: Rashodi za usluge | D152: 200000
...

Sheet razdjel 3
A2: Pozicija | B2: Konto | C2: Opis rashoda i izdataka | D2: Proračun 2022. | E2: Projekcija 2023. | F2: Projekcija 2024.
C4: RAZDJEL 3. UPRAVNI ODJEL ZA GOSPODARSKI RAZVOJ, FONDOVE EU I JAVNU NABAVU | D4: =D5 -> 14420000 | E4: =E5 -> 19141000 | F4: =F5 -> 17850000
A5: GLAVA 1 | B5: 3005 | C5: RAZVITAK GOSPODARSTVA | D5: =D7+D57+D123 -> 14420000 | E5: =E7+E57+E123 -> 19141000 | F5: =F7+F57+F123 -> 17850000
A7: PROGRAM | B7: 1014 | C7: RAZVITAK GOSPODARSTVA I IZGRADNJA KAPITALNIH OBJEKATA | D7: =D9+D16+D24+D31+D43+D49+D37 -> 4210000 | E7: =E9+E16+E24+E31+E43+E49+E37 -> 3650000 | F7: =F9+F16+F24+F31+F43+F49+F37 -> 4150000
A9: AKTIVNOST | B9: A101401 | C9: Priprema razvojnih programa i ostali zajednički rashodi | D9: =D12 -> 400000 | E9: 400000 | F9: 400000
A10: FUNKCIJSKA KLASIFIKACIJA | B10: 049 | C10: Ekonomski poslovi koji nisu drugdje svrstani
B12: 32 | C12: Materijalni rashodi | D12: =D13+D14 -> 400000 | E12: 400000 | F12: 400000
A13: 188 | B13: 323 | C13: Rashodi za usluge | D13: 300000
A14: 189 | B14: 329 | C14: Ostali nespomenuti rashodi | D14: 100000
A16: AKTIVNOST | B16: A101402 | C16: Poticanje poduzetništva | D16: =D19 -> 1660000 | E16: 1000000 | F16: 1000000
A17: FUNKCIJSKA KLASIFIKACIJA | B17: 049 | C17: Ekonomski poslovi koji nisu drugdje svrstani
B19: 35 | C19: Subvencije | D19: =D20+D21+D22 -> 1660000 | E19: 1000000 | F19: 1000000
A20: 190 | B20: 351 | C20: Subvencije trgovačkim društvima - Gradsko kino | D20: 100000
A21: 191 | B21: 352 | C21: Subvencije poljoprivrednicima, obrtnicima | D21: 1500000
A22: 192 | B22: 352 | C22: Subvencije - Poduzetnički centar | D22: 60000
A24: AKTIVNOST | B24: A101403 | C24: Fond za poticanje zapošljavanja | D24: =D27 -> 250000 | E24: 250000 | F24: 250000
A25: FUNKCIJSKA KLASIFIKACIJA | B25: 049 | C25: Ekonomski poslovi koji nisu drugdje svrstani
B27: 35 | C27: Subvencije | D27: =D28+D29 -> 250000 | E27: 250000 | F27: 250000
A28: 193 | B28: 352 | C28: Subvencije trgovačkim društvima, poljoprivrednicima i obrtnicima izvan javnog sektora | D28: 200000
A29: 194 | B29: 352 | C29: Subvencije kamata na poduzetničke kredite | D29: 50000
A31: AKTIVNOST | B31: A101404 | C31: Razvojna Strategija Grada Sinja | D31: 200000 | E31: 0 | F31: 0
A32: FUNKCIJSKA KLASIFIKACIJA | B32: 062 | C32: Razvoj zajednice
B34: 32 | C34: Materijalni rashodi | D34: 200000 | E34: 0 | F34: 0
A35: 195 | B35: 323 | C35: Rashodi za usluge | D35: 200000
A37: AKTIVNOST | B37: A101405 | C37: Sanacija šteta od potresa | D37: 200000 | E37: 0 | F37: 0
A38: FUNKCIJSKA KLASIFIKACIJA | B38: 066 | C38: Rashodi vezani za stanovanje i komunalne pogodnosti koje nisu drugdje svrstani
B40: 38 | C40: Ostali rashodi | D40: 200000 | E40: 0 | F40: 0
A41: 196 | B41: 383 | C41: Kazne, penali i naknade štete | D41: 200000
A43: PROJEKT | B43: K101401 | C43: Gospodarska zona Kukuzovac | D43: 1000000 | E43: 1000000 | F43: 1500000
A44: FUNKCIJSKA KLASIFIKACIJA | B44: 045 | C44: Cestovni promet
B46: 38 | C46: Ostali rashodi | D46: 1000000 | E46: 1000000 | F46: 1500000
A47: 197 | B47: 386 | C47: Kapitalne pomoći | D47: 1000000
A49: PROJEKT | B49: K101402 | C49: Uređenje prostora Gospodske kuće za zgradu Gradske uprave | D49: =D52+D55 -> 500000 | E49: =E52+E55 -> 1000000 | F49: =F52+F55 -> 1000000
A50: FUNKCIJSKA KLASIFIKACIJA | B50: 011 | C50: Izvršna i zakonodavna tijela
B52: 32 | C52: Materijlani rashodi | D52: 500000 | E52: 0 | F52: 0
A53: 198 | B53: 323 | C53: Rashodi za usluge | D53: 500000
B55: 42 | C55: Rashodi za nabavu proizvedene dugotrajne imovine | D55: 0 | E55: 1000000 | F55: 1000000
A57: PROGRAM | B57: 1015 | C57: PRIPREMA PROJEKATA ZA FINANCIRANJE IZ FONDOVA EU | D57: =D59+D65+D71+D77+D83+D89+D95+D103+D109+D117 -> 9610000 | E57: =E59+E65+E71+E77+E83+E89+E95+E103+E109+E117 -> 14491000 | F57: =F59+F65+F71+F77+F83+F89+F95+F103+F109+F117 -> 13600000
A59: PROJEKT | B59: K101501 | C59: Tekući rashodi za financiranje projekata iz fondova EU | D59: 300000 | E59: 300000 | F59: 300000
A60: FUNKCIJSKA KLASIFIKACIJA | B60: 049 | C60: Ekonomski poslov koji nisu drugdje svrstani
B62: 32 | C62: Materijalni rashodi | D62: 300000 | E62: 300000 | F62: 300000
A63: 199 | B63: 323 | C63: Rashodi za usluge | D63: 300000
A65: PROJEKT | B65: K101502 | C65: Priprema projekata za sufinanciranje izgradnje integriranog sustava odvodnje i strukturnih fondova EU | D65: 6500000 | E65: =E68 -> 7000000 | F65: 7500000
A66: FUNKCIJSKA KLASIFIKACIJA | B66: 052 | C66: Gospodarenje otpadnim vodama
B68: 38 | C68: Donacije i ostali rashodi | D68: 6500000 | E68: 7000000 | F68: 7500000
A69: 200 | B69: 386 | C69: Kapitalne pomoći | D69: 6500000
A71: PROJEKT | B71: K101503 | C71: Izgradnja dječjeg vrtića u Glavicama | D71: 300000 | E71: 1000000 | F71: =F74 -> 0
A72: FUNKCIJSKA KLASIFIKACIJA | B72: 091 | C72: Predškolsko obrazovanje
B74: 42 | C74: Rashodi za nabavu proizvedene dugotrajne imovine | D74: 300000 | E74: 1000000 | F74: =F75 -> 0
A75: 201 | B75: 421 | C75: Građevinski objekti | D75: 300000
A77: PROJEKT | B77: K101504 | C77: Izgradnja dječjeg vrtića u Karakašici | D77: 300000 | E77: 1000000 | F77: 200000
A78: FUNKCIJSKA KLASIFIKACIJA | B78: 091 | C78: Predškolsko obrazovanje
B80: 42 | C80: Rashodi za nabavu proizvedene dugotrajne imovine | D80: 300000 | E80: 1000000 | F80: 200000
A81: 202 | B81: 421 | C81: Građevinski objekti | D81: 300000
A83: PROJEKT | B83: K101505 | C83: Izrada projektne dokumentacije za poljoprivredno inovacijski centar na Štaliji | D83: 300000 | E83: 500000 | F83: 500000
A84: FUNKCIJSKA KLASIFIKACIJA | B84: 042 | C84: Poljoprivreda
B86: 42 | C86: Rashodi za nabavu proizvedene dugotrajne imovine | D86: 300000 | E86: 500000 | F86: 500000
A87: 203 | B87: 421 | C87: =C81 -> Građevinski objekti | D87: 300000
A89: PROJEKT | B89: K101506 | C89: Sustav energetske učinkovitosti na objektima u vlasništvu Grada - fotonaponske | D89: 500000 | E89: 875000 | F89: 500000
A90: FUNKCIJSKA KLASIFIKACIJA | B90: 066 | C90: Rashodi vezani za stanovanje i komunalne pogodnosti koje nisu drugdje svrstani
B92: 42 | C92: Rashodi za nabavu dugotrajne proizvodne imovine | D92: 500000 | E92: 875000 | F92: 500000
A93: 204 | B93: 421 | C93: Građevinski objekti | D93: 500000
A95: PROJEKT | B95: K101507 | C95: Projekt pripreme projektno tehničke dokumentacije i studije izvodljivosti za ulaganja u projekte javne turističke infrastrukture (Štale, Hipodrom, Alkarska staza..) | D95: =D98+D101 -> 400000 | E95: =E98+E101 -> 2000000 | F95: =F98+F101 -> 2000000
A96: FUNKCIJSKA KLASIFIKACIJA | B96: 047 | C96: Turizam
B98: 32 | C98: Materijalni rashodi | D98: 400000 | E98: 0 | F98: 0
A99: 205 | B99: 323 | C99: Rashodi za usluge | D99: 400000
B101: 42 | C101: Rashodi za nabavu proizvedene dugotrajne impovine | D101: 0 | E101: 2000000 | F101: 2000000
A103: PROJEKT | B103: K101508 | C103: Izrada projektne dokumentacije za projekt "difuznog - poduzetničkog inkubatora" | D103: 500000 | E103: 1000000 | F103: 1000000
A104: FUNKCIJSKA KLASIFIKACIJA | B104: 049 | C104: Ekonomski poslovi koji nisu drugdje svrstani
B106: 42 | C106: Rashodi za nabavu proizvedene dugotrajne imovine | D106: 500000 | E106: 1000000 | F106: 1000000
A107: 206 | B107: 421 | C107: Građevinski objekti | D107: 500000
A109: PROJEKT | B109: K101509 | C109: Uređenje prostora "Aerodroma" | D109: =D112+D115 -> 150000 | E109: =E112+E115 -> 816000 | F109: =F112+F115 -> 1600000
A110: FUNKCIJSKA KLASIFIKACIJA | B110: 081 | C110: Služba rekreacije i športa
B112: 32 | C112: Materijalni rashodi | D112: 150000 | E112: 0 | F112: 0
A113: 207 | B113: 323 | C113: Rashodi za usluge | D113: 150000
B115: 42 | C115: Rashodi za nabavu dugotrajne proizvedene imovine | D115: 0 | E115: 816000 | F115: 1600000
A117: PROJEKT | B117: K101510 | C117: Opremanje dječjeg igrališta u dječjem vrtiću Bili cvitak - EU | D117: 360000 | E117: 0 | F117: 0
A118: FUNKCIJSKA KLASIFIKACIJA | B118: 091 | C118: Predškolski odgoj
B120: 42 | C120: Rashodi za nabavu proizvedene dugotrajne imovine | D120: 360000 | E120: 0 | F120: 0
A121: 208 | B121: 422 | C121: Postrojenja i oprema | D121: 360000
A123: PROGRAM | B123: 1016 | C123: PROVEDBA I UPRAVLJANJE EU PROJEKTA - OBNOVA KULTURNE BAŠTINE "SINJ U SRIDU" | D123: =D125+D131+D140+D146 -> 600000 | E123: =E125+E131+E140+E146 -> 1000000 | F123: =F125+F131+F140+F146 -> 100000
A125: PROJEKT | B125: K101601 | C125: Promotivne aktivnosti radi realizacije prokazatelja projekta "Sinj u sridu" | D125: 200000 | E125: 0 | F125: 0
A126: FUNKCIJSKA KLASIFIKACIJA | B126: 082 | C126: Služba kulture
B128: 38 | C128: Donacije i ostali rashodi | D128: 200000 | E128: =E129 -> 0 | F128: =F129 -> 0
A129: 209 | B129: 381 | C129: Tekuće donacije | D129: 200000
A131: PROJEKT | B131: K101602 | C131: Opremanje lapidarija uz zgradu Palacine i sanancija pripadajućeg zida | D131: =D134+D137 -> 200000 | E131: =E134+E137 -> 500000 | F131: =F134+F137 -> 0
A132: FUNKCIJSKA KLASIFIKACIJA | B132: 082 | C132: Služba kulture
B134: 32 | C134: Materijalni rashodi | D134: 100000 | E134: 0 | F134: 0
A135: 210 | B135: 323 | C135: Rashodi za usluge | D135: 100000
B137: 42 | C137: Rashodi za nabavu dugotrajne proizvedene imovine | D137: 100000 | E137: 500000 | F137: 0
A138: 211 | B138: 422 | C138: Postrojenja i oprema | D138: 100000
A140: PROJEKT | B140: K101603 | C140: Izrada plana upravljanja kulturnim dobrima (Tvrđavom Grad, tvrđavom Kamičak sa Palacinom) i IEC-om Sinjska Alka i provedba Plana | D140: 100000 | E140: 100000 | F140: 100000
A141: FUNKCIJSKA KLASIFIKACIJA | B141: 082 | C141: Služba kulture
B143: 32 | C143: Materijalni rashodi | D143: 100000 | E143: =E144 -> 0 | F143: =F144 -> 0
A144: 212 | B144: 323 | C144: Rashodi za usluge | D144: 100000
A146: PROJEKT | B146: K101604 | C146: Projekt " SINJSKA RERA" | D146: =D149+D151 -> 100000 | E146: =E149+E151 -> 400000 | F146: =F149+F151 -> 0
A147: FUNKCIJSKA KLASIFIKACIJA | B147: 082 | C147: Služba kulture
B149: 32 | C149: Materijalni rashodi | D149: 0 | E149: 400000 | F149: 0
B151: 42 | C151: Rashodi za nabavu dugotrajne proizvedene imovine | D151: 100000 | E151: 0 | F151: 0
A152: 213 | B152: 424 | C152: Knjige, umjetnička djela i ostale izložbene vrijednosti | D152: 100000

Sheet razdjel 4
A2: Pozicija | B2: Konto | C2: Opis rashoda i izdataka | D2: Proračun 2022. | E2: Projekcija 2023. | F2: Projekcija 2024.
C4: RAZDJEL 4. UPRAVNI ODJEL ZA FINANCIJE | D4: =D5 -> 8950000 | E4: =E5 -> 8950000 | F4: =F5 -> 8950000
A5: GLAVA 1 | B5: 4005 | C5: GRADSKA UPRAVA | D5: =D7 -> 8950000 | E5: =E7 -> 8950000 | F5: =F7 -> 8950000
A7: PROGRAM | B7: 1017 | C7: UPRAVLJANJE I ADMINISTRACIJA | D7: =D9+D23+D29 -> 8950000 | E7: =E9+E23+E29 -> 8950000 | F7: =F9+F23+F29 -> 8950000
A9: AKTIVNOST | B9: A 101701 | C9: Administrativni i stručni poslovi za zaposlenike Grada | D9: =D12+D17+D20 -> 8450000 | E9: =E12+E17+E20 -> 8450000 | F9: =F12+F17+F20 -> 8450000
A10: FUNKCIJSKA KLASIFIKACIJA | B10: 011 | C10: Izvršna i zakonodavna tijela
B12: 31 | C12: Rashodi za zaposlene | D12: =D13+D14+D15 -> 8220000 | E12: 8220000 | F12: 8220000
A13: 214 | B13: 311 | C13: Plaće | D13: 6570000
A14: 215 | B14: 312 | C14: Ostali rashodi za zaposlene | D14: 550000
A15: 216 | B15: 313 | C15: Doprinosi na plaće | D15: 1100000
B17: 32 | C17: Materijalni rashodi | D17: 100000 | E17: 100000 | F17: 100000
A18: 217 | B18: 321 | C18: Naknade troškova zaposlenima | D18: 100000
B20: 34 | C20: Financijski rashodi | D20: 130000 | E20: 130000 | F20: 130000
A21: 218 | B21: 343 | C21: Ostali financijski rashodi | D21: 130000
A23: AKTIVNOST | B23: A 101702 | C23: Proračunska zaliha | D23: =D26 -> 350000 | E23: 350000 | F23: 350000
A24: FUNKCIJSKA KLASIFIKACIJA | B24: 011 | C24: Izvršna i zakonodavna tijela
B26: 38 | C26: Donacije i ostali rashodi | D26: =D27 -> 350000 | E26: 350000 | F26: 350000
A27: 219 | B27: 385 | C27: Izvanredni rashodi | D27: 350000
A29: AKTIVNOST | B29: A101703 | C29: Police osiguranja | D29: 150000 | E29: 150000 | F29: 150000
A30: FUNKCIJSKA KLASIFIKACIJA | B30: 011 | C30: Izvršna i zakonodavna tijela
B32: 32 | C32: Materijalni rashodi | D32: 150000 | E32: 150000 | F32: 150000
A33: 220 | B33: 323 | C33: Rashodi za usluge | D33: 150000

Sheet razdjel 5
A2: Pozicija | B2: Konto | C2: Opis rashoda i izdataka | D2: Proračun 2022. | E2: Projekcija 2023. | F2: Projekcija 2024.
C4: RAZDJEL 5. UPRAVNI ODJEL ZA IMOVINU I PROSTORNO UREĐENJE | D4: =D8 -> 3940000 | E4: =E8 -> 4020000 | F4: =F8 -> 4060000
A6: GLAVA | B6: 5005 | C6: GOSPODARANJE GRADSKOM IMOVINOM | D6: =D8 -> 3940000 | E6: =E8 -> 4020000 | F6: =F8 -> 4060000
A8: PROGRAM | B8: 1018 | C8: GOSPODARANJE GRADSKOM IMOVINOM | D8: =D11+D17+D23+D29+D35+D41+D47+D53+D62 -> 3940000 | E8: =E11+E17+E23+E29+E35+E41+E47+E53+E62 -> 4020000 | F8: =F11+F17+F23+F29+F35+F41+F47+F53+F62 -> 4060000
A11: AKTIVNOST | B11: A101801 | C11: Strategije i planovi razvoja upravljanja imovinom | D11: =D14 -> 140000 | E11: =E14 -> 100000 | F11: 140000
A12: FUNKCIJSKA KLASIFIKACIJA | B12: 049 | C12: Ekonomski poslovi koji nisu drugdje svrstani
B14: 32 | C14: Materijalni rashodi | D14: 140000 | E14: 100000 | F14: 140000
A15: 221 | B15: 323 | C15: Rashodi za usluge | D15: 140000
A17: AKTIVNOST | B17: A101802 | C17: Rješavanje imovnsko - pravnih odnosa za otkup zemljišta za realizaciju projekata | D17: 1000000 | E17: 1100000 | F17: 1100000
A18: FUNKCIJSKA KLASIFIKACIJA | B18: 011 | C18: Izvršna i zakonodavna tijela
B20: 41 | C20: Rashodi za nabavu neproizvedene dugotrajne imovine | D20: 1000000 | E20: 1100000 | F20: 1100000
A21: 222 | B21: 411 | C21: Materijalna imovina, prirodno bogatsvo - zemljište | D21: 1000000
A23: AKTIVNOST | B23: A101803 | C23: Gospodarenje poslovnim i stambenim prostorima | D23: 250000 | E23: 280000 | F23: 280000
A24: FUNKCIJSKA KLASIFIKACIJA | B24: 066 | C24: Rashodi vezani za stanovanje i komunalne pogodnosti
B26: 32 | C26: Materijalni rashodi | D26: 250000 | E26: 280000 | F26: 280000
A27: 223 | B27: 323 | C27: Rashodi za usluge | D27: 250000
A29: AKTIVNOST | B29: A101804 | C29: Katastarska izmjera nerazvrstanih cesta-baza nerazvrstanih cesta | D29: 500000 | E29: 540000 | F29: 540000
A30: FUNKCIJSKA KLASIFIKACIJA | B30: 045 | C30: Cestovni promet
B32: 32 | C32: Materijalni rashodi | D32: 500000 | E32: 540000 | F32: 540000
A33: 224 | B33: 323 | C33: Rashodi za usluge | D33: 500000
A35: AKTIVNOST | B35: A101805 | C35: Odvjetničke usluge u zastupanju Grada | D35: =D38 -> 100000 | E35: =E38 -> 100000 | F35: =F38 -> 100000
A36: FUNKCIJSKA KLASIFIKACIJA | B36: 011 | C36: Izvršna i zakonodavna tijela
B38: 32 | C38: Materijalni rashodi | D38: =D39 -> 100000 | E38: 100000 | F38: 100000
A39: 225 | B39: 323 | C39: Rashodi za usluge | D39: 100000
A41: AKTIVNOST | B41: A101806 | C41: Prostorno planiranje: studije, podloge i ostala popratna dokumentacija | D41: =D44 -> 100000 | E41: =E44 -> 100000 | F41: =F44 -> 100000
A42: FUNKCIJSKA KLASIFIKACIJA | B42: 062 | C42: Razvoj zajednice
B44: 32 | C44: Materijalni rashodi | D44: 100000 | E44: 100000 | F44: 100000
A45: 226 | B45: 323 | C45: Rashodi za usluge | D45: 100000
A47: PROJEKT | B47: K101801 | C47: Kupnja nekretnina od interesa za Grad Sinj | D47: 1500000 | E47: 1500000 | F47: 1500000
A48: FUNKCIJSKA KLASIFIKACIJA | B48: 049 | C48: Ekonomski poslovi koji nisu drugdje svrstani
B50: 42 | C50: Rashodi za nabavu proizvedene dugotrajne impovine | D50: 1500000 | E50: 1500000 | F50: 1500000
A51: 227 | B51: 421 | C51: Građevinski objekti | D51: 1500000
A53: PROJEKT | B53: K101802 | C53: GIS Grada Sinja | D53: =D56+D59 -> 100000 | E53: =E56+E59 -> 100000 | F53: =F56+F59 -> 100000
A54: FUNKCIJSKA KLASIFIKACIJA | B54: 066 | C54: Rashodi vezani za stanovanje i komunalne pogodnosti
B56: 32 | C56: Materijalni rashodi | D56: 40000 | E56: 40000 | F56: 40000
A57: 228 | B57: 323 | C57: Rashodi za usluge | D57: 40000
B59: 42 | C59: Rashodi za nabavu proizvodne dugotrajne imovine | D59: 60000 | E59: 60000 | F59: 60000
A60: 229 | B60: 426 | C60: Nematerijalna proizvedena imovina | D60: 60000
A62: PROJEKT | B62: K101803 | C62: Izrada prostornih planova | D62: 250000 | E62: 200000 | F62: 200000
A63: FUNKCIJSKA KLASIFIKACIJA | B63: 062 | C63: Razvoj zajednice
B65: 42 | C65: Rashodi za nabavu proizvedene dugotrajne imovine | D65: 250000 | E65: 200000 | F65: 200000
A66: 230 | B66: 426 | C66: Ostala nematerijalna proizvedena imovina | D66: 250000
A69: Članak 5.
A71: III. PLAN RAZVOJNIH PROGRAMA
A73: Sukladno članku 16. Zakona o Proračunu ( NN 87/08, 136/12, 15/15), uz Proračun donosi se Plan razvojnih programa Grada Sinja. Ministarstvo financija je dana 10. rujna 2021.g. donijelo Uputu za izradu proračuna jedinica lokalne i područne (regionalne) samouprave za razdoblje od 2022.g. - 2024.g Klasa: 400-06/21-01/396, Urbroj: 513-05-06-02 1-1. Budući da je odredbama Zakona o sustavu stareškog planiranja i upravljanjem razvoja Republike Hrvatske jedinicama lokalne i područne (regionalne) samouprave propisana obveza donošenja strateških akata, odnosno planova razvoja i provedbenih programa, a novi Zakon o proračunu (koji je u pripremi i čije se osvajanje očekuje do kraja 2021.g.) ne predviđa jedinicama lokalne, područne (regionalne) samouprave obvezu izrade i donošenja Planova razvojnih programa, jednice lokalne i područne (regionalne) samouprave nisu u obvezi uz Proračun za razdoblje 2022.g. - 2024. donijeti Plan razvojnih programa.
A81: Članka 6
A83: Ovaj Proračun objavit će se u Službenom glasniku Grada Sinja, a stupa na snagu 01.01.2022.g.
A85: Gradsko vijeće Grada Sinja
A86: Klasa: 400-06/21-01/7
A87: Ur.broj: 2175/01-03-21-4
A88: Sinj, 29. prosinca 2021. godine
E92: Predsjednik Gradskog vijeća:
E93: Petar Župić
