Workbook

Sheet Naslovna
B3: Na temelju članka 39. Zakona o proračunu ("Narodne novine" br. 87/08, 136/12 i 15/15) i članka 34. Statuta Grada Sinja ("Službeni glasnik Grada Sinja" br. 2/21) Gradsko vijeće Grada Sinja na 8.sjednici održanoj 29. prosinca 2021.g. donijelo je
B6: PRORAČUN GRADA SINJA ZA 2022. GODINU S PROJEKCIJAMA ZA 2023. i 2024. GODINU
B9: I. OPĆI DIO
B11: Članak 1.
B13: Proračun Grada Sinja za 2022. godinu (u daljnjem tekstu Proračun) s projekcijama za 2023. i 2024. godinu sastoji se od:
C15: A | D15: RAČUN PRIHODA I RASHODA | E15: Proračun 2022.g. | F15: Projekcija 2023. | G15: Projekcija 2024.
D16: Prihodi poslovanja | E16: =Prihodi!C7 -> 98613000 | F16: =Prihodi!D7 -> 113000000 | G16: =Prihodi!E7 -> 115100000
D17: Prihodi od prodaje nefinancijske imovine | E17: =Prihodi!C38 -> 700000 | F17: =Prihodi!D38 -> 1000000 | G17: =Prihodi!E38 -> 700000
D18: Rashodi poslovanja | E18: =Rashodi!C7 -> 100410000 | F18: =Rashodi!D7 -> 89345000 | G18: =Rashodi!E7 -> 87235000
D19: Rashodi za nabavu nefinancijske imovine | E19: =Rashodi!C43 -> 23290000 | F19: =Rashodi!D43 -> 24855000 | G19: =Rashodi!E43 -> 28765000
D20: Razlika višak / manjak | E20: -24387000 | F20: -200000 | G20: -200000
C22: B | D22: RAČUN FINANCIRANJA | E22: Proračun 2022. | F22: Projekcija 2023. | G22: Projekcija 2024.
D23: Primici od financijske imovine i zaduživanja | E23: 300000 | F23: 200000 | G23: 200000
D24: Izdaci za financijsku imovinu i otplate zajmova
D25: NETO FINANCIRANJE | E25: 300000 | F25: 200000 | G25: 200000
C27: C | D27: Ukupan donos viška koji će se rasporediti u 2022.g. | E27: 24087000 | F27: 0 | G27: 0
C29: D | D29: Višak / manjak + neto financiranje (A-B+C) | E29: 0 | F29: 0 | G29: 0
E31: Članak 2.
B33: U proračunsku zalihu Proračuna Grada Sinja izdvaja se 350.000,00 kn.
E35: Članak 3.
B37: Prihodi i rashodi, te primici i izdaci po ekonomskoj klasifikaciji, utvrđuju se u Računu prihoda i rashoda i Računu financiranja za 2022.g, kako slijedi:

Sheet Prihodi
A1: A. PRIHODI POSLOVANJA
A3: Konto | B3: Opis prihoda | C3: Proračun 2022. | D3: Projekcija 2023. | E3: Projekcija 2024.
B5: PRIHODI UKUPNO (6+7) | C5: =C7+C38 -> 99313000 | D5: =D7+D38 -> 114000000 | E5: =E7+E38 -> 115800000
A7: 6 | B7: PRIHODI | C7: =C9+C14+C21+C26+C31+C35 -> 98613000 | D7: =D9+D14+D21+D26+D31+D35 -> 113000000 | E7: =E9+E14+E21+E26+E31+E35 -> 115100000
A9: 61 | B9: PRIHODI OD POREZA | C9: =C10+C11+C12 -> 34600000 | D9: 38200000 | E9: 39000000
A10: 611 | B10: Porez i prirez na dohodak | C10: 32000000
A11: 613 | B11: Porezi na imovinu | C11: 2500000
A12: 614 | B12: Porezi na robu i usluge | C12: 100000
A14: 63 | B14: POMOĆI | C14: =C15+C16+C17+C18+C19 -> 48700000 | D14: 53900000 | E14: 55000000
A15: 633 | B15: Pomoći proračunu iz drugih proračuna | C15: 26000000
A16: 634 | B16: Pomoći od izvanproračunskih korisnika | C16: 5000000
A17: 635 | B17: Tekuće pomoći izravnanja za decentralizirane funkcije | C17: 2400000
A18: 636 | B18: Pomoći proračunskim korisnicima iz proračuna koji im nije nadležan | C18: 800000
A19: 638 | B19: Pomoći temeljem prijenosa EU sredstava | C19: 14500000
A21: 64 | B21: PRIHODI OD IMOVINE | C21: =C22+C23+C24 -> 1403000 | D21: 2000000 | E21: 2100000
A22: 641 | B22: Prihodi od financijske imovine | C22: 73000
A23: 642 | B23: Prihodi od nefinancijske imovine | C23: 1325000
A24: 643 | B24: Prihodi od kamata na dane zajmove | C24: 5000
A26: 65 | B26: PRIHODI OD UPRAVNIH I ADMINISTRATIVNIH PRISTOJBI, PRISTOJBI PO POSEBNIM PROPISIMA I NAKNADA | C26: =C27+C28+C29 -> 8600000 | D26: 12000000 | E26: 12000000
A27: 651 | B27: Administrativne (upravne) pristojbe | C27: 200000
A28: 652 | B28: Prihodi po posebnim propisima | C28: 2400000
A29: 653 | B29: Komunalni doprinos i naknada | C29: 6000000
A31: 66 | B31: PRIHODI OD PRODAJE PROIZVODA I ROBA | C31: =C32+C33 -> 450000 | D31: 1000000 | E31: 1000000
A32: 661 | B32: Prihod od prodaje proizvoda i roba | C32: 420000
A33: 663 | B33: Donacije od pravnih i fizičkih osoba izvan općeg proračuna | C33: 30000
A35: 68 | B35: KAZNE, UPRAVNE MJERE I OSTALI PRIHODI | C35: =C36 -> 4860000 | D35: 5900000 | E35: 6000000
A36: 683 | B36: Ostali nespomenuti prihodi | C36: 4860000
A38: 7 | B38: PRIHOD OD PRODAJE NEFINANCIJSKE IMOVINE | C38: =C40+C43 -> 700000 | D38: =D40+D43 -> 1000000 | E38: =E40+E43 -> 700000
A40: 71 | B40: Prihod od prodaje neproizvedene imovine | C40: 400000 | D40: 700000 | E40: 400000
A41: 711 | B41: Prihod od prodaje materijalne imovine - prirodnih bogatstava | C41: 400000
A43: 72 | B43: Prihod od proizvedene imovine | C43: 300000 | D43: 300000 | E43: 300000
A44: 721 | B44: Prihod od prodaje građevinskih objekata | C44: 300000

Sheet Rashodi
A1: B. RASHODI POSLOVANJA
A3: Konto | B3: Opis rashoda | C3: Proračun 2022.g. | D3: Projekcija 2023. | E3: Projekcija 2024.
B5: RASHODI POSLOVANJA (3+4) | C5: =C7+C43 -> 123700000 | D5: =D7+D43 -> 114200000 | E5: =E7+E43 -> 116000000
A7: 3 | B7: RASHODI POSLOVANJA | C7: =C9+C14+C21+C24+C28+C33+C36 -> 100410000 | D7: =D9+D14+D21+D24+D28+D33+D36 -> 89345000 | E7: =E9+E14+E21+E24+E33+E28+E36 -> 87235000
A9: 31 | B9: Rashodi za zaposlene | C9: =SUM(C10:C12) -> 24974000 | D9: 23384000 | E9: 22664000
A10: 311 | B10: Plaće | C10: 20174000
A11: 312 | B11: Ostali rashodi za zaposlene | C11: 1234000
A12: 313 | B12: Doprinosi na plaće | C12: 3566000
A14: 32 | B14: Materijalni rashodi | C14: =SUM(C15:C19) -> 30278000 | D14: 25748000 | E14: 24648000
A15: 321 | B15: Naknade troškova zaposlenima | C15: 983000
A16: 322 | B16: Rashodi za materijal i energiju | C16: 5125000
A17: 323 | B17: Rashodi za usluge | C17: 21580000
A18: 324 | B18: Naknada troškova osobama izvan radnog odnosa | C18: 0
A19: 329 | B19: Ostali nespomenuti rashodi | C19: 2590000
A21: 34 | B21: Financijski rashodi | C21: =C22 -> 208000 | D21: 208000 | E21: 208000
A22: 343 | B22: Ostali financijski rashodi | C22: 208000
A24: 35 | B24: Subvencije | C24: =C25+C26 -> 1910000 | D24: 1250000 | E24: 1250000
A25: 351 | B25: Subvencije trgovačkim društvima u javnom sektoru | C25: 100000
A26: 352 | B26: Subvencije trgovačkim društvima, poljoprivrednicima i obrtnicima izvan javnog sektora | C26: 1810000
A28: 36 | B28: Pomoći dane u inozemstvo i unutar općeg proračuna | C28: =C29+C30+C31 -> 1675000 | D28: 100000 | E28: 100000
A29: 363 | B29: Pomoći unutar općeg proračuna | C29: 1575000
A30: 366 | B30: Pomoći proračunskim korisnicima drugih proračuna | C30: 100000
A31: 368 | B31: Pomoći temeljem prijenosa EU sredstava | C31: 0
A33: 37 | B33: Naknade građanima i kućanstvima iz proračuna | C33: =C34 -> 13800000 | D33: 12200000 | E33: 12000000
A34: 372 | B34: Naknade građanima i kućanstvima iz proračuna | C34: 13800000
A36: 38 | B36: Donacije i ostali rashodi | C36: =SUM(C37:C41) -> 27565000 | D36: 26455000 | E36: 26365000
A37: 381 | B37: Tekuće donacije | C37: 15305000
A38: 382 | B38: Kapitalne donacije | C38: 3910000
A39: 383 | B39: Kazna, penali i naknade štete | C39: 300000
A40: 385 | B40: Izvanredni rashodi | C40: 350000
A41: 386 | B41: Kapitalne pomoći | C41: 7700000
A43: 4 | B43: RASHODI ZA NABAVU NEFINANCIJSKE IMOVINE | C43: =C44+C48 -> 23290000 | D43: =D44+D48 -> 24855000 | E43: =E44+E48 -> 28765000
A44: 41 | B44: Rashodi za nabavu neproizvedene imovine | C44: =C45+C46 -> 4500000 | D44: 1100000 | E44: 1100000
A45: 411 | B45: Materijalna imovina | C45: 1000000
A46: 412 | B46: Nematerijalna imovina | C46: 3500000
A48: 42 | B48: Rashodi za nabavu proizvedene dugotrajne imovine | C48: =SUM(C49:C53) -> 18790000 | D48: 23755000 | E48: 27665000
A49: 421 | B49: Građevinski objekti | C49: 14730000
A50: 422 | B50: Postrojenja i oprema | C50: 3040000
A51: 423 | B51: Prijevozna sredstva | C51: 120000
A52: 424 | B52: Knjige | C52: 180000
...

Sheet Funk. klasifikacija
A1: RASHODI PO FUNKCIJSKOJ KLASIFIKACIJI
A2: Oznaka | B2: Plan 2022. | C2: Projekcija 2023. | D2: Projekcija 2024.
A3: RASHODI - FUNKCIJSKA KLASIFIKACIJA | B3: =B5+B34 -> 123700000 | C3: =C5+C34 -> 114200000 | D3: =D5+D34 -> 116000000
A5: Funk.klas. 0 Javnost | B5: =B6+B8+B10+B15+B19+B25+B27+B31 -> 112147000 | C5: =C6+C8+C10+C15+C19+C25+C27+C31 -> 106830000 | D5: =D6+D8+D10+D15+D19+D25+D27+D31 -> 108430000
A6: Funk.klas. 01 OPĆE JAVNE USLUGE | B6: =B7 -> 14695000 | C6: =C7 -> 15595000 | D6: =D7 -> 15595000
A7: Funk.klas. 011 Izvršna i zakonodavna tijela, financijski i fiskalni poslovi, vanjski poslovi | B7: 14695000 | C7: 15595000 | D7: 15595000
A8: Funk.klas. 03 JAVNI RED I SIGURNOST | B8: =B9 -> 6705000 | C8: =C9 -> 6755000 | D8: =D9 -> 6755000
A9: Funk.klas. 032 Usluge protupožarne zaštite | B9: 6705000 | C9: 6755000 | D9: 6755000
A10: Funk.klas. 04 EKONOMSKI POSLOVI | B10: =B11+B12+B13+B14 -> 17180000 | C10: =C11+C12+C13+C14 -> 17740000 | D10: =D11+D12+D13+D14 -> 20270000
A11: Funk.klas. 042 Poljoprivreda, šumarstvo, ribarstvo i lov | B11: 300000 | C11: 500000 | D11: 500000
A12: Funk.klas. 045 Promet | B12: 11230000 | C12: 10290000 | D12: 12780000
A13: Funk.klas. 047 Turizam | B13: 800000 | C13: 2400000 | D13: 2400000
A14: Funk.klas. 049 Ekonomski poslovi koji nisu drugdje svrstani | B14: 4850000 | C14: 4550000 | D14: 4590000
A15: Funk.klas. 05 ZAŠTITA OKOLIŠA | B15: =B16+B17+B18 -> 15810000 | C15: =C16+C17+C18 -> 14300000 | D15: =D16+D17+D18 -> 19950000
A16: Funk.klas. 051 Gospodarenje otpadom | B16: 8110000 | C16: 6700000 | D16: 11850000
A17: Funk.klas. 052 Gospodarenje otpadnim vodama | B17: 7300000 | C17: 7200000 | D17: 7700000
A18: Funk.klas. 056 Poslovi i usluge zaštite okoliša koji nisu drugdje svrstani | B18: 400000 | C18: 400000 | D18: 400000
A19: Funk.klas. 06 USLUGE UNAPREĐENJA STANOVANJA I ZAJEDNICE | B19: =B20+B21+B22+B23+B24 -> 9640000 | C19: =C20+C21+C22+C23+C24 -> 11929000 | D19: =D20+D21+D22+D23+D24 -> 11295000
A20: Funk.klas. 061 Razvoj stanovanja | B20: 2600000 | C20: 2600000 | D20: 2600000
A21: Funk.klas. 062 Razvoj zajednice | B21: 1440000 | C21: 2240000 | D21: 1850000
A22: Funk.klas. 063 Opskrba vodom | B22: 500000 | C22: 800000 | D22: 800000
A23: Funk.klas. 064 Ulična rasvjeta | B23: 2850000 | C23: 3350000 | D23: 3550000
A24: Funk.klas. 066 Rashodi vezani za stanovanje i kom.pogodnosti koji nisu drugdje svrstani | B24: 2250000 | C24: 2939000 | D24: 2495000
A25: Funk.klas. 07 ZDRAVSTVO | B25: =B26 -> 500000 | C25: =C26 -> 0 | D25: =D26 -> 0
A26: Funk.klas. 075 Istraživanje i razvoj zdravstva | B26: 500000 | C26: 0 | D26: 0
A27: Funk.klas. 08 REKREACIJA, KULTURA, RELIGIJA | B27: =B28+B29+B30 -> 18640000 | C27: =C28+C29+C30 -> 15306000 | D27: =D28+D29+D30 -> 13550000
A28: Funk.klas. 081 Službe rekreacije i sporta | B28: 13180000 | C28: 9936000 | D28: 9080000
A29: Funk.klas. 082 Službe kulture | B29: 4725000 | C29: 4635000 | D29: 3735000
A30: Funk.klas. 084 Religijske i druge službe zajednice | B30: 735000 | C30: 735000 | D30: 735000
A31: Funk.klas. 09 OBRAZOVANJE | B31: =B32+B33 -> 28977000 | C31: =C32+C33 -> 25205000 | D31: =D32+D33 -> 21015000
A32: Funk.klas. 091 Predškolstvo i osnovno obrazovanje | B32: 22607000 | C32: 19335000 | D32: 15145000
A33: Funk.klas. 098 Usluge obrazovanja koje nisu drugdje svrstane | B33: 6370000 | C33: 5870000 | D33: 5870000
A34: Funk.klas. 10 SOCIJALNA ZAŠTITA | B34: =B35 -> 11553000 | C34: =C35 -> 7370000 | D34: =D35 -> 7570000
A35: Funk.klas. 109 Aktivnosti socijalne zaštite koji nisu drugdje svrstane | B35: 11553000 | C35: 7370000 | D35: 7570000

Sheet Racun financiranja
A1: C. RAČUN FINANCIRANJA
A3: Konto | B3: Opis primici / izdaci | C3: Proračun 2022.g. | D3: Projekcija 2023. | E3: Projekcija 2024.
A5: 8 | B5: PRIMICI OD FINANCIJSKE IMOVINE I ZADUŽIVANJA | C5: =C7 -> 300000 | D5: =D7 -> 200000 | E5: =E7 -> 200000
A7: 81 | B7: Primljene otplate (povrat) glavnice zajmova | C7: =C8+C9 -> 300000 | D7: 200000 | E7: 200000
A8: 812 | B8: Primici glavnice zajmova danih neprofitnim organizacijama, građanima i kućanstvima | C8: 100000
A9: 816 | B9: Povrat zajmova danih obrtnicima, malim i srednjim poduzetnicima | C9: 200000

Sheet razdjel 1
A2: II. POSEBNI DIO
A4: Članak 4.
A6: Rashodi i izdaci Proračuna u iznosu od 123.700.000,00 kn raspoređuju se po programskoj klasifikaciji po korisnicima i potanjim namjenama u Posebnom dijelu Proračuna kako slijedi:
A9: Pozicija | B9: Konto | C9: Opis rashoda i izdataka | D9: Proračun 2022. | E9: Projekcija 2023. | F9: Projekcija 2024.
C11: RAZDJEL 1. 010 URED GRADA | D11: =D12+D46 -> 66520000 | E11: =E12+E46 -> 56625000 | F11: =F12+F46 -> 54435000
A12: GLAVA 1 | B12: 1005 | C12: GRADSKA UPRAVA | D12: =D14 -> 4145000 | E12: =E14 -> 4445000 | F12: =F14 -> 4445000
A14: PROGRAM | B14: 1001 | C14: JAVNA UPRAVA I ADMINISTRACIJA | D14: =D16+D24+D33+D39 -> 4145000 | E14: =E16+E24+E33+E39 -> 4445000 | F14: =F16+F24+F33+F39 -> 4445000
A16: AKTIVNOST | B16: A100101 | C16: Administrativni i stručni poslovi Grada | D16: =D19 -> 3800000 | E16: 4100000 | F16: 4100000
A17: FUNKCIJSKA KLASIFIKACIJA | B17: 011 | C17: Izvršna i zakonodavna tijela
B19: 32 | C19: Materijalni rashodi | D19: =D20+D21+D22 -> 3800000 | E19: 4100000 | F19: 4100000
A20: 1 | B20: 322 | C20: Rashodi za materijal | D20: 900000
A21: 2 | B21: 323 | C21: Rashodi za usluge | D21: 1900000
A22: 3 | B22: 329 | C22: Ostali nespomenuti rashodi | D22: 1000000
A24: AKTIVNOST | B24: A100102 | C24: Obveze po sudskim sporovima | D24: =D27+D30 -> 65000 | E24: =E27+E30 -> 65000 | F24: =F27+F30 -> 65000
A25: FUNKCIJSKA KALSIFIKACIJA | B25: 011 | C25: Izvršna i zakonodavna tijela
B27: 34 | C27: Financijski rashodi | D27: =D28 -> 50000 | E27: 50000 | F27: 50000
A28: 4 | B28: 343 | C28: Ostali nespomenuti financijski rashodi | D28: 50000
B30: 32 | C30: Materijalni rashodi | D30: =D31 -> 15000 | E30: 15000 | F30: 15000
A31: 5 | B31: 329 | C31: Ostali nespomenuti rashodi poslovanja | D31: 15000
A33: AKTIVNOST | B33: A100103 | C33: Savjet mladih | D33: =D36 -> 20000 | E33: 20000 | F33: 20000
A34: FUNKCIJSKA KLASIFIKACIJA | B34: 011 | C34: Izvršna i zakonodavna tijela
B36: 32 | C36: Materijalni rashodi | D36: =D37 -> 20000 | E36: 20000 | F36: 20000
A37: 6 | B37: 329 | C37: Ostali nespomenuti rashodi poslovanja | D37: 20000
A39: PROJEKT | B39: K 100101 | C39: Obnova uredskih prostorija i opreme | D39: =D42 -> 260000 | E39: 260000 | F39: 260000
A40: FUNKCIJSKA KLASIFIKACIJA | B40: 011 | C40: Izvršna i zakonodavna tijela
B42: 42 | C42: Rashodi za nabavu proizvodne dugotrajne imovine | D42: =D43+D44 -> 260000 | E42: 260000 | F42: 260000
A43: 7 | B43: 422 | C43: Postrojenja i oprema | D43: 120000
A44: 8 | B44: 426 | C44: Nematerijalna proizvedena imovina - ulaganje u računalne programe | D44: 140000
A46: GLAVA 2 | B46: 1010 | C46: DRUŠTVENE DJELATNOSTI | D46: =D48+D117+D187+D261+D301+D360+D403+D445 -> 62375000 | E46: =E48+E117+E187+E261+E301+E360+E403+E445 -> 52180000 | F46: =F48+F117+F187+F261+F301+F360+F403+F445 -> 49990000
A48: PROGRAM | B48: 1002 | C48: PREDŠKOLSKI ODGOJ | D48: =D50+D71+D80+D86+D92+D106 -> 21647000 | E48: =E50+E71+E80+E86+E92+E106 -> 17335000 | F48: =F50+F71+F80+F86+F92+F106 -> 14945000
A50: AKTIVNOST | B50: A100201 | C50: Financiranje redovne djelatnosti-DV "Bili Cvitak" Sinj | D50: =D53+D58+D65+D68 -> 11620000 | E50: =E53+E58+E65+E68 -> 11635000 | F50: =F53+F58+F65+F68 -> 11635000
A51: FUNKCIJSKA KLASIFIKACIJA | B51: 091 | C51: Predškolsko obrazovanje
B53: 31 | C53: Rashodi za zaposlene | D53: =D54+D55+D56 -> 8970000 | E53: 8895000 | F53: 8895000
A54: 9 | B54: 311 | C54: Plaće | D54: 7400000
A55: 10 | B55: 312 | C55: Ostali rashodi za zaposlene | D55: 350000
A56: 11 | B56: 313 | C56: Doprinosi na plaće | D56: 1220000
B58: 32 | C58: Materijalni rashodi | D58: =D59+D60+D61+D62+D63 -> 2430000 | E58: 2400000 | F58: 2400000
A59: 12 | B59: 321 | C59: Naknade troškova zaposlenima | D59: 800000
A60: 13 | B60: 322 | C60: Rashodi za materijal i energiju | D60: 1080000
A61: 14 | B61: 323 | C61: Rashodi za usluge | D61: 450000
...

Sheet razdjel 2
A2: Pozicija | B2: Konto | C2: Opis rashoda i izdataka | D2: Proračun 2022. | E2: Projekcija 2023. | F2: Projekcija 2024.
C4: RAZDJEL 2. UPRAVNI ODJEL ZA KOMUNALNI SUSTAV | D4: =D5+D126 -> 29870000 | E4: =E5+E126 -> 25464000 | F4: =F5+F126 -> 30705000
A5: GLAVA 1 | B5: 2005 | C5: KOMUNALNO GOSPODARSTVO | D5: =D7+D70+D103 -> 17700000 | E5: =E7+E70+E103 -> 16940000 | F5: =F7+F70+F103 -> 22300000
A7: PROGRAM | B7: 1010 | C7: ODRŽAVANJE KOMUNALNE INFRASTRUKTURE | D7: =D9+D16+D22+D28+D34+D40+D46+D52+D58+D64 -> 9790000 | E7: =E9+E16+E22+E28+E34+E40+E46+E52+E58+E64 -> 9790000 | F7: =F9+F16+F22+F28+F34+F40+F46+F52+F58+F64 -> 9800000
A9: AKTIVNOST | B9: A101001 | C9: Održavanje javne rasvjete | D9: =D12 -> 2550000 | E9: 2550000 | F9: 2550000
A10: FUNKCIJSKA KLASIFIKACIJA | B10: 064 | C10: Ulična rasvjeta
B12: 32 | C12: Materijalni rashodi | D12: =D13+D14 -> 2550000 | E12: 2550000 | F12: 2550000
A13: 123 | B13: 322 | C13: Rashodi za materijal i energiju | D13: 2100000
A14: 124 | B14: 323 | C14: Rashodi za usluge | D14: 450000
A16: AKTIVNOST | B16: A101002 | C16: Održavanje nerazvrstanih cesta | D16: =D19 -> 4250000 | E16: =E19 -> 4250000 | F16: =F19 -> 4250000
A17: FUNKCIJSKA KLASIFIKACIJA | B17: 045 | C17: Cestovni promet
B19: 32 | C19: Materijalni rashodi | D19: =D20 -> 4250000 | E19: 4250000 | F19: 4250000
A20: 125 | B20: 323 | C20: Rashodi za usluge | D20: 4250000
A22: AKTIVNOST | B22: A101003 | C22: Odvodnja oborinskih voda | D22: =D25 -> 200000 | E22: =E25 -> 200000 | F22: 200000
A23: FUNKCIJSKA KLASIFIKACIJA | B23: 052 | C23: Gospodarenje otpadnim vodama
B25: 32 | C25: Materijalni rashodi | D25: =D26 -> 200000 | E25: 200000 | F25: 200000
A26: 126 | B26: 323 | C26: Rashodi za usluge | D26: 200000
A28: AKTIVNOST | B28: A101004 | C28: Održavanje čistoće javnih površina | D28: =D31 -> 1000000 | E28: 1000000 | F28: 1000000
A29: FUNKCIJSKA KLASIFIKACIJA | B29: 051 | C29: Gospodarenje otpadom
B31: 32 | C31: Materijalni rashodi | D31: =D32 -> 1000000 | E31: 1000000 | F31: 1000000
A32: 127 | B32: 323 | C32: Rashodi za usluge | D32: 1000000
A34: AKTIVNOST | B34: A101005 | C34: Održavanje javnih zelenih površina | D34: =D37 -> 650000 | E34: 650000 | F34: 650000
A35: FUNKCIJSKA KLASIFIKACIJA | B35: 051 | C35: Gospodarenje otpadom
B37: 32 | C37: Materijalni rashodi | D37: =D38 -> 650000 | E37: 650000 | F37: 650000
A38: 128 | B38: 323 | C38: Rashodi za usluge | D38: 650000
A40: AKTIVNOSTI | B40: A101006 | C40: Održavanje javnih površina na kojima nije dopušten promet motornim vozilima | D40: =D43 -> 150000 | E40: 150000 | F40: 150000
A41: FUNKCIJSKA KLASIFIKACIJA | B41: 045 | C41: Cestovni promet
B43: 32 | C43: Materijalni rashodi | D43: =D44 -> 150000 | E43: 150000 | F43: 150000
A44: 129 | B44: 323 | C44: Rashodi za usluge | D44: 150000
A46: AKTIVNOST | B46: A101007 | C46: Održavanje građevina, uređaja i predmeta javne namjene | D46: =D49 -> 190000 | E46: 190000 | F46: 200000
A47: FUNKCIJSKA KLASIFIKACIJA | B47: 062 | C47: Razvoj zajednice
B49: 32 | C49: Materijalni rashodi | D49: =D50 -> 190000 | E49: 190000 | F49: 200000
A50: 130 | B50: 323 | C50: Rashodi za usluge | D50: 190000
A52: AKTIVNOST | B52: A101008 | C52: Dezinsekcija i deratizacija javnih površina | D52: =D55 -> 170000 | E52: 170000 | F52: 170000
A53: FUNKCIJSKA KLASIFIKACIJA | B53: 056 | C53: Poslovi i usluge zaštite okoliša
B55: 32 | C55: Materijalni rashodi | D55: =D56 -> 170000 | E55: 170000 | F55: 170000
A56: 131 | B56: 323 | C56: Rashodi za usluge | D56: 170000
A58: AKTIVNOST | B58: A101009 | C58: Veterinarsko - higijeničarski poslovi | D58: =D61 -> 230000 | E58: 230000 | F58: 230000
A59: FUNKCIJSKA KLASIFIKACIJA | B59: 056 | C59: Poslovi i usluge zaštite okoliša
B61: 32 | C61: Materijalni rashodi | D61: =D62 -> 230000 | E61: 230000 | F61: 230000
...

Sheet razdjel 3
A2: Pozicija | B2: Konto | C2: Opis rashoda i izdataka | D2: Proračun 2022. | E2: Projekcija 2023. | F2: Projekcija 2024.
C4: RAZDJEL 3. UPRAVNI ODJEL ZA GOSPODARSKI RAZVOJ, FONDOVE EU I JAVNU NABAVU | D4: =D5 -> 14420000 | E4: =E5 -> 19141000 | F4: =F5 -> 17850000
A5: GLAVA 1 | B5: 3005 | C5: RAZVITAK GOSPODARSTVA | D5: =D7+D57+D123 -> 14420000 | E5: =E7+E57+E123 -> 19141000 | F5: =F7+F57+F123 -> 17850000
A7: PROGRAM | B7: 1014 | C7: RAZVITAK GOSPODARSTVA I IZGRADNJA KAPITALNIH OBJEKATA | D7: =D9+D16+D24+D31+D43+D49+D37 -> 4210000 | E7: =E9+E16+E24+E31+E43+E49+E37 -> 3650000 | F7: =F9+F16+F24+F31+F43+F49+F37 -> 4150000
A9: AKTIVNOST | B9: A101401 | C9: Priprema razvojnih programa i ostali zajednički rashodi | D9: =D12 -> 400000 | E9: 400000 | F9: 400000
A10: FUNKCIJSKA KLASIFIKACIJA | B10: 049 | C10: Ekonomski poslovi koji nisu drugdje svrstani
B12: 32 | C12: Materijalni rashodi | D12: =D13+D14 -> 400000 | E12: 400000 | F12: 400000
A13: 188 | B13: 323 | C13: Rashodi za usluge | D13: 300000
A14: 189 | B14: 329 | C14: Ostali nespomenuti rashodi | D14: 100000
A16: AKTIVNOST | B16: A101402 | C16: Poticanje poduzetništva | D16: =D19 -> 1660000 | E16: 1000000 | F16: 1000000
A17: FUNKCIJSKA KLASIFIKACIJA | B17: 049 | C17: Ekonomski poslovi koji nisu drugdje svrstani
B19: 35 | C19: Subvencije | D19: =D20+D21+D22 -> 1660000 | E19: 1000000 | F19: 1000000
A20: 190 | B20: 351 | C20: Subvencije trgovačkim društvima - Gradsko kino | D20: 100000
A21: 191 | B21: 352 | C21: Subvencije poljoprivrednicima, obrtnicima | D21: 1500000
A22: 192 | B22: 352 | C22: Subvencije - Poduzetnički centar | D22: 60000
A24: AKTIVNOST | B24: A101403 | C24: Fond za poticanje zapošljavanja | D24: =D27 -> 250000 | E24: 250000 | F24: 250000
A25: FUNKCIJSKA KLASIFIKACIJA | B25: 049 | C25: Ekonomski poslovi koji nisu drugdje svrstani
B27: 35 | C27: Subvencije | D27: =D28+D29 -> 250000 | E27: 250000 | F27: 250000
A28: 193 | B28: 352 | C28: Subvencije trgovačkim društvima, poljoprivrednicima i obrtnicima izvan javnog sektora | D28: 200000
A29: 194 | B29: 352 | C29: Subvencije kamata na poduzetničke kredite | D29: 50000
A31: AKTIVNOST | B31: A101404 | C31: Razvojna Strategija Grada Sinja | D31: 200000 | E31: 0 | F31: 0
A32: FUNKCIJSKA KLASIFIKACIJA | B32: 062 | C32: Razvoj zajednice
B34: 32 | C34: Materijalni rashodi | D34: 200000 | E34: 0 | F34: 0
A35: 195 | B35: 323 | C35: Rashodi za usluge | D35: 200000
A37: AKTIVNOST | B37: A101405 | C37: Sanacija šteta od potresa | D37: 200000 | E37: 0 | F37: 0
A38: FUNKCIJSKA KLASIFIKACIJA | B38: 066 | C38: Rashodi vezani za stanovanje i komunalne pogodnosti koje nisu drugdje svrstani
B40: 38 | C40: Ostali rashodi | D40: 200000 | E40: 0 | F40: 0
A41: 196 | B41: 383 | C41: Kazne, penali i naknade štete | D41: 200000
A43: PROJEKT | B43: K101401 | C43: Gospodarska zona Kukuzovac | D43: 1000000 | E43: 1000000 | F43: 1500000
A44: FUNKCIJSKA KLASIFIKACIJA | B44: 045 | C44: Cestovni promet
B46: 38 | C46: Ostali rashodi | D46: 1000000 | E46: 1000000 | F46: 1500000
A47: 197 | B47: 386 | C47: Kapitalne pomoći | D47: 1000000
A49: PROJEKT | B49: K101402 | C49: Uređenje prostora Gospodske kuće za zgradu Gradske uprave | D49: =D52+D55 -> 500000 | E49: =E52+E55 -> 1000000 | F49: =F52+F55 -> 1000000
A50: FUNKCIJSKA KLASIFIKACIJA | B50: 011 | C50: Izvršna i zakonodavna tijela
B52: 32 | C52: Materijlani rashodi | D52: 500000 | E52: 0 | F52: 0
A53: 198 | B53: 323 | C53: Rashodi za usluge | D53: 500000
B55: 42 | C55: Rashodi za nabavu proizvedene dugotrajne imovine | D55: 0 | E55: 1000000 | F55: 1000000
A57: PROGRAM | B57: 1015 | C57: PRIPREMA PROJEKATA ZA FINANCIRANJE IZ FONDOVA EU | D57: =D59+D65+D71+D77+D83+D89+D95+D103+D109+D117 -> 9610000 | E57: =E59+E65+E71+E77+E83+E89+E95+E103+E109+E117 -> 14491000 | F57: =F59+F65+F71+F77+F83+F89+F95+F103+F109+F117 -> 13600000
A59: PROJEKT | B59: K101501 | C59: Tekući rashodi za financiranje projekata iz fondova EU | D59: 300000 | E59: 300000 | F59: 300000
A60: FUNKCIJSKA KLASIFIKACIJA | B60: 049 | C60: Ekonomski poslov koji nisu drugdje svrstani
...

Sheet razdjel 4
A2: Pozicija | B2: Konto | C2: Opis rashoda i izdataka | D2: Proračun 2022. | E2: Projekcija 2023. | F2: Projekcija 2024.
C4: RAZDJEL 4. UPRAVNI ODJEL ZA FINANCIJE | D4: =D5 -> 8950000 | E4: =E5 -> 8950000 | F4: =F5 -> 8950000
A5: GLAVA 1 | B5: 4005 | C5: GRADSKA UPRAVA | D5: =D7 -> 8950000 | E5: =E7 -> 8950000 | F5: =F7 -> 8950000
A7: PROGRAM | B7: 1017 | C7: UPRAVLJANJE I ADMINISTRACIJA | D7: =D9+D23+D29 -> 8950000 | E7: =E9+E23+E29 -> 8950000 | F7: =F9+F23+F29 -> 8950000
A9: AKTIVNOST | B9: A 101701 | C9: Administrativni i stručni poslovi za zaposlenike Grada | D9: =D12+D17+D20 -> 8450000 | E9: =E12+E17+E20 -> 8450000 | F9: =F12+F17+F20 -> 8450000
A10: FUNKCIJSKA KLASIFIKACIJA | B10: 011 | C10: Izvršna i zakonodavna tijela
B12: 31 | C12: Rashodi za zaposlene | D12: =D13+D14+D15 -> 8220000 | E12: 8220000 | F12: 8220000
A13: 214 | B13: 311 | C13: Plaće | D13: 6570000
A14: 215 | B14: 312 | C14: Ostali rashodi za zaposlene | D14: 550000
A15: 216 | B15: 313 | C15: Doprinosi na plaće | D15: 1100000
B17: 32 | C17: Materijalni rashodi | D17: 100000 | E17: 100000 | F17: 100000
A18: 217 | B18: 321 | C18: Naknade troškova zaposlenima | D18: 100000
B20: 34 | C20: Financijski rashodi | D20: 130000 | E20: 130000 | F20: 130000
A21: 218 | B21: 343 | C21: Ostali financijski rashodi | D21: 130000
A23: AKTIVNOST | B23: A 101702 | C23: Proračunska zaliha | D23: =D26 -> 350000 | E23: 350000 | F23: 350000
A24: FUNKCIJSKA KLASIFIKACIJA | B24: 011 | C24: Izvršna i zakonodavna tijela
B26: 38 | C26: Donacije i ostali rashodi | D26: =D27 -> 350000 | E26: 350000 | F26: 350000
A27: 219 | B27: 385 | C27: Izvanredni rashodi | D27: 350000
A29: AKTIVNOST | B29: A101703 | C29: Police osiguranja | D29: 150000 | E29: 150000 | F29: 150000
A30: FUNKCIJSKA KLASIFIKACIJA | B30: 011 | C30: Izvršna i zakonodavna tijela
B32: 32 | C32: Materijalni rashodi | D32: 150000 | E32: 150000 | F32: 150000
A33: 220 | B33: 323 | C33: Rashodi za usluge | D33: 150000

Sheet razdjel 5
A2: Pozicija | B2: Konto | C2: Opis rashoda i izdataka | D2: Proračun 2022. | E2: Projekcija 2023. | F2: Projekcija 2024.
C4: RAZDJEL 5. UPRAVNI ODJEL ZA IMOVINU I PROSTORNO UREĐENJE | D4: =D8 -> 3940000 | E4: =E8 -> 4020000 | F4: =F8 -> 4060000
A6: GLAVA | B6: 5005 | C6: GOSPODARANJE GRADSKOM IMOVINOM | D6: =D8 -> 3940000 | E6: =E8 -> 4020000 | F6: =F8 -> 4060000
A8: PROGRAM | B8: 1018 | C8: GOSPODARANJE GRADSKOM IMOVINOM | D8: =D11+D17+D23+D29+D35+D41+D47+D53+D62 -> 3940000 | E8: =E11+E17+E23+E29+E35+E41+E47+E53+E62 -> 4020000 | F8: =F11+F17+F23+F29+F35+F41+F47+F53+F62 -> 4060000
A11: AKTIVNOST | B11: A101801 | C11: Strategije i planovi razvoja upravljanja imovinom | D11: =D14 -> 140000 | E11: =E14 -> 100000 | F11: 140000
A12: FUNKCIJSKA KLASIFIKACIJA | B12: 049 | C12: Ekonomski poslovi koji nisu drugdje svrstani
B14: 32 | C14: Materijalni rashodi | D14: 140000 | E14: 100000 | F14: 140000
A15: 221 | B15: 323 | C15: Rashodi za usluge | D15: 140000
A17: AKTIVNOST | B17: A101802 | C17: Rješavanje imovnsko - pravnih odnosa za otkup zemljišta za realizaciju projekata | D17: 1000000 | E17: 1100000 | F17: 1100000
A18: FUNKCIJSKA KLASIFIKACIJA | B18: 011 | C18: Izvršna i zakonodavna tijela
B20: 41 | C20: Rashodi za nabavu neproizvedene dugotrajne imovine | D20: 1000000 | E20: 1100000 | F20: 1100000
A21: 222 | B21: 411 | C21: Materijalna imovina, prirodno bogatsvo - zemljište | D21: 1000000
A23: AKTIVNOST | B23: A101803 | C23: Gospodarenje poslovnim i stambenim prostorima | D23: 250000 | E23: 280000 | F23: 280000
A24: FUNKCIJSKA KLASIFIKACIJA | B24: 066 | C24: Rashodi vezani za stanovanje i komunalne pogodnosti
B26: 32 | C26: Materijalni rashodi | D26: 250000 | E26: 280000 | F26: 280000
A27: 223 | B27: 323 | C27: Rashodi za usluge | D27: 250000
A29: AKTIVNOST | B29: A101804 | C29: Katastarska izmjera nerazvrstanih cesta-baza nerazvrstanih cesta | D29: 500000 | E29: 540000 | F29: 540000
A30: FUNKCIJSKA KLASIFIKACIJA | B30: 045 | C30: Cestovni promet
B32: 32 | C32: Materijalni rashodi | D32: 500000 | E32: 540000 | F32: 540000
A33: 224 | B33: 323 | C33: Rashodi za usluge | D33: 500000
A35: AKTIVNOST | B35: A101805 | C35: Odvjetničke usluge u zastupanju Grada | D35: =D38 -> 100000 | E35: =E38 -> 100000 | F35: =F38 -> 100000
A36: FUNKCIJSKA KLASIFIKACIJA | B36: 011 | C36: Izvršna i zakonodavna tijela
B38: 32 | C38: Materijalni rashodi | D38: =D39 -> 100000 | E38: 100000 | F38: 100000
A39: 225 | B39: 323 | C39: Rashodi za usluge | D39: 100000
A41: AKTIVNOST | B41: A101806 | C41: Prostorno planiranje: studije, podloge i ostala popratna dokumentacija | D41: =D44 -> 100000 | E41: =E44 -> 100000 | F41: =F44 -> 100000
A42: FUNKCIJSKA KLASIFIKACIJA | B42: 062 | C42: Razvoj zajednice
B44: 32 | C44: Materijalni rashodi | D44: 100000 | E44: 100000 | F44: 100000
A45: 226 | B45: 323 | C45: Rashodi za usluge | D45: 100000
A47: PROJEKT | B47: K101801 | C47: Kupnja nekretnina od interesa za Grad Sinj | D47: 1500000 | E47: 1500000 | F47: 1500000
A48: FUNKCIJSKA KLASIFIKACIJA | B48: 049 | C48: Ekonomski poslovi koji nisu drugdje svrstani
B50: 42 | C50: Rashodi za nabavu proizvedene dugotrajne impovine | D50: 1500000 | E50: 1500000 | F50: 1500000
A51: 227 | B51: 421 | C51: Građevinski objekti | D51: 1500000
A53: PROJEKT | B53: K101802 | C53: GIS Grada Sinja | D53: =D56+D59 -> 100000 | E53: =E56+E59 -> 100000 | F53: =F56+F59 -> 100000
A54: FUNKCIJSKA KLASIFIKACIJA | B54: 066 | C54: Rashodi vezani za stanovanje i komunalne pogodnosti
B56: 32 | C56: Materijalni rashodi | D56: 40000 | E56: 40000 | F56: 40000
A57: 228 | B57: 323 | C57: Rashodi za usluge | D57: 40000
B59: 42 | C59: Rashodi za nabavu proizvodne dugotrajne imovine | D59: 60000 | E59: 60000 | F59: 60000
A60: 229 | B60: 426 | C60: Nematerijalna proizvedena imovina | D60: 60000
A62: PROJEKT | B62: K101803 | C62: Izrada prostornih planova | D62: 250000 | E62: 200000 | F62: 200000
A63: FUNKCIJSKA KLASIFIKACIJA | B63: 062 | C63: Razvoj zajednice
...
