Workbook

Sheet Naslovna
B3: Na temelju članka 39. Zakona o proračunu ("Narodne novine" br. 87/08, 136/12 i 15/15) i članka 35.Statuta
B4: Grada Sinja ("Službeni glasnik Grada Sinja" br. 10/09, 2/13 i 2/18) Gradsko vijeće Grada Sinja na
B5: sjednici održanoj _____prosinca 2019. godine donijelo je:
B7: PRIJEDLOG PRORAČUNA GRADA SINJA ZA 2020.G. S PROJEKCIJAMA ZA 2021. I 2022.GOD.
B9: I. OPĆI DIO
B11: Članak 1.
B13: U Proračunu Grada Sinja za 2020. godinu (u daljnjem tekstu Proračun) i projekcije za 2021. i 2022.godinu i sastoji se od :
C15: A | D15: RAČUN PRIHODA I RASHODA | E15: Proračun 2020.g | F15: Projekcija 2021.g. | G15: Projekcija 2022.g.
D16: Prihodi poslovanja | E16: 121350000 | F16: =Prihodi!D7 -> 112200000 | G16: =Prihodi!E7 -> 76500000
D17: Prihodi od prodaje nefinancijske imovine | E17: 700000 | F17: =Prihodi!D37 -> 700000 | G17: =Prihodi!E37 -> 600000
D18: Rashodi poslovanja | E18: =Rashodi!C7 -> 82650000 | F18: =Rashodi!D7 -> 75540000 | G18: =Rashodi!E7 -> 72840000
D19: Rashodi za nabavu nefinancijske imovine | E19: =Rashodi!C43 -> 39700000 | F19: =Rashodi!D43 -> 37660000 | G19: =Rashodi!E43 -> 4460000
D20: Razlika višak / manjak | E20: -300000 | F20: -300000 | G20: -200000
C23: B | D23: RAČUN FINANCIRANJA | E23: Proračun 2020.g. | F23: Projekcija 2021.g. | G23: Projekcija 2022.g.
D24: Primici od financijske imovine i zaduživanja | E24: 300000 | F24: 0 | G24: 300000
D25: Izdaci za financijsku imovinu i otplate zajmova
D26: NETO FINANCIRANJE | E26: 300000 | F26: 0 | G26: 300000
D28: Višak / manjak + neto financiranje | E28: 0 | F28: 0 | G28: 0
E30: Članak 2.
D32: U proračunsku zalihu Proračuna Grada Sinja izdvaja se 300.000,00 kn.
E34: Članak 3.
D37: Prihodi i rashodi, te primici i izdaci po ekonomskoj klasifikaciji, utvrđuju se u Računu prihoda i rashoda i Računu financiranja za 2020. godinu, kako slijedi:

Sheet Prihodi
A1: A. PRIHODI POSLOVANJA
A3: Konto | B3: Opis prihoda | C3: Proračun 2020.g. | D3: Projekcija 2021.g. | E3: Projekcija 2022.g.
B5: PRIHODI UKUPNO (6+7) | C5: =C7+C37 -> 122050000 | D5: =D7+D37 -> 112900000 | E5: =E7+E37 -> 77100000
A7: 6 | B7: PRIHODI | C7: =C9+C14+C21+C26+C31+C34 -> 121350000 | D7: =D9+D14+D21+D26+D31+D34 -> 112200000 | E7: =E9+E14+E21+E26+E31+E34 -> 76500000
A9: 61 | B9: PRIHODI OD POREZA | C9: =C10+C11+C12 -> 55950000 | D9: 54000000 | E9: 54000000
A10: 611 | B10: Porez i prirez na dohodak | C10: 52000000
A11: 613 | B11: Porezi na imovinu | C11: 3500000
A12: 614 | B12: Porezi na robu i usluge | C12: 450000
A14: 63 | B14: POMOĆI | C14: =C15+C16+C17+C18+C19 -> 49650000 | D14: 43950000 | E14: 8150000
A15: 633 | B15: Pomoći proračunu iz drugih proračuna | C15: 4000000
A16: 634 | B16: Pomoći od izvanproračunskih korisnika | C16: 16750000
A17: 635 | B17: Tekuće pomoći izravnanja za decentralizirane funkcije | C17: 2300000
A18: 636 | B18: Pomoći proračunskim korisnicima iz proračuna koji im nije nadležan | C18: 600000
A19: 638 | B19: Pomoći temeljem prijenosa EU sredstava | C19: 26000000
A21: 64 | B21: PRIHODI OD IMOVINE | C21: =C22+C23+C24 -> 1500000 | D21: 1500000 | E21: 1500000
A22: 641 | B22: Prihodi od financijske imovine | C22: 20000
A23: 642 | B23: Prihodi od nefinancijske imovine | C23: 1470000
A24: 643 | B24: Prihodi od kamata na dane zajmove | C24: 10000
A26: 65 | B26: PRIHODI OD UPRAVNIH I ADMINISTRATIVNIH PRISTOJBI, PRISTOJBI PO POSEBNIM PROPISIMA I NAKNADA | C26: =C27+C28+C29 -> 9900000 | D26: 9900000 | E26: 10000000
A27: 651 | B27: Administrativne (upravne) pristojbe | C27: 600000
A28: 652 | B28: Prihodi po posebnim propisima | C28: 2300000
A29: 653 | B29: Komunalni doprinos i naknada | C29: 7000000
A31: 66 | B31: PRIHODI OD PRODAJE PROIZVODA I ROBA | C31: 350000 | D31: 350000 | E31: 350000
A32: 661 | B32: Prihod od prodaje proizvoda i roba | C32: 350000
A34: 68 | B34: KAZNE, UPRAVNE MJERE I OSTALI PRIHODI | C34: 4000000 | D34: 2500000 | E34: 2500000
A35: 683 | B35: Ostali nespomenuti prihodi | C35: 4000000
A37: 7 | B37: PRIHOD OD PRODAJE NEFINANCIJSKE IMOVINE | C37: =C39+C42 -> 700000 | D37: =D39+D42 -> 700000 | E37: =E39+E42 -> 600000
A39: 71 | B39: Prihod od prodaje neproizvedene imovine | C39: 400000 | D39: 400000 | E39: 300000
A40: 711 | B40: Prihod od prodaje materijalne imovine - prirodnih bogatstava | C40: 400000
A42: 72 | B42: Prihod od proizvedene imovine | C42: 300000 | D42: 300000 | E42: 300000
A43: 721 | B43: Prihod od prodaje građevinskih objekata | C43: 300000

Sheet Rashodi
A1: B. RASHODI POSLOVANJA
A3: Konto | B3: Opis rashoda | C3: Proračun 2020.g. | D3: Projekcija 2021.g. | E3: Projekcija 2022.g.
B5: RASHODI POSLOVANJA (3+4) | C5: =C7+C43 -> 122350000 | D5: =D7+D43 -> 113200000 | E5: =E7+E43 -> 77300000
A7: 3 | B7: RASHODI POSLOVANJA | C7: =C9+C14+C21+C24+C28+C33+C36 -> 82650000 | D7: =D9+D14+D21+D24+D28+D33+D36 -> 75540000 | E7: =E9+E14+E21+E24+E28+E33+E36 -> 72840000
A9: 31 | B9: Rashodi za zaposlene | C9: =C10+C11+C12 -> 20475000 | D9: 20385000 | E9: 18900000
A10: 311 | B10: Plaće | C10: 16770000
A11: 312 | B11: Ostali rashodi za zaposlene | C11: 820000
A12: 313 | B12: Doprinosi na plaće | C12: 2885000
A14: 32 | B14: Materijalni rashodi | C14: =C15+C16+C17+C18+C19 -> 24733000 | D14: 20368000 | E14: 19486000
A15: 321 | B15: Naknade troškova zaposlenima | C15: 1285000
A16: 322 | B16: Rashodi za materijal i energiju | C16: 4510000
A17: 323 | B17: Rashodi za usluge | C17: 16068000
A18: 324 | B18: Naknada troškova osobama izvan radnog odnosa | C18: 10000
A19: 329 | B19: Ostali nespomenuti rashodi | C19: 2860000
A21: 34 | B21: Financijski rashodi | C21: 225000 | D21: 221000 | E21: 221000
A22: 343 | B22: Ostali financijski rashodi | C22: 225000
A24: 35 | B24: Subvencije | C24: =C25+C26 -> 1140000 | D24: 980000 | E24: 980000
A25: 351 | B25: Subvencije trgovačkim društvima u javnom sektoru | C25: 90000
A26: 352 | B26: Subvencije trgovačkim društvima, poljoprivrednicima i obrtnicima izvan javnog sektora | C26: 1050000
A28: 36 | B28: Pomoći dane u inozemstvo i unutar općeg proračuna | C28: =C29+C30+C31 -> 2350000 | D28: 2000000 | E28: 750000
A29: 363 | B29: Pomoći unutar općeg proračuna | C29: 2050000
A30: 366 | B30: Pomoći proračunskim korisnicima drugih proračuna | C30: 150000
A31: 368 | B31: Pomoći temeljem prijenosa EU sredstava | C31: 150000
A33: 37 | B33: Naknade građanima i kućanstvima iz proračuna | C33: 9700000 | D33: 9700000 | E33: 9700000
A34: 372 | B34: Naknade građanima i kućanstvima iz proračuna | C34: 9700000
A36: 38 | B36: Donacije i ostali rashodi | C36: =C37+C38+C39+C40+C41 -> 24027000 | D36: 21886000 | E36: 22803000
A37: 381 | B37: Tekuće donacije | C37: 12069000
A38: 382 | B38: Kapitalne donacije | C38: 3658000
A39: 385 | B39: Izvanredni rashodi | C39: 300000
A40: 383 | B40: Kazne, penali i naknade štete | C40: 0
A41: 386 | B41: Kapitalne pomoći | C41: 8000000
A43: 4 | B43: RASHODI ZA NABAVU NEFINANCIJSKE IMOVINE | C43: =C44+C47+C54 -> 39700000 | D43: =D44+D47+D54 -> 37660000 | E43: =E44+E47+E54 -> 4460000
A44: 41 | B44: Rashodi za nabavu neproizvedene imovine | C44: 900000 | D44: 300000 | E44: 300000
A45: 411 | B45: Materijalna imovina | C45: 900000
A47: 42 | B47: Rashodi za nabavu proizvedene dugotrajne imovine | C47: =C48+C49+C50+C51+C52 -> 38500000 | D47: 37360000 | E47: 4160000
A48: 421 | B48: Građevinski objekti | C48: 31850000
A49: 422 | B49: Postrojenja i oprema | C49: 5060000
A50: 423 | B50: Prijevozna sredstva | C50: 0
A51: 424 | B51: Knjige | C51: 80000
A52: 426 | B52: Nematerijalna proizvedena imovina | C52: 1510000
...

Sheet Racun financiranja
A1: C. RAČUN FINANCIRANJA
A3: Konto | B3: Opis primici / izdaci | C3: Proračun 2020.g. | D3: Projekcija 2021.g. | E3: Projekcija 2022.g.
A5: 8 | B5: PRIMICI OD FINANCIJSKE IMOVINE I ZADUŽIVANJA | C5: 300000 | D5: 300000 | E5: 200000
A7: 81 | B7: Primljene otplate (povrat) glavnice zajmova | C7: 300000 | D7: 300000 | E7: 200000
A8: 812 | B8: Primici glavnice zajmova danih neprofitnim organizacijama, građanima i kućanstvima | C8: 150000
A9: 816 | B9: Povrat zajmova danih obrtnicima, malim i srednjim poduzetnicima | C9: 150000

Sheet razdjel 1
A2: II. POSEBNI DIO
A4: Članak 4.
A6: Rashodi i izdaci Proračuna u iznosu od 122.350.000,00 kn raspoređuju se po programskoj klasifikaciji po korisnicima i potanjim namjenama u Posebnom dijelu Proračuna kako slijedi:
A9: Pozicija | B9: Konto | C9: Opis rashoda i izdataka | D9: Proračun 2020.g. | E9: Projekicija 2021.g. | F9: Projekcija 2022.g.
C11: RAZDJEL 1. 010 URED GRADA | D11: =D12+D56 -> 58048000 | E11: =E12+E56 -> 55290000 | F11: =F12+F56 -> 51290000
A12: GLAVA 1 | B12: 1005 | C12: GRADSKA UPRAVA | D12: =D14 -> 11795000 | E12: =E14 -> 11795000 | F12: =F14 -> 11795000
A14: PROGRAM | B14: 1001 | C14: UPRAVLJANJE I ADMINISTRACIJA | D14: =D16+D32+D37+D45+D50 -> 11795000 | E14: =E16+E32+E37+E45+E50 -> 11795000 | F14: =F16+F32+F37+F45+F50 -> 11795000
A16: AKTIVNOST | B16: A 100101 | C16: Administrativni i stručni poslovi Grada | D16: =D18+D23+D29 -> 11330000 | E16: =E18+E23+E29 -> 11330000 | F16: =F18+F23+F29 -> 11330000
B18: 31 | C18: Rashodi za zaposlene | D18: =D19+D20+D21 -> 6980000 | E18: 6980000 | F18: 6980000
A19: 01 | B19: 311 | C19: Plaće | D19: 5700000
A20: 02 | B20: 312 | C20: Ostali rashodi za zaposlene | D20: 300000
A21: 03 | B21: 313 | C21: Doprinosi na plaće | D21: 980000
B23: 32 | C23: Materijalni rashodi | D23: =D24+D25+D26+D27 -> 4200000 | E23: 4200000 | F23: 4200000
A24: 04 | B24: 321 | C24: Naknade troškova zaposlenima | D24: 400000
A25: 05 | B25: 322 | C25: Rashodi za materijal i energiju | D25: 800000
A26: 06 | B26: 323 | C26: Rashodi za usluge | D26: 2000000
A27: 07 | B27: 329 | C27: Ostali nespomenuti rashodi | D27: 1000000
B29: 34 | C29: Financijski rashodi | D29: 150000 | E29: 150000 | F29: 150000
A30: 08 | B30: 343 | C30: Ostali financijski rashodi | D30: 150000
A32: AKTIVNOST | B32: A 100102 | C32: Proračunska zaliha | D32: 300000 | E32: 300000 | F32: 300000
B34: 38 | C34: Donacije i ostali rashodi | D34: 300000 | E34: 300000 | F34: 300000
A35: 09 | B35: 385 | C35: Izvanredni rashodi | D35: 300000
A37: AKTIVNOST | B37: A100103 | C37: Obveze po sudskim sporovima | D37: =D39+D42 -> 65000 | E37: =E39+E42 -> 65000 | F37: =F39+F42 -> 65000
B39: 34 | C39: Financijski rashodi | D39: 50000 | E39: 50000 | F39: 50000
A40: 10 | B40: 343 | C40: Ostali nespomenuti financijski rashodi | D40: 50000
B42: 32 | C42: Materijalni rashodi | D42: 15000 | E42: 15000 | F42: 15000
A43: 11 | B43: 329 | C43: Ostali nespomenuti rashodi poslovanja | D43: 15000
A45: AKTIVNOST | B45: A100104 | C45: Izbori za vijeća mjesnih odbora 2019. god. | D45: 30000 | E45: 30000 | F45: 30000
B47: 32 | C47: Materijalni rashodi | D47: 30000 | E47: 30000 | F47: 30000
A48: 12 | B48: 329 | C48: Ostali nespomenuti rashodi poslovanja | D48: 30000
A50: PROJEKT | B50: K 100101 | C50: Obnova uredskih prostorija i opreme | D50: =D52 -> 70000 | E50: 70000 | F50: 70000
B52: 42 | C52: Rashodi za nabavu proizvodne dugotrajne imovine | D52: =D53+D54 -> 70000 | E52: 70000 | F52: 70000
A53: 13 | B53: 422 | C53: Postrojenja i oprema | D53: 60000
A54: 14 | B54: 426 | C54: Nematerijalna proizvedena imovina - ulaganje u računalne programe | D54: 10000
A56: GLAVA 2 | B56: 1010 | C56: DRUŠTVENE DJELATNOSTI | D56: =D58+D86+D181+D229+D255+D308+D348 -> 46253000 | E56: =E58+E86+E181+E229+E255+E308+E348 -> 43495000 | F56: =F58+F86+F181+F229+F255+F308+F348 -> 39495000
A58: PROGRAM | B58: 1002 | C58: PREDŠKOLSKI ODGOJ | D58: =D60+D80 -> 13017000 | E58: =E60+E80 -> 12951000 | F58: =F60+F80 -> 12951000
A60: AKTIVNOST | B60: A100201 | C60: Financiranje redovne djelatnosti-DV "Bili cvitak" Sinj | D60: =D62+D67+D74+D77 -> 10747000 | E60: =E62+E67+E74+E77 -> 10681000 | F60: =F62+F67+F74+F77 -> 10681000
B62: 31 | C62: Rashodi za zaposlene | D62: =D63+D64+D65 -> 8120000 | E62: 8120000 | F62: 8120000
A63: 15 | B63: 311 | C63: Plaće | D63: 6680000
A64: 16 | B64: 312 | C64: Ostali rashodi za zaposlene | D64: 338000
...

Sheet razdjel 2
A2: Pozicija | B2: Konto | C2: Opis rashoda i izdataka | D2: Proračun 2020.g. | E2: Projekcija 2021.g. | F2: Projekcija 2022.g.
C4: RAZDJEL 2. 020 UPRAVNI ODJEL ZA PROSTORNO UREĐENJE, KOMUNALNE DJELATNOSTI GOSPODARSTVO I UPRAVLJANJE IMOVINOM | D4: =D5+D88 -> 64302000 | E4: =E5+E88 -> 57910000 | F4: =F5+F88 -> 26010000
A5: GLAVA 1 | B5: 2005 | C5: KOMUNALNO GOSPODARSTVO | D5: =D7+D40+D68 -> 17490000 | E5: =E7+E40+E68 -> 37200000 | F5: =F7+F40+F68 -> 8900000
A7: PROGRAM | B7: 1009 | C7: ODRŽAVANJE KOMUNALNE INFRASTRUKTURE | D7: =D9+D15+D20+D25+D30+D35 -> 7650000 | E7: =E9+E15+E20+E25+E30+E35 -> 7750000 | F7: =F9+F15+F20+F25+F30+F35 -> 7950000
A9: AKTIVNOST | B9: A100901 | C9: Javna rasvjeta | D9: =D11 -> 2500000 | E9: =E11 -> 2500000 | F9: 2700000
B11: 32 | C11: Materijalni rashodi | D11: =D12+D13 -> 2500000 | E11: 2500000 | F11: 2700000
A12: 107 | B12: 322 | C12: Rashodi za materijal i energiju | D12: 1800000
A13: 108 | B13: 323 | C13: Rashodi za usluge | D13: 700000
A15: AKTIVNOST | B15: A100902 | C15: Održavanje nerazvrstanih cesta | D15: 2500000 | E15: =E17 -> 2500000 | F15: 2500000
B17: 32 | C17: Materijalni rashodi | D17: 2500000 | E17: 2500000 | F17: 2500000
A18: 109 | B18: 323 | C18: Rashodi za usluge | D18: 2500000
A20: AKTIVNOST | B20: A100903 | C20: Odvodnja oborinskih voda | D20: 150000 | E20: 150000 | F20: 150000
B22: 32 | C22: Materijalni rashodi | D22: 150000 | E22: 150000 | F22: 150000
A23: 110 | B23: 323 | C23: Rashodi za usluge | D23: 150000
A25: AKTIVNOST | B25: A100904 | C25: Održavanje čistoće | D25: 900000 | E25: 1000000 | F25: 1000000
B27: 32 | C27: Materijalni rashodi | D27: 900000 | E27: 1000000 | F27: 1000000
A28: 111 | B28: 323 | C28: Rashodi za usluge | D28: 900000
A30: AKTIVNOST | B30: A100905 | C30: Održavanje javnih površina | D30: 1200000 | E30: 1200000 | F30: 1200000
B32: 32 | C32: Materijalni rashodi | D32: 1200000 | E32: 1200000 | F32: 1200000
A33: 112 | B33: 323 | C33: Rashodi za usluge | D33: 1200000
A35: AKTIVNOST | B35: A100906 | C35: Održavanje groblja | D35: 400000 | E35: 400000 | F35: 400000
B37: 32 | C37: Materijalni rashodi | D37: 400000 | E37: 400000 | F37: 400000
A38: 113 | B38: 323 | C38: Rashodi za usluge | D38: 400000
A40: PROGRAM | B40: 1010 | C40: ZAJEDNIČKI RASHODI U FUNKCIJI ODRŽAVANJA KOMUNALNE INFRASTRUKTURE | D40: =D42+D48+D53+D58+D63 -> 890000 | E40: =E42+E48+E53+E58+E63 -> 800000 | F40: =F42+F48+F53+F58+F63 -> 800000
A42: AKTIVNOST | B42: A101001 | C42: Zajedničke usluge u komunalnom gospodarstvu | D42: =D44 -> 350000 | E42: 350000 | F42: 350000
B44: 32 | C44: Materijalni rashodi | D44: =D45+D46 -> 350000 | E44: 350000 | F44: 350000
A45: 114 | B45: 323 | C45: Rashodi za usluge | D45: 200000
A46: 115 | B46: 329 | C46: Ostali nespomenuti rashodi | D46: 150000
A48: PROJEKT | B48: K101001 | C48: Energetska učinkovitost na sustavu javne rasvjete | D48: 100000 | E48: 300000 | F48: 300000
B50: 32 | C50: Materijalni rashodi | D50: 100000 | E50: 300000 | F50: 300000
A51: 116 | B51: 323 | C51: Rashodi za usluge | D51: 100000
A53: PROJEKT | B53: K101002 | C53: Izgradnja ugibališta i autobusnih čekaonica | D53: 100000 | E53: 50000 | F53: 50000
B55: 32 | C55: Materijalni rashodi | D55: 100000 | E55: 50000 | F55: 50000
A56: 117 | B56: 323 | C56: Rashodi za usluge | D56: 100000
A58: PROJEKT | B58: K101003 | C58: Ugradnja video - kamera na javnim površinama | D58: 190000 | E58: 0 | F58: 0
B60: 42 | C60: Rashodi za nabavu proizvodne dugotrajne imovine | D60: 190000 | E60: 0 | F60: 0
A61: 118 | B61: 422 | C61: Postrojenja i oprema | D61: 190000
A63: PROJEKT | B63: K101104 | C63: Nabavka urbane opreme | D63: 150000 | E63: 100000 | F63: 100000
B65: 42 | C65: Rashodi za nabavu proizvodne dugotrajne imovine | D65: 150000 | E65: 100000 | F65: 100000
A66: 119 | B66: 422 | C66: Postrojenja i oprema | D66: 150000
...

Sheet Plan razv 2019 
A1: III. PLAN RAZVOJNIH PROGRAMA
A3: Članak 5.
A5: Plan razvojnih programa prikazuje planirane rashode vezane uz provođenje investicija i davanje kapitalne pomoći i donacija za razdoblje 2020. - 2022. godine.
A7: Odsjek: Gradska uprava
B8: OPIS RAZVOJNOG PROGRAMA
A9: STRATEŠKI CILJ | C9: NAZIV MJERE | D9: PROGRAM U PRORAČUNU | E9: AKTIVNOST/ PROJEKT | F9: ŠIFRA PROJEKTA | G9: PRORAČUN 2020.G. | H9: PROJEKCIJA 2021.G. | I9: PROJEKCIJA 2022.G.
A11: CILJ BR 1.Jačanje ljudskih resursa | B11: Troškovi nabavke razne računalne i telekomunikacijske opreme Nabavka službenog vozila | C11: Efikasna lokalna samouprava Efikasna lokalna samouprava | D11: Javna uprava i administracija Javna uprava i administracija | E11: Obnova uredskih prostorija i opreme nabavka službenog vozila | F11: K100101 | G11: 70000 | H11: 70000 | I11: 70000
A13: Ukupno Gradska uprava: | G13: 70000 | H13: =H11 -> 70000 | I13: =I11 -> 70000
A15: Odsjek: Društvenih djelatnosti
B16: Završetak projekta sanacije i rekonstrukcije Tvrđave Grad uz potporu Ministarstva kulture RH
A17: CILJ BR. 4. Kontinuitet jedinstvenog kulturnog identiteta | C17: Zaštita kulturno povijesne baštine | D17: Program kulture | E17: Sanacija Gradske tvrđave | F17: K100301 | G17: 300000 | H17: 0 | I17: 0
D18: Program kulture | E18: Izgradnja spomen prostora poginulim braniteljima Domovinskog rata Cetinske krajine | F18: K100302 | G18: 150000 | H18: 0 | I18: 0
D19: Program kulture | E19: Konzervatorsko restauratorski zahavt na brončanom spomeniku NOB-a | F19: K100303 | G19: 900000 | H19: 0 | I19: 0
D20: Program kulture | E20: Konzervatorsko restauratorski zahvat na brončanoj sklupturi "Spomenik Alkaru" | F20: K100305 | G20: 900000 | H20: 0 | I20: 0
A22: Ukupno Društvene djelatnosti: | G22: =G17+G18+G19+G20 -> 2250000 | H22: =H17+H18+H19+H20 -> 0 | I22: =I17+I18+I20 -> 0
A23: Ukupno Razdjel 1: | G23: =G13+G22 -> 2320000 | H23: =H13+H22 -> 70000 | I23: =I13+I22 -> 70000
A25: Odsjek: Komunalno gospodarstvo
A27: STRATEŠKI CILJ | B27: OPIS RAZVOJNOG PROGRAMA | C27: NAZIV MJERE | D27: PROGRAM U PRORAČUNU | E27: AKTIVNOST/ PROJEKT | F27: ŠIFRA PROJEKTA | G27: PRORAČUN 2020. | H27: PROJEKCIJA 2021.G. | I27: PROJEKCIJA 2022.G.
B29: Daljnja provedba programa energetske učinkovitosti na sustavu javne rasvjete | C29: Učinkovito gospodarenje energijom | D29: Zajednički rashodi u funkciji održavanja komunalne infrastrukture | E29: Energetska učinkovitost na sustavu javne rasvjete | F29: K101001 | G29: 100000 | H29: 300000 | I29: 300000
B30: Daljnji razvitak komunalne infrastrukture | C30: Učinkovito gospodarenje komunalnim resursima | D30: Zajednički rashodi u funkciji održavanja komunalne infrastrukture | E30: Ugradnja video - kamera na javnim površinama | F30: K101003 | G30: 190000 | H30: 0 | I30: 0
B31: Nabavka programa radi efikasnijeg upravljanja u lokalnoj samoupravi | C31: Unapređenje i pružanje informacija u komunalnom gospodarstvu | D31: Zajednički rashodi u funkciji održavanja komunalne infrastrukture | E31: Nabavka urbane opreme | F31: K101104 | G31: 150000 | H31: 100000 | I31: 100000
A32: CILJ BR. 2. Izgrađeni i usklađeni infrastrukturni i prirodni resursi kao osnovni preduvjet kvalitete života | B32: Ishođenje građevinske dozvole, raspisivanje natječaja za sanaciju, odabir izvođača i početak radova na sanaciji | C32: Zaštita okoliša i gospodarenje otpadom | D32: Zaštita okoliša | E32: Sanacija odlagališta komunalnog otpada Mojanka | F32: K101101 | G32: 5000000 | H32: 15000000 | I32: 0
B33: Nabava opreme za odvojeno skupljanje otpada | C33: Zaštita okoliša i gospodarenje otpadom | D33: Zaštita okoliša | E33: Plan gospodarenja otpadom | F33: K101102 | G33: 950000 | H33: 150000 | I33: 150000
B34: Stvaranje uvjeta za odvojeno prikupljanje otpada | C34: Zaštita okoliša i gospodarenje otpadom | D34: Zaštita okoliša | E34: Izgradnja sortirnice projektna dokumentacija | F34: K101103 | G34: 3000000 | H34: 13500000 | I34: 0
A35: Ukupno Komunalno gospodarstvo: | G35: =G29+G30+G31+G32+G33+G34 -> 9390000 | H35: =H29+H30+H31+H32+H33+H34 -> 29050000 | I35: =I29+I30+I31+I32+I33+I34 -> 550000
A51: Odsjek: Prostorno uređenje, gospodarstvo i upravljanje imovinom
G52: PRORAČUN 2020.G. | H52: PROJEKCIJA 2021.G. | I52: PROJEKCIJA 2022.G.
A53: CILJ BR. 1. Kvalitetni i dinamički ljudski resursi, kao aktivni nositelji sadašnjosti i budućnosti Grada Sinja | B53: Ulaganje u športsko rekreacijsku kulturu i stvaranje športsko rekreativnih programa | C53: Izgradnja štala i njeno stavljanje u funkciju | D53: Program razvitka gospodarstva i izgradnja kapitalnih projekata | E53: Izgradnja štala na Hipodromu | F53: K101207 | G53: 800000 | H53: 0 | I53: 0
B54: Ulaganje u športsko rekreacijsku kulturu i stvaranje športsko rekreativnih programa | C54: Uređenje prostora Aerodrom | D54: Program razvitka gospodarstva i izgradnja kapitalnih projekata | E54: Izrada ograde oko Sinjskog Aerodroma | F54: K101212 | G54: 700000 | H54: 0 | I54: 0
B55: Ulaganje u športsko rekreacijsku kulturu i stvaranje športsko rekreativnih programa | C55: Omogućavanje nadvodnjavanja na športskim terenima | D55: Program razvitka gospodarstva i izgradnja kapitalnih projekata | E55: Nabavka pumpi za nadvodnjavanje športskih terena iz bušotina | F55: K101226 | G55: 500000 | H55: 0 | I55: 0
B56: Ulaganje u športsko rekreacijsku kulturu i stvaranje športsko rekreativnih programa | C56: Uređenje športskih terena | D56: Program razvitka gospodarstva i izgradnja kapitalnih projekata | E56: Izgradnja velikog igrališta sa umjetnom travom uz gradski stadion NK Junak | F56: K101233 | G56: 2000000 | H56: 0 | I56: 0
B57: Ulaganje u osnovno školstvo | C57: Izrada projektne dokumentacije | D57: Program razvitka gospodarstva i izgradnja kapitalnih projekata | E57: Izgradnja osnovne glazbene škole Jakova Gotovca u Sinju | F57: K101231 | G57: 200000 | H57: 0 | I57: 0
A58: CILJ BR.2.
A59: Izgrađeni i usklađeni infrastrukturni i prirodni resursi kao osnovni preduvjet kvalitete života | B59: Rješavanje imovinsko pravnih odnosa za potrebe realizacije projekta aglomeracije | C59: Razvoj komunalne infrastrukture | D59: Razvitak gospodarstva i izgradnja kap.objekata | E59: Kupnja nekretnine | F59: K101204 | G59: 300000 | H59: 300000 | I59: 300000
B60: Nastavak izgradnje nogostupa Put Pavića | C60: Razvoj lokalne cestovne infrastrukture | D60: Razvitak gospodarstva i izgradnja kap.objekata | E60: Izgradnja nogostupa Put Pavića | F60: K101205 | G60: 200000 | H60: 1500000 | I60: 0
B61: Razvoj cestovne infrastrukture | C61: Kvalitetna prometna povezanost – sigurnost u prometu | D61: Razvitak gospodarstva i izgradnja kap.objekata | E61: Izgradnja nogostupa od Zorke Macana do spomenika Radošić Gornji | F61: K101206 | G61: 100000 | H61: 0 | I61: 0
B62: Izrada prostorno planske dokumentacije | C62: Daljnja detaljna razrada planova dijelova Grada | D62: Razvitak gospodarstva i izgradnja kap.objekata | E62: Izrada prostornih planova | F62: K101208 | G62: 250000 | H62: 200000 | I62: 200000
B63: Poticanje energetske učinkovitosti | C63: Provedba programa energetske učinkovitosti na objektima u vlasništvu Grada | D63: Razvitak gospodarstva i izgradnja kap.objekata | E63: Sustav energetske učinkovitosti na objektima u vlasništvu Grada | F63: K101209 | G63: 150000 | H63: 2000000 | I63: 3000000
B64: Razvoj infrastrukture | C64: Povećanje broja grobnih mjesta | D64: Razvitak gospodarstva i izgradnja kap.objekata | E64: Proširenje groblja u Brnazama | F64: K101210 | G64: 100000 | H64: 0 | I64: 0
B65: Razvoj infrastrukture | C65: Povećanje broja grobnih mjesta | D65: Razvitak gospodarstva i izgradnja kap.objekata | E65: Proširenje groblja u Turjacima | F65: K101211 | G65: 500000 | H65: 1000000 | I65: 0
...
