Workbook

Sheet Naslovna
B3: Na temelju članka 39. Zakona o proračunu ("Narodne novine" br. 87/08, 136/12 i 15/15) i članka 35.Statuta
B4: Grada Sinja ("Službeni glasnik Grada Sinja" br. 10/09, 2/13 i 2/18) Gradsko vijeće Grada Sinja na
B5: sjednici održanoj _____prosinca 2019. godine donijelo je:
B7: PRIJEDLOG PRORAČUNA GRADA SINJA ZA 2020.G. S PROJEKCIJAMA ZA 2021. I 2022.GOD.
B9: I. OPĆI DIO
B11: Članak 1.
B13: U Proračunu Grada Sinja za 2020. godinu (u daljnjem tekstu Proračun) i projekcije za 2021. i 2022.godinu i sastoji se od :
C15: A | D15: RAČUN PRIHODA I RASHODA | E15: Proračun 2020.g | F15: Projekcija 2021.g. | G15: Projekcija 2022.g.
D16: Prihodi poslovanja | E16: 121350000 | F16: =Prihodi!D7 -> 112200000 | G16: =Prihodi!E7 -> 76500000
D17: Prihodi od prodaje nefinancijske imovine | E17: 700000 | F17: =Prihodi!D37 -> 700000 | G17: =Prihodi!E37 -> 600000
D18: Rashodi poslovanja | E18: =Rashodi!C7 -> 82650000 | F18: =Rashodi!D7 -> 75540000 | G18: =Rashodi!E7 -> 72840000
D19: Rashodi za nabavu nefinancijske imovine | E19: =Rashodi!C43 -> 39700000 | F19: =Rashodi!D43 -> 37660000 | G19: =Rashodi!E43 -> 4460000
D20: Razlika višak / manjak | E20: -300000 | F20: -300000 | G20: -200000
C23: B | D23: RAČUN FINANCIRANJA | E23: Proračun 2020.g. | F23: Projekcija 2021.g. | G23: Projekcija 2022.g.
D24: Primici od financijske imovine i zaduživanja | E24: 300000 | F24: 0 | G24: 300000
D25: Izdaci za financijsku imovinu i otplate zajmova
D26: NETO FINANCIRANJE | E26: 300000 | F26: 0 | G26: 300000
D28: Višak / manjak + neto financiranje | E28: 0 | F28: 0 | G28: 0
E30: Članak 2.
D32: U proračunsku zalihu Proračuna Grada Sinja izdvaja se 300.000,00 kn.
E34: Članak 3.
D37: Prihodi i rashodi, te primici i izdaci po ekonomskoj klasifikaciji, utvrđuju se u Računu prihoda i rashoda i Računu financiranja za 2020. godinu, kako slijedi:

Sheet Prihodi
A1: A. PRIHODI POSLOVANJA
A3: Konto | B3: Opis prihoda | C3: Proračun 2020.g. | D3: Projekcija 2021.g. | E3: Projekcija 2022.g.
B5: PRIHODI UKUPNO (6+7) | C5: =C7+C37 -> 122050000 | D5: =D7+D37 -> 112900000 | E5: =E7+E37 -> 77100000
A7: 6 | B7: PRIHODI | C7: =C9+C14+C21+C26+C31+C34 -> 121350000 | D7: =D9+D14+D21+D26+D31+D34 -> 112200000 | E7: =E9+E14+E21+E26+E31+E34 -> 76500000
A9: 61 | B9: PRIHODI OD POREZA | C9: =C10+C11+C12 -> 55950000 | D9: 54000000 | E9: 54000000
A10: 611 | B10: Porez i prirez na dohodak | C10: 52000000
A11: 613 | B11: Porezi na imovinu | C11: 3500000
A12: 614 | B12: Porezi na robu i usluge | C12: 450000
A14: 63 | B14: POMOĆI | C14: =C15+C16+C17+C18+C19 -> 49650000 | D14: 43950000 | E14: 8150000
A15: 633 | B15: Pomoći proračunu iz drugih proračuna | C15: 4000000
A16: 634 | B16: Pomoći od izvanproračunskih korisnika | C16: 16750000
A17: 635 | B17: Tekuće pomoći izravnanja za decentralizirane funkcije | C17: 2300000
A18: 636 | B18: Pomoći proračunskim korisnicima iz proračuna koji im nije nadležan | C18: 600000
A19: 638 | B19: Pomoći temeljem prijenosa EU sredstava | C19: 26000000
A21: 64 | B21: PRIHODI OD IMOVINE | C21: =C22+C23+C24 -> 1500000 | D21: 1500000 | E21: 1500000
A22: 641 | B22: Prihodi od financijske imovine | C22: 20000
A23: 642 | B23: Prihodi od nefinancijske imovine | C23: 1470000
A24: 643 | B24: Prihodi od kamata na dane zajmove | C24: 10000
A26: 65 | B26: PRIHODI OD UPRAVNIH I ADMINISTRATIVNIH PRISTOJBI, PRISTOJBI PO POSEBNIM PROPISIMA I NAKNADA | C26: =C27+C28+C29 -> 9900000 | D26: 9900000 | E26: 10000000
A27: 651 | B27: Administrativne (upravne) pristojbe | C27: 600000
A28: 652 | B28: Prihodi po posebnim propisima | C28: 2300000
A29: 653 | B29: Komunalni doprinos i naknada | C29: 7000000
A31: 66 | B31: PRIHODI OD PRODAJE PROIZVODA I ROBA | C31: 350000 | D31: 350000 | E31: 350000
A32: 661 | B32: Prihod od prodaje proizvoda i roba | C32: 350000
A34: 68 | B34: KAZNE, UPRAVNE MJERE I OSTALI PRIHODI | C34: 4000000 | D34: 2500000 | E34: 2500000
A35: 683 | B35: Ostali nespomenuti prihodi | C35: 4000000
A37: 7 | B37: PRIHOD OD PRODAJE NEFINANCIJSKE IMOVINE | C37: =C39+C42 -> 700000 | D37: =D39+D42 -> 700000 | E37: =E39+E42 -> 600000
A39: 71 | B39: Prihod od prodaje neproizvedene imovine | C39: 400000 | D39: 400000 | E39: 300000
A40: 711 | B40: Prihod od prodaje materijalne imovine - prirodnih bogatstava | C40: 400000
A42: 72 | B42: Prihod od proizvedene imovine | C42: 300000 | D42: 300000 | E42: 300000
A43: 721 | B43: Prihod od prodaje građevinskih objekata | C43: 300000

Sheet Rashodi
A1: B. RASHODI POSLOVANJA
A3: Konto | B3: Opis rashoda | C3: Proračun 2020.g. | D3: Projekcija 2021.g. | E3: Projekcija 2022.g.
B5: RASHODI POSLOVANJA (3+4) | C5: =C7+C43 -> 122350000 | D5: =D7+D43 -> 113200000 | E5: =E7+E43 -> 77300000
A7: 3 | B7: RASHODI POSLOVANJA | C7: =C9+C14+C21+C24+C28+C33+C36 -> 82650000 | D7: =D9+D14+D21+D24+D28+D33+D36 -> 75540000 | E7: =E9+E14+E21+E24+E28+E33+E36 -> 72840000
A9: 31 | B9: Rashodi za zaposlene | C9: =C10+C11+C12 -> 20475000 | D9: 20385000 | E9: 18900000
A10: 311 | B10: Plaće | C10: 16770000
A11: 312 | B11: Ostali rashodi za zaposlene | C11: 820000
A12: 313 | B12: Doprinosi na plaće | C12: 2885000
A14: 32 | B14: Materijalni rashodi | C14: =C15+C16+C17+C18+C19 -> 24733000 | D14: 20368000 | E14: 19486000
A15: 321 | B15: Naknade troškova zaposlenima | C15: 1285000
A16: 322 | B16: Rashodi za materijal i energiju | C16: 4510000
A17: 323 | B17: Rashodi za usluge | C17: 16068000
A18: 324 | B18: Naknada troškova osobama izvan radnog odnosa | C18: 10000
A19: 329 | B19: Ostali nespomenuti rashodi | C19: 2860000
A21: 34 | B21: Financijski rashodi | C21: 225000 | D21: 221000 | E21: 221000
A22: 343 | B22: Ostali financijski rashodi | C22: 225000
A24: 35 | B24: Subvencije | C24: =C25+C26 -> 1140000 | D24: 980000 | E24: 980000
A25: 351 | B25: Subvencije trgovačkim društvima u javnom sektoru | C25: 90000
A26: 352 | B26: Subvencije trgovačkim društvima, poljoprivrednicima i obrtnicima izvan javnog sektora | C26: 1050000
A28: 36 | B28: Pomoći dane u inozemstvo i unutar općeg proračuna | C28: =C29+C30+C31 -> 2350000 | D28: 2000000 | E28: 750000
A29: 363 | B29: Pomoći unutar općeg proračuna | C29: 2050000
A30: 366 | B30: Pomoći proračunskim korisnicima drugih proračuna | C30: 150000
A31: 368 | B31: Pomoći temeljem prijenosa EU sredstava | C31: 150000
A33: 37 | B33: Naknade građanima i kućanstvima iz proračuna | C33: 9700000 | D33: 9700000 | E33: 9700000
A34: 372 | B34: Naknade građanima i kućanstvima iz proračuna | C34: 9700000
A36: 38 | B36: Donacije i ostali rashodi | C36: =C37+C38+C39+C40+C41 -> 24027000 | D36: 21886000 | E36: 22803000
A37: 381 | B37: Tekuće donacije | C37: 12069000
A38: 382 | B38: Kapitalne donacije | C38: 3658000
A39: 385 | B39: Izvanredni rashodi | C39: 300000
A40: 383 | B40: Kazne, penali i naknade štete | C40: 0
A41: 386 | B41: Kapitalne pomoći | C41: 8000000
A43: 4 | B43: RASHODI ZA NABAVU NEFINANCIJSKE IMOVINE | C43: =C44+C47+C54 -> 39700000 | D43: =D44+D47+D54 -> 37660000 | E43: =E44+E47+E54 -> 4460000
A44: 41 | B44: Rashodi za nabavu neproizvedene imovine | C44: 900000 | D44: 300000 | E44: 300000
A45: 411 | B45: Materijalna imovina | C45: 900000
A47: 42 | B47: Rashodi za nabavu proizvedene dugotrajne imovine | C47: =C48+C49+C50+C51+C52 -> 38500000 | D47: 37360000 | E47: 4160000
A48: 421 | B48: Građevinski objekti | C48: 31850000
A49: 422 | B49: Postrojenja i oprema | C49: 5060000
A50: 423 | B50: Prijevozna sredstva | C50: 0
A51: 424 | B51: Knjige | C51: 80000
A52: 426 | B52: Nematerijalna proizvedena imovina | C52: 1510000
A54: 45 | B54: Rashodi za dodatna ulaganja na nefinancijskoj imovini | C54: 300000 | D54: 0 | E54: 0
A55: 451 | B55: Dodatna ulaganja na građevinskim objektima | C55: 300000

Sheet Racun financiranja
A1: C. RAČUN FINANCIRANJA
A3: Konto | B3: Opis primici / izdaci | C3: Proračun 2020.g. | D3: Projekcija 2021.g. | E3: Projekcija 2022.g.
A5: 8 | B5: PRIMICI OD FINANCIJSKE IMOVINE I ZADUŽIVANJA | C5: 300000 | D5: 300000 | E5: 200000
A7: 81 | B7: Primljene otplate (povrat) glavnice zajmova | C7: 300000 | D7: 300000 | E7: 200000
A8: 812 | B8: Primici glavnice zajmova danih neprofitnim organizacijama, građanima i kućanstvima | C8: 150000
A9: 816 | B9: Povrat zajmova danih obrtnicima, malim i srednjim poduzetnicima | C9: 150000

Sheet razdjel 1
A2: II. POSEBNI DIO
A4: Članak 4.
A6: Rashodi i izdaci Proračuna u iznosu od 122.350.000,00 kn raspoređuju se po programskoj klasifikaciji po korisnicima i potanjim namjenama u Posebnom dijelu Proračuna kako slijedi:
A9: Pozicija | B9: Konto | C9: Opis rashoda i izdataka | D9: Proračun 2020.g. | E9: Projekicija 2021.g. | F9: Projekcija 2022.g.
C11: RAZDJEL 1. 010 URED GRADA | D11: =D12+D56 -> 58048000 | E11: =E12+E56 -> 55290000 | F11: =F12+F56 -> 51290000
A12: GLAVA 1 | B12: 1005 | C12: GRADSKA UPRAVA | D12: =D14 -> 11795000 | E12: =E14 -> 11795000 | F12: =F14 -> 11795000
A14: PROGRAM | B14: 1001 | C14: UPRAVLJANJE I ADMINISTRACIJA | D14: =D16+D32+D37+D45+D50 -> 11795000 | E14: =E16+E32+E37+E45+E50 -> 11795000 | F14: =F16+F32+F37+F45+F50 -> 11795000
A16: AKTIVNOST | B16: A 100101 | C16: Administrativni i stručni poslovi Grada | D16: =D18+D23+D29 -> 11330000 | E16: =E18+E23+E29 -> 11330000 | F16: =F18+F23+F29 -> 11330000
B18: 31 | C18: Rashodi za zaposlene | D18: =D19+D20+D21 -> 6980000 | E18: 6980000 | F18: 6980000
A19: 01 | B19: 311 | C19: Plaće | D19: 5700000
A20: 02 | B20: 312 | C20: Ostali rashodi za zaposlene | D20: 300000
A21: 03 | B21: 313 | C21: Doprinosi na plaće | D21: 980000
B23: 32 | C23: Materijalni rashodi | D23: =D24+D25+D26+D27 -> 4200000 | E23: 4200000 | F23: 4200000
A24: 04 | B24: 321 | C24: Naknade troškova zaposlenima | D24: 400000
A25: 05 | B25: 322 | C25: Rashodi za materijal i energiju | D25: 800000
A26: 06 | B26: 323 | C26: Rashodi za usluge | D26: 2000000
A27: 07 | B27: 329 | C27: Ostali nespomenuti rashodi | D27: 1000000
B29: 34 | C29: Financijski rashodi | D29: 150000 | E29: 150000 | F29: 150000
A30: 08 | B30: 343 | C30: Ostali financijski rashodi | D30: 150000
A32: AKTIVNOST | B32: A 100102 | C32: Proračunska zaliha | D32: 300000 | E32: 300000 | F32: 300000
B34: 38 | C34: Donacije i ostali rashodi | D34: 300000 | E34: 300000 | F34: 300000
A35: 09 | B35: 385 | C35: Izvanredni rashodi | D35: 300000
A37: AKTIVNOST | B37: A100103 | C37: Obveze po sudskim sporovima | D37: =D39+D42 -> 65000 | E37: =E39+E42 -> 65000 | F37: =F39+F42 -> 65000
B39: 34 | C39: Financijski rashodi | D39: 50000 | E39: 50000 | F39: 50000
A40: 10 | B40: 343 | C40: Ostali nespomenuti financijski rashodi | D40: 50000
B42: 32 | C42: Materijalni rashodi | D42: 15000 | E42: 15000 | F42: 15000
A43: 11 | B43: 329 | C43: Ostali nespomenuti rashodi poslovanja | D43: 15000
A45: AKTIVNOST | B45: A100104 | C45: Izbori za vijeća mjesnih odbora 2019. god. | D45: 30000 | E45: 30000 | F45: 30000
B47: 32 | C47: Materijalni rashodi | D47: 30000 | E47: 30000 | F47: 30000
A48: 12 | B48: 329 | C48: Ostali nespomenuti rashodi poslovanja | D48: 30000
A50: PROJEKT | B50: K 100101 | C50: Obnova uredskih prostorija i opreme | D50: =D52 -> 70000 | E50: 70000 | F50: 70000
B52: 42 | C52: Rashodi za nabavu proizvodne dugotrajne imovine | D52: =D53+D54 -> 70000 | E52: 70000 | F52: 70000
A53: 13 | B53: 422 | C53: Postrojenja i oprema | D53: 60000
A54: 14 | B54: 426 | C54: Nematerijalna proizvedena imovina - ulaganje u računalne programe | D54: 10000
A56: GLAVA 2 | B56: 1010 | C56: DRUŠTVENE DJELATNOSTI | D56: =D58+D86+D181+D229+D255+D308+D348 -> 46253000 | E56: =E58+E86+E181+E229+E255+E308+E348 -> 43495000 | F56: =F58+F86+F181+F229+F255+F308+F348 -> 39495000
A58: PROGRAM | B58: 1002 | C58: PREDŠKOLSKI ODGOJ | D58: =D60+D80 -> 13017000 | E58: =E60+E80 -> 12951000 | F58: =F60+F80 -> 12951000
A60: AKTIVNOST | B60: A100201 | C60: Financiranje redovne djelatnosti-DV "Bili cvitak" Sinj | D60: =D62+D67+D74+D77 -> 10747000 | E60: =E62+E67+E74+E77 -> 10681000 | F60: =F62+F67+F74+F77 -> 10681000
B62: 31 | C62: Rashodi za zaposlene | D62: =D63+D64+D65 -> 8120000 | E62: 8120000 | F62: 8120000
A63: 15 | B63: 311 | C63: Plaće | D63: 6680000
A64: 16 | B64: 312 | C64: Ostali rashodi za zaposlene | D64: 338000
A65: 17 | B65: 313 | C65: Doprinosi na plaće | D65: 1102000
B67: 32 | C67: Materijalni rashodi | D67: =D68+D69+D70+D71+D72 -> 2460000 | E67: 2398000 | F67: 2398000
A68: 18 | B68: 321 | C68: Naknade troškova zaposlenima | D68: 700000
A69: 19 | B69: 322 | C69: Rashodi za materijal i energiju | D69: 1300000
A70: 20 | B70: 323 | C70: Rashodi za usluge | D70: 350000
A71: 21 | B71: 324 | C71: Naknade troškova osobama izvan radnog odnosa | D71: 10000
A72: 22 | B72: 329 | C72: Ostali nespomenuti rashodi | D72: 100000
B74: 34 | C74: Financijski rashodi | D74: 17000 | E74: 13000 | F74: 13000
A75: 23 | B75: 343 | C75: Ostali financijski rashodi | D75: 17000
B77: 42 | C77: Rashodi za nabavu proizvedene dugotrajne imovine | D77: 150000 | E77: 150000 | F77: 150000
A78: 24 | B78: 422 | C78: Uredska oprema i namještaj | D78: 150000
A80: AKTIVNOST | B80: A100202 | C80: Sufinanciranje predškolskog odgoja | D80: =D82 -> 2270000 | E80: 2270000 | F80: 2270000
B82: 38 | C82: Ostali rashodi | D82: =D83+D84 -> 2270000 | E82: 2270000 | F82: 2270000
A83: 25 | B83: 381 | C83: Tekuće donacije - vjerski vrtići "Blagovijest" | D83: 525000
A84: 26 | B84: 381 | C84: Tekuće donacije - privatni vrtić "Čarobni pianino" | D84: 1745000
A86: PROGRAM | B86: 1003 | C86: KULTURA | D86: =D88+D108+D113+D118+D123+D129+D133+D138+D146+D151+D156+D161+D166+D171+D176 -> 6423000 | E86: =E88+E108+E113+E118+E123+E129+E133+E138+E146+E151+E156+E161+E166+E171+E176 -> 3208000 | F86: =F88+F108+F113+F118+F123+F129+F133+F138+F146+F151+F156+F161+F166+F171+F176 -> 3236000
A88: AKTIVNOST | B88: A100301 | C88: Gradska knjižnica | D88: =D90+D95+D101+D104 -> 523000 | E88: =E90+E95+E101+E104 -> 528000 | F88: =F90+F95+F101+F104 -> 528000
B90: 31 | C90: Rashodi za zaposlene | D90: =D91+D92+D93 -> 357000 | E90: 360000 | F90: 360000
A91: 27 | B91: 311 | C91: Plaće | D91: 300000
A92: 28 | B92: 312 | C92: Ostali rashodi za zaposlene | D92: 7000
A93: 29 | B93: 313 | C93: Doprinosi na plaće | D93: 50000
B95: 32 | C95: Materijalni rashodi | D95: =D96+D97+D98+D99 -> 73000 | E95: 75000 | F95: 75000
A96: 30 | B96: 321 | C96: Naknade troškova zaposlenima | D96: 3000
A97: 31 | B97: 322 | C97: Rashodi za materijal i energiju | D97: 25000
A98: 32 | B98: 323 | C98: Rashodi za usluge | D98: 40000
A99: 33 | B99: 329 | C99: Ostali nespomenuti rashodi | D99: 5000
B101: 34 | C101: Financijski rashodi | D101: 3000 | E101: 3000 | F101: 3000
A102: 34 | B102: 343 | C102: Ostali financijski rashodi | D102: 3000
B104: 42 | C104: Rashodi za nabavu proizvedene dugotrajne imovine | D104: =D105+D106 -> 90000 | E104: 90000 | F104: 90000
A105: 35 | B105: 424 | C105: Knjige u knjižnicama | D105: 80000
A106: 36 | B106: 422 | C106: Postrojenja i oprema | D106: 10000
A108: AKTIVNOST | B108: A100302 | C108: Kulturne manifestacije - Dani Alke i Velike Gospe, Advent u Sinju i ostale manifestacije | D108: 750000 | E108: 700000 | F108: 700000
B110: 32 | C110: Materijalni rashodi | D110: 750000 | E110: 700000 | F110: 700000
A111: 37 | B111: 329 | C111: Ostali nespomenuti rashodi | D111: 750000
A113: AKTIVNOST | B113: A100303 | C113: Kulturno umjetnička društva i udruge | D113: 850000 | E113: 850000 | F113: 850000
B115: 38 | C115: Donacije i ostali rashodi | D115: 850000 | E115: 850000 | F115: 850000
A116: 38 | B116: 381 | C116: Tekuće donacije | D116: 850000
A118: AKTIVNOST | B118: A100304 | C118: Kulturno umjetničko središte - Sinj | D118: 720000 | E118: 720000 | F118: 720000
B120: 38 | C120: Ostali rashodi | D120: 720000 | E120: 720000 | F120: 720000
A121: 39 | B121: 381 | C121: Tekuće donacije | D121: 720000
A123: AKTIVNOST | B123: A100305 | C123: Financiranje tekućih rashoda | D123: =D125 -> 60000 | E123: 60000 | F123: 60000
B125: 32 | C125: Materijalni rashodi | D125: =D126+D127 -> 60000 | E125: 60000 | F125: 60000
A126: 40 | B126: 323 | C126: Rashodi za usluge | D126: 40000
A127: 41 | B127: 329 | C127: Ostali nespomenuti rashodi | D127: 20000
A129: AKTIVNOST | B129: A100306 | C129: Sufinanciranje rada Muzeja Cetinske krajine | D129: 50000 | E129: 50000 | F129: 50000
B130: 36 | C130: Pomoći dane u inozemstvo i unutar općeg proračuna | D130: 50000 | E130: 50000 | F130: 50000
A131: 42 | B131: 366 | C131: Pomoći pror. korisnicima drugih proračuna | D131: 50000
A133: AKTIVNOST | B133: A100307 | C133: Galerija Sikirica - izdavanje monografije Stipe Sikirica | D133: 20000 | E133: 0 | F133: 0
B135: 38 | C135: Ostali rashodi | D135: 20000 | E135: 0 | F135: 0
A136: 43 | B136: 381 | C136: Tekuće donacije - KUS | D136: 20000
A138: AKTIVNOST | B138: A100308 | C138: Kultura je vrijednost života | D138: =D140+D143 -> 500000 | E138: =E140+E143 -> 300000 | F138: =F140+F143 -> 328000
B140: 32 | C140: Materijalni rashodi | D140: 250000 | E140: 300000 | F140: 328000
A141: 44 | B141: 329 | C141: Ostali nespomenuti rashodi poslovanja | D141: 250000
B143: 38 | C143: Ostali rashodi | D143: 250000 | E143: 0 | F143: 0
A144: 45 | B144: 381 | C144: Tekuće donacije | D144: 250000
A146: AKTIVNOST | B146: A100309 | C146: Predstavljanje Alke u Francuskoj | D146: 200000 | E146: 0 | F146: 0
B148: 32 | C148: Materijalni rashodi | D148: 200000 | E148: 0 | F148: 0
A149: 46 | B149: 329 | C149: Ostali nespomenuti rashodi poslovanja | D149: 200000
A151: PROJEKT | B151: K100301 | C151: Sanacija Gradske tvrđave | D151: =D153 -> 300000 | E151: =E153 -> 0 | F151: =F153 -> 0
B153: 42 | C153: Rashodi za nabavu proizvodne dugotrajne imovine | D153: 300000 | E153: 0 | F153: 0
...

Sheet razdjel 2
A2: Pozicija | B2: Konto | C2: Opis rashoda i izdataka | D2: Proračun 2020.g. | E2: Projekcija 2021.g. | F2: Projekcija 2022.g.
C4: RAZDJEL 2. 020 UPRAVNI ODJEL ZA PROSTORNO UREĐENJE, KOMUNALNE DJELATNOSTI GOSPODARSTVO I UPRAVLJANJE IMOVINOM | D4: =D5+D88 -> 64302000 | E4: =E5+E88 -> 57910000 | F4: =F5+F88 -> 26010000
A5: GLAVA 1 | B5: 2005 | C5: KOMUNALNO GOSPODARSTVO | D5: =D7+D40+D68 -> 17490000 | E5: =E7+E40+E68 -> 37200000 | F5: =F7+F40+F68 -> 8900000
A7: PROGRAM | B7: 1009 | C7: ODRŽAVANJE KOMUNALNE INFRASTRUKTURE | D7: =D9+D15+D20+D25+D30+D35 -> 7650000 | E7: =E9+E15+E20+E25+E30+E35 -> 7750000 | F7: =F9+F15+F20+F25+F30+F35 -> 7950000
A9: AKTIVNOST | B9: A100901 | C9: Javna rasvjeta | D9: =D11 -> 2500000 | E9: =E11 -> 2500000 | F9: 2700000
B11: 32 | C11: Materijalni rashodi | D11: =D12+D13 -> 2500000 | E11: 2500000 | F11: 2700000
A12: 107 | B12: 322 | C12: Rashodi za materijal i energiju | D12: 1800000
A13: 108 | B13: 323 | C13: Rashodi za usluge | D13: 700000
A15: AKTIVNOST | B15: A100902 | C15: Održavanje nerazvrstanih cesta | D15: 2500000 | E15: =E17 -> 2500000 | F15: 2500000
B17: 32 | C17: Materijalni rashodi | D17: 2500000 | E17: 2500000 | F17: 2500000
A18: 109 | B18: 323 | C18: Rashodi za usluge | D18: 2500000
A20: AKTIVNOST | B20: A100903 | C20: Odvodnja oborinskih voda | D20: 150000 | E20: 150000 | F20: 150000
B22: 32 | C22: Materijalni rashodi | D22: 150000 | E22: 150000 | F22: 150000
A23: 110 | B23: 323 | C23: Rashodi za usluge | D23: 150000
A25: AKTIVNOST | B25: A100904 | C25: Održavanje čistoće | D25: 900000 | E25: 1000000 | F25: 1000000
B27: 32 | C27: Materijalni rashodi | D27: 900000 | E27: 1000000 | F27: 1000000
A28: 111 | B28: 323 | C28: Rashodi za usluge | D28: 900000
A30: AKTIVNOST | B30: A100905 | C30: Održavanje javnih površina | D30: 1200000 | E30: 1200000 | F30: 1200000
B32: 32 | C32: Materijalni rashodi | D32: 1200000 | E32: 1200000 | F32: 1200000
A33: 112 | B33: 323 | C33: Rashodi za usluge | D33: 1200000
A35: AKTIVNOST | B35: A100906 | C35: Održavanje groblja | D35: 400000 | E35: 400000 | F35: 400000
B37: 32 | C37: Materijalni rashodi | D37: 400000 | E37: 400000 | F37: 400000
A38: 113 | B38: 323 | C38: Rashodi za usluge | D38: 400000
A40: PROGRAM | B40: 1010 | C40: ZAJEDNIČKI RASHODI U FUNKCIJI ODRŽAVANJA KOMUNALNE INFRASTRUKTURE | D40: =D42+D48+D53+D58+D63 -> 890000 | E40: =E42+E48+E53+E58+E63 -> 800000 | F40: =F42+F48+F53+F58+F63 -> 800000
A42: AKTIVNOST | B42: A101001 | C42: Zajedničke usluge u komunalnom gospodarstvu | D42: =D44 -> 350000 | E42: 350000 | F42: 350000
B44: 32 | C44: Materijalni rashodi | D44: =D45+D46 -> 350000 | E44: 350000 | F44: 350000
A45: 114 | B45: 323 | C45: Rashodi za usluge | D45: 200000
A46: 115 | B46: 329 | C46: Ostali nespomenuti rashodi | D46: 150000
A48: PROJEKT | B48: K101001 | C48: Energetska učinkovitost na sustavu javne rasvjete | D48: 100000 | E48: 300000 | F48: 300000
B50: 32 | C50: Materijalni rashodi | D50: 100000 | E50: 300000 | F50: 300000
A51: 116 | B51: 323 | C51: Rashodi za usluge | D51: 100000
A53: PROJEKT | B53: K101002 | C53: Izgradnja ugibališta i autobusnih čekaonica | D53: 100000 | E53: 50000 | F53: 50000
B55: 32 | C55: Materijalni rashodi | D55: 100000 | E55: 50000 | F55: 50000
A56: 117 | B56: 323 | C56: Rashodi za usluge | D56: 100000
A58: PROJEKT | B58: K101003 | C58: Ugradnja video - kamera na javnim površinama | D58: 190000 | E58: 0 | F58: 0
B60: 42 | C60: Rashodi za nabavu proizvodne dugotrajne imovine | D60: 190000 | E60: 0 | F60: 0
A61: 118 | B61: 422 | C61: Postrojenja i oprema | D61: 190000
A63: PROJEKT | B63: K101104 | C63: Nabavka urbane opreme | D63: 150000 | E63: 100000 | F63: 100000
B65: 42 | C65: Rashodi za nabavu proizvodne dugotrajne imovine | D65: 150000 | E65: 100000 | F65: 100000
A66: 119 | B66: 422 | C66: Postrojenja i oprema | D66: 150000
A68: PROGRAM | B68: 1011 | C68: ZAŠTITA OKOLIŠA | D68: =D70+D75+D83 -> 8950000 | E68: =E70+E75+E83 -> 28650000 | F68: =F70+F75+F83 -> 150000
A70: PROJEKT | B70: K101101 | C70: Sanacija odlagališta komunalnog otpada "Mojanka" | D70: 5000000 | E70: 15000000 | F70: 0
B72: 42 | C72: Rashodi za nabavu proizvedene dug. imovine | D72: 5000000 | E72: 15000000 | F72: 0
A73: 120 | B73: 421 | C73: Građevinski objekti | D73: 5000000
A75: PROJEKT | B75: K101102 | C75: Plan gospodarenja otpadom | D75: =D77+D80 -> 950000 | E75: =E77+E80 -> 150000 | F75: =F77+F80 -> 150000
B77: 32 | C77: Materijalni rashodi | D77: 150000 | E77: 150000 | F77: 150000
A78: 121 | B78: 323 | C78: Rashodi za usluge | D78: 150000
B80: 42 | C80: Rashodi za nabavu proizvodne dugotrajne imovine | D80: 800000 | E80: 0 | F80: 0
A81: 122 | B81: 422 | C81: Postrojenja i oprema | D81: 800000
A83: PROJEKT | B83: K101104 | C83: Izgradanja sortirnice | D83: 3000000 | E83: 13500000 | F83: 0
B85: 42 | C85: Rashodi za nabavu proizvodne dugotrajne imovine | D85: 3000000 | E85: 13500000 | F85: 0
A86: 123 | B86: 421 | C86: Građevinski objekti | D86: 3000000
A88: GLAVA 2 | B88: 2010 | C88: PROSTORNO UREĐENJE, GOSPODARSTVO I UPRAVLJANJE IMOVINOM | D88: =D90+D318+D330 -> 46812000 | E88: =E90+E318+E330 -> 20710000 | F88: =F90+F318+F330 -> 17110000
A90: PROGRAM | B90: 1012 | C90: RAZVITAK GOSPODARSTVA I IZGRADNJA KAPITALNIH OBJEKATA | D90: =D92+D98+D103+D110+D116+D122+D127+D132+D137+D142+D147+D152+D157+D162+D167+D172+D177+D185+D193+D198+D203+D208+D213+D218+D223+D228+D233+D238+D243+D248+D253+D258+D263+D268+D273+D278+D283+D288+D293+D298+D303+D308+D313 -> 29920000 | E90: =E92+E98+E103+E110+E116+E122+E127+E132+E137+E142+E147+E152+E157+E162+E167+E172+E177+E185+E193+E198+E203+E208+E213+E218+E223+E228+E233+E238+E243+E248+E253+E258+E263+E268+E273+E278+E283+E288+E293+E298+E303+E308+E313 -> 13610000 | F90: =F92+F98+F103+F110+F116+F122+F127+F132+F137+F142+F147+F152+F157+F162+F167+F172+F177+F185+F193+F198+F203+F208+F213+F218+F223+F228+F233+F238+F243+F248+F253+F258+F263+F268+F273+F278+F283+F288+F293+F298+F303+F308+F313 -> 9010000
A92: AKTIVNOST | B92: A101201 | C92: Priprema razvojnih programa i ostali zajednički rashodi | D92: =D94 -> 450000 | E92: 400000 | F92: 400000
B94: 32 | C94: Materijalni rashodi | D94: =D95+D96 -> 450000 | E94: 400000 | F94: 400000
A95: 124 | B95: 323 | C95: Rashodi za usluge | D95: 300000
A96: 125 | B96: 329 | C96: Ostali nespomenuti rashodi | D96: 150000
A98: AKTIVNOST | B98: A101202 | C98: Katastarska izmjera nerazvrstanih cesta | D98: 200000 | E98: 250000 | F98: 250000
B100: 32 | C100: Materijalni rashodi | D100: 200000 | E100: 250000 | F100: 250000
A101: 126 | B101: 323 | C101: Rashodi za usluge | D101: 200000
A103: AKTIVNOST | B103: A101203 | C103: Poticanje poduzetništva | D103: =D105 -> 890000 | E103: 890000 | F103: 890000
B105: 35 | C105: Subvencije | D105: =D106+D107+D108 -> 890000 | E105: 890000 | F105: 890000
A106: 127 | B106: 351 | C106: Subvencije trgovačkim društvima - Gradsko kino | D106: 90000
A107: 128 | B107: 352 | C107: Subvencije poljoprivrednicima, obrtnicima | D107: 700000
A108: 129 | B108: 352 | C108: Subvencije - Poduzetnički centar | D108: 100000
A110: AKTIVNOST | B110: A101204 | C110: Fond za poticanje zapošljavanja | D110: =D112 -> 250000 | E110: 90000 | F110: 90000
B112: 35 | C112: Subvencije | D112: =D113+D114 -> 250000 | E112: 90000 | F112: 90000
A113: 130 | B113: 352 | C113: Subvencije trgovačkim društvima, poljoprivrednicima i obrtnicima izvan javnog sektora | D113: 200000
A114: 131 | B114: 352 | C114: Subvencije kamata na poduzetničke kredite | D114: 50000
A116: AKTIVNOST | B116: A101205 | C116: Uređenje mrtvačnice i uređenje groblja | D116: =D118 -> 100000 | E116: 100000 | F116: 100000
B118: 32 | C118: Materijalni rashodi | D118: =D119+D120 -> 100000 | E118: 100000 | F118: 100000
A119: 132 | B119: 323 | C119: Rashodi za usluge | D119: 80000
A120: 133 | B120: 329 | C120: Ostali nespomenuti rashodi poslovanja | D120: 20000
A122: AKTIVNOST | B122: A101206 | C122: Zakup Galerije u okviru Alkarski dvora | D122: 330000 | E122: 330000 | F122: 330000
B124: 32 | C124: Materijalni rashodi | D124: 330000 | E124: 330000 | F124: 330000
A125: 134 | B125: 323 | C125: Rashodi za usluge | D125: 330000
A127: PROJEKT | B127: K101201 | C127: Rasvjeta, opremanje i uređenje Alkarskih dvora | D127: 700000 | E127: 0 | F127: 0
B129: 38 | C129: Ostali rashodi | D129: 700000 | E129: 0 | F129: 0
A130: 135 | B130: 382 | C130: Kapitalne donacije | D130: 700000
A132: PROJEKT | B132: K101202 | C132: Rekonstrukcija Centra za razvoj Sinjska Alka | D132: 4200000 | E132: 0 | F132: 0
B134: 42 | C134: Rashodi za nabavu dugotrajne imovine | D134: 4200000 | E134: 0 | F134: 0
A135: 136 | B135: 421 | C135: Građevinski objekti | D135: 4200000
A137: PROJEKT | B137: K101203 | C137: Gospodarska zona Kukuzovac | D137: 2000000 | E137: 3000000 | F137: 3000000
B139: 38 | C139: Ostali rashodi | D139: 2000000 | E139: 3000000 | F139: 3000000
A140: 137 | B140: 386 | C140: Kapitalne pomoći GZK | D140: 2000000
A142: PROJEKT | B142: K101204 | C142: Kupnja nekretnina | D142: 300000 | E142: 300000 | F142: 300000
B144: 41 | C144: Rashodi za nabavu neproizvedene dugotrajne imovine | D144: 300000 | E144: 300000 | F144: 300000
A145: 138 | B145: 411 | C145: Materijalna imovina, prirodno bogatsvo - zemljište | D145: 300000
A147: PROJEKT | B147: K101205 | C147: Izgradnja nogostupa Put Pavića | D147: 200000 | E147: 1500000 | F147: 0
B149: 42 | C149: Rashodi za nabavu proizvodne dugotrajne imovine | D149: 200000 | E149: 1500000 | F149: 0
A150: 139 | B150: 421 | C150: Građevinski objekti | D150: 200000
A152: PROJEKT | B152: K101206 | C152: Izgradnja nogostupa od Zorke Macana do spomenika Radošić Gornji | D152: 100000 | E152: 0 | F152: 0
B154: 42 | C154: Rashodi za nabavu proizvedene dug. imovine | D154: 100000 | E154: 0 | F154: 0
A155: 140 | B155: 426 | C155: Ostala nematerijalna imovina | D155: 100000
A157: PROJEKT | B157: K101207 | C157: Izgradnja štala na Hipodromu | D157: 800000 | E157: 0 | F157: 0
B159: 42 | C159: Rashodi za nabavu proizvedene dugotrajne impovine | D159: 800000 | E159: 0 | F159: 0
A160: 141 | B160: 421 | C160: Poslovni objekti | D160: 800000
A162: PROJEKT | B162: K101208 | C162: Izrada prostornih planova | D162: 250000 | E162: 200000 | F162: 200000
B164: 42 | C164: Rashodi za nabavu proizvedene dugotrajne imovine | D164: 250000 | E164: 200000 | F164: 200000
...

Sheet Plan razv 2019 
A1: III. PLAN RAZVOJNIH PROGRAMA
A3: Članak 5.
A5: Plan razvojnih programa prikazuje planirane rashode vezane uz provođenje investicija i davanje kapitalne pomoći i donacija za razdoblje 2020. - 2022. godine.
A7: Odsjek: Gradska uprava
B8: OPIS RAZVOJNOG PROGRAMA
A9: STRATEŠKI CILJ | C9: NAZIV MJERE | D9: PROGRAM U PRORAČUNU | E9: AKTIVNOST/ PROJEKT | F9: ŠIFRA PROJEKTA | G9: PRORAČUN 2020.G. | H9: PROJEKCIJA 2021.G. | I9: PROJEKCIJA 2022.G.
A11: CILJ BR 1.Jačanje ljudskih resursa | B11: Troškovi nabavke razne računalne i telekomunikacijske opreme Nabavka službenog vozila | C11: Efikasna lokalna samouprava Efikasna lokalna samouprava | D11: Javna uprava i administracija Javna uprava i administracija | E11: Obnova uredskih prostorija i opreme nabavka službenog vozila | F11: K100101 | G11: 70000 | H11: 70000 | I11: 70000
A13: Ukupno Gradska uprava: | G13: 70000 | H13: =H11 -> 70000 | I13: =I11 -> 70000
A15: Odsjek: Društvenih djelatnosti
B16: Završetak projekta sanacije i rekonstrukcije Tvrđave Grad uz potporu Ministarstva kulture RH
A17: CILJ BR. 4. Kontinuitet jedinstvenog kulturnog identiteta | C17: Zaštita kulturno povijesne baštine | D17: Program kulture | E17: Sanacija Gradske tvrđave | F17: K100301 | G17: 300000 | H17: 0 | I17: 0
D18: Program kulture | E18: Izgradnja spomen prostora poginulim braniteljima Domovinskog rata Cetinske krajine | F18: K100302 | G18: 150000 | H18: 0 | I18: 0
D19: Program kulture | E19: Konzervatorsko restauratorski zahavt na brončanom spomeniku NOB-a | F19: K100303 | G19: 900000 | H19: 0 | I19: 0
D20: Program kulture | E20: Konzervatorsko restauratorski zahvat na brončanoj sklupturi "Spomenik Alkaru" | F20: K100305 | G20: 900000 | H20: 0 | I20: 0
A22: Ukupno Društvene djelatnosti: | G22: =G17+G18+G19+G20 -> 2250000 | H22: =H17+H18+H19+H20 -> 0 | I22: =I17+I18+I20 -> 0
A23: Ukupno Razdjel 1: | G23: =G13+G22 -> 2320000 | H23: =H13+H22 -> 70000 | I23: =I13+I22 -> 70000
A25: Odsjek: Komunalno gospodarstvo
A27: STRATEŠKI CILJ | B27: OPIS RAZVOJNOG PROGRAMA | C27: NAZIV MJERE | D27: PROGRAM U PRORAČUNU | E27: AKTIVNOST/ PROJEKT | F27: ŠIFRA PROJEKTA | G27: PRORAČUN 2020. | H27: PROJEKCIJA 2021.G. | I27: PROJEKCIJA 2022.G.
B29: Daljnja provedba programa energetske učinkovitosti na sustavu javne rasvjete | C29: Učinkovito gospodarenje energijom | D29: Zajednički rashodi u funkciji održavanja komunalne infrastrukture | E29: Energetska učinkovitost na sustavu javne rasvjete | F29: K101001 | G29: 100000 | H29: 300000 | I29: 300000
B30: Daljnji razvitak komunalne infrastrukture | C30: Učinkovito gospodarenje komunalnim resursima | D30: Zajednički rashodi u funkciji održavanja komunalne infrastrukture | E30: Ugradnja video - kamera na javnim površinama | F30: K101003 | G30: 190000 | H30: 0 | I30: 0
B31: Nabavka programa radi efikasnijeg upravljanja u lokalnoj samoupravi | C31: Unapređenje i pružanje informacija u komunalnom gospodarstvu | D31: Zajednički rashodi u funkciji održavanja komunalne infrastrukture | E31: Nabavka urbane opreme | F31: K101104 | G31: 150000 | H31: 100000 | I31: 100000
A32: CILJ BR. 2. Izgrađeni i usklađeni infrastrukturni i prirodni resursi kao osnovni preduvjet kvalitete života | B32: Ishođenje građevinske dozvole, raspisivanje natječaja za sanaciju, odabir izvođača i početak radova na sanaciji | C32: Zaštita okoliša i gospodarenje otpadom | D32: Zaštita okoliša | E32: Sanacija odlagališta komunalnog otpada Mojanka | F32: K101101 | G32: 5000000 | H32: 15000000 | I32: 0
B33: Nabava opreme za odvojeno skupljanje otpada | C33: Zaštita okoliša i gospodarenje otpadom | D33: Zaštita okoliša | E33: Plan gospodarenja otpadom | F33: K101102 | G33: 950000 | H33: 150000 | I33: 150000
B34: Stvaranje uvjeta za odvojeno prikupljanje otpada | C34: Zaštita okoliša i gospodarenje otpadom | D34: Zaštita okoliša | E34: Izgradnja sortirnice projektna dokumentacija | F34: K101103 | G34: 3000000 | H34: 13500000 | I34: 0
A35: Ukupno Komunalno gospodarstvo: | G35: =G29+G30+G31+G32+G33+G34 -> 9390000 | H35: =H29+H30+H31+H32+H33+H34 -> 29050000 | I35: =I29+I30+I31+I32+I33+I34 -> 550000
A51: Odsjek: Prostorno uređenje, gospodarstvo i upravljanje imovinom
G52: PRORAČUN 2020.G. | H52: PROJEKCIJA 2021.G. | I52: PROJEKCIJA 2022.G.
A53: CILJ BR. 1. Kvalitetni i dinamički ljudski resursi, kao aktivni nositelji sadašnjosti i budućnosti Grada Sinja | B53: Ulaganje u športsko rekreacijsku kulturu i stvaranje športsko rekreativnih programa | C53: Izgradnja štala i njeno stavljanje u funkciju | D53: Program razvitka gospodarstva i izgradnja kapitalnih projekata | E53: Izgradnja štala na Hipodromu | F53: K101207 | G53: 800000 | H53: 0 | I53: 0
B54: Ulaganje u športsko rekreacijsku kulturu i stvaranje športsko rekreativnih programa | C54: Uređenje prostora Aerodrom | D54: Program razvitka gospodarstva i izgradnja kapitalnih projekata | E54: Izrada ograde oko Sinjskog Aerodroma | F54: K101212 | G54: 700000 | H54: 0 | I54: 0
B55: Ulaganje u športsko rekreacijsku kulturu i stvaranje športsko rekreativnih programa | C55: Omogućavanje nadvodnjavanja na športskim terenima | D55: Program razvitka gospodarstva i izgradnja kapitalnih projekata | E55: Nabavka pumpi za nadvodnjavanje športskih terena iz bušotina | F55: K101226 | G55: 500000 | H55: 0 | I55: 0
B56: Ulaganje u športsko rekreacijsku kulturu i stvaranje športsko rekreativnih programa | C56: Uređenje športskih terena | D56: Program razvitka gospodarstva i izgradnja kapitalnih projekata | E56: Izgradnja velikog igrališta sa umjetnom travom uz gradski stadion NK Junak | F56: K101233 | G56: 2000000 | H56: 0 | I56: 0
B57: Ulaganje u osnovno školstvo | C57: Izrada projektne dokumentacije | D57: Program razvitka gospodarstva i izgradnja kapitalnih projekata | E57: Izgradnja osnovne glazbene škole Jakova Gotovca u Sinju | F57: K101231 | G57: 200000 | H57: 0 | I57: 0
A58: CILJ BR.2.
A59: Izgrađeni i usklađeni infrastrukturni i prirodni resursi kao osnovni preduvjet kvalitete života | B59: Rješavanje imovinsko pravnih odnosa za potrebe realizacije projekta aglomeracije | C59: Razvoj komunalne infrastrukture | D59: Razvitak gospodarstva i izgradnja kap.objekata | E59: Kupnja nekretnine | F59: K101204 | G59: 300000 | H59: 300000 | I59: 300000
B60: Nastavak izgradnje nogostupa Put Pavića | C60: Razvoj lokalne cestovne infrastrukture | D60: Razvitak gospodarstva i izgradnja kap.objekata | E60: Izgradnja nogostupa Put Pavića | F60: K101205 | G60: 200000 | H60: 1500000 | I60: 0
B61: Razvoj cestovne infrastrukture | C61: Kvalitetna prometna povezanost – sigurnost u prometu | D61: Razvitak gospodarstva i izgradnja kap.objekata | E61: Izgradnja nogostupa od Zorke Macana do spomenika Radošić Gornji | F61: K101206 | G61: 100000 | H61: 0 | I61: 0
B62: Izrada prostorno planske dokumentacije | C62: Daljnja detaljna razrada planova dijelova Grada | D62: Razvitak gospodarstva i izgradnja kap.objekata | E62: Izrada prostornih planova | F62: K101208 | G62: 250000 | H62: 200000 | I62: 200000
B63: Poticanje energetske učinkovitosti | C63: Provedba programa energetske učinkovitosti na objektima u vlasništvu Grada | D63: Razvitak gospodarstva i izgradnja kap.objekata | E63: Sustav energetske učinkovitosti na objektima u vlasništvu Grada | F63: K101209 | G63: 150000 | H63: 2000000 | I63: 3000000
B64: Razvoj infrastrukture | C64: Povećanje broja grobnih mjesta | D64: Razvitak gospodarstva i izgradnja kap.objekata | E64: Proširenje groblja u Brnazama | F64: K101210 | G64: 100000 | H64: 0 | I64: 0
B65: Razvoj infrastrukture | C65: Povećanje broja grobnih mjesta | D65: Razvitak gospodarstva i izgradnja kap.objekata | E65: Proširenje groblja u Turjacima | F65: K101211 | G65: 500000 | H65: 1000000 | I65: 0
B66: Razvoj lokalne cestovne infrastruture | C66: Kvalitetna prometna povezanost – sigurnost u prometu | D66: Razvitak gospodarstva i izgradnja kap.objekata | E66: Izgradnja nogostupa sa biciklističkom stazom nastavak do Aerodroma | F66: K101214 | G66: 1000000 | H66: 900000 | I66: 0
B67: Razvoj lokalne cestovne infrastrukture | C67: Razvoj komunalne infrastrukture | D67: Razvitak gospodarstva i izgradnja kap. objekata | E67: Izgradnja sabirne ulice u Ex Vojarni Ivaniše Nelipića | F67: K101216 | G67: 4500000 | H67: 0 | I67: 0
B68: Razvoj komun alne infrastrukture | C68: Povećanje broja grobnih mjesta | D68: Razvitak gospodarstva i izgradnja kap. objekata | E68: Uređenje nove lokacije na izgradnji groblja Jasensko - Karakašica | F68: K101218 | G68: 150000 | H68: 1000000 | I68: 0
B69: Razvoj cestovne infrastruture | C69: Kvalitetna povezanost zbog bržeg i sigurnijeg odvijanja prometa | D69: Razvitak gospodarstva i izgradnja kap. objekata | E69: Završetak izgradnje nogostupa u Čitluku | F69: K101220 | G69: 200000 | H69: 0 | I69: 0
B70: Razvoj cestovne infrastruture | C70: Kvalitetna povezanost zbog bržeg i sigurnijeg odvijanja prometa | D70: Razvitak gospodarstva i izgradnja kap. objekata | E70: Izgradnj nogostupa Privija - Šuća | F70: K101222 | G70: 300000 | H70: 0 | I70: 0
B71: Razvoj cestovne infrastrukture | C71: Kvalitetna povezanost zbog bržeg i sigurnijeg odvijanja prometa | D71: Razvitak gospodarstva i izgradnja kap. objekata | E71: Izgradnja nogostupa od raskrižja do fontane Đardin | F71: K101223 | G71: 300000 | H71: 0 | I71: 0
... B76: Nastavak projekta rekonstrukcije te proširenje vodoopskrbe i odvodnje u sustavu aglomeracije Sinj | C76: Razvoj komunalne infrastrukture | D76: Financiranje projekta iz fondova EU | E76: Priprema projekata za sufinanciranje izgradnje integriranog sustava odvodnje i strukturnih fondova EU | F76: K101302 | G76: 6000000 | H76: 7000000 | I76: 8000000
A77: CILJ BROJ. 3.
A78: Održivo i konkurentno gospodarstvo, kao osnova ekonomske dinamike urbane cjeline | B78: Poboljšanje poslovne infrastrukture i potpora poduzetnicima | C78: Uspostava razvojnog centra | D78: Razvitak gospodarstva i izgradnja kap.objekata | E78: Centar za razvoj Sinjska Alka | F78: K101202 | G78: 4200000 | H78: 0 | I78: 0
B79: Ulaganje u daljnji razvoj GZK | C79: Osiguranje potpore poduzetnicima | D79: Razvitak gospodarstva i izgradnja kap.objekata | E79: Gospodarska zona Kukuzovac | F79: K101203 | G79: 2000000 | H79: 3000000 | I79: 3000000
B80: =B78 -> Poboljšanje poslovne infrastrukture i potpora poduzetnicima | C80: Razvoj komunalne infrastrukture | D80: =D79 -> Razvitak gospodarstva i izgradnja kap.objekata | E80: Uređenje Sinjskog pazara | F80: K101217 | G80: 150000 | H80: 1000000 | I80: 0
B81: Poboljšanje poslovne infrastrukture i potpora poduzetnicima | C81: Osiguranje potpore poduzetnicima | D81: Razvitak gospodarstva i izgradnja kap.objekata | E81: Izgradnja poduzetničkog inkubatora u GZK | F81: K101229 | G81: 200000 | H81: 0 | I81: 0
I82: ,
B84: Ulaganje u infrastrukturu u kulturi i kulturna ponuda | C84: Strateško upravljanje s kulturno povijesnim nasljeđem | D84: Razvitak gospodarstva i izgradnja kapitalnih projekata | E84: Rasvjeta, opremanje i uređenja Alkarskih dvora | F84: K101201 | G84: 700000 | H84: 0 | I84: 0
A85: CILJ BR 4. Kontinuitet jedinstvenog kulturnog indetiteta zajednice | B85: Ulaganje u infrastruktruru u kulturi | C85: Zaštita i turistička valorizacija kulturno povijesne baštine | D85: EU projekt - Obnova kulturne baštine u Sinju | E85: Sinjska Alka - nabavka tribina | F85: K101405 | G85: 418000 | H85: 0 | I85: 0
B86: Ulaganje u infrastruktruru u kulturi | C86: Zaštita i turistička valorizacija kulturno povijesne baštine | D86: EU projekt - Obnova kulturne baštine u Sinju | E86: Nabavka replika Alkarskih odora | F86: K101406 | G86: 480000 | H86: 0 | I86: 0
B87: Ulaganje u infrastruktruru u kulturi | C87: Zaštita i turistička valorizacija kulturno povijesne baštine | D87: EU projekt - Obnova kulturne baštine u Sinju | E87: Nabavka LED ekrana za Sinjsku Alku | F87: K101407 | G87: 210000 | H87: 0 | I87: 0
B88: Ulaganje u infrastrukturu u kulturi | C88: Unapređenje turističke ponude rekreacijskih aktivnosti | D88: EU projekt - Obnova kulturne baštine u Sinju | E88: Izgradnja interpretacijsko - edukacijskog centra Sinjska Alka | F88: K101409 | G88: 6500000 | H88: 0 | I88: 0
B89: Ulaganje u infrastrukturu u kulturi | C89: Unapređenje turističke ponude rekreacijskih aktivnosti | D89: EU projekt - Obnova kulturne baštine u Sinju | E89: Rekonstrukcija ulica i opremanje urbanističke cijeline Sinj | F89: K101410 | G89: 750000 | H89: 0 | I89: 0
B90: Ulaganje u infrastrukturu u kulturi | C90: Unapređenje turističke ponude rekreacijskih aktivnosti | D90: EU projekt - Obnova kulturne baštine u Sinju | E90: Oprema za zgradu Palacine | F90: K101413 | G90: 600000 | H90: 0 | I90: 0
B91: Ulaganje u infrastrukturu u kulturi | C91: Unapređenje turističke ponude rekreacijskih aktivnosti | D91: EU projekt - Obnova kulturne baštine u Sinju | E91: Opremanje Muzeja Cetinske krajine | F91: K101422 | G91: 600000 | H91: 0 | I91: 0
A92: Ukupno Odsjek gospodarstvo: | G92: =G53+G54+G55+G56+G57+G59+G60+G61+G62+G63+G64+G65+G66+G67+G68+G69+G70+G71+G72+G73+G74+G75+G76+G78+G79+G80+G81+G84+G85+G86+G87+G88+G89+G90+G91 -> 41158000 | H92: =H53+H54+H55+H56+H57+H59+H60+H61+H62+H63+H64+H65+H66+H67+H68+H69+H70+H71+H72+H73+H74+H75+H76+H78+H79+H80+H81+H84+H85+H86+H87+H88+H89+H90+H91 -> 17950000 | I92: =I53+I54+I55+I56+I57+I59+I60+I61+I62+I63+I64+I65+I66+I67+I68+I69+I70+I71+I72+I73+I74+I75+I76+I78+I79+I80+I81+I84+I85+I86+I87+I88+I89+I90+I91 -> 14550000
A93: Ukupno Razdjel 2: | G93: =G92+G35 -> 50548000 | H93: =H92+H35 -> 47000000 | I93: =I92+I35 -> 15100000
A94: Ukupno Plan razvojnih programa : | G94: =G93+G23 -> 52868000 | H94: =H93+H23 -> 47070000 | I94: =I93+I23 -> 15170000
A96: Članak 6.
A98: Ovaj Proračun objavit će se u Službenom glasniku Grada Sinja, a stupa na snagu 01.01.2020. godine
A100: Gradsko vijeće Grada Sinja
A101: Klasa:
A102: Ur.broj:
A103: Sinj, prosinac 2019. godine
A105: Potpredsjednik Gradskog vijeća:
A106: Anđelko Bilandžić
