Workbook

Sheet Naslovna
G1: - prijedlog
B3: Na temelju članka 42. Zakona o proračunu ("Narodne novine" br.144/21) i članka 34. Statuta Grada Sinja ("Službeni glasnik Grada Sinja" br. 12/22) Gradsko vijeće Grada Sinja na __sjednici održanoj __ prosinca donijelo je
B6: PRORAČUN GRADA SINJA ZA 2024. GODINU S PROJEKCIJAMA ZA 2025. i 2026. GODINU
B9: I. OPĆI DIO
B11: Članak 1.
B13: Proračun Grada Sinja za 2024. godinu (u daljnjem tekstu Proračun) s projekcijama za 2025. i 2026. godinu sastoji se od:
C15: A | D15: RAČUN PRIHODA I RASHODA | E15: Proračun 2024.g. | F15: Projekcija 2025. | G15: Projekcija 2026.
D16: Prihodi poslovanja | E16: =Prihodi!C7 -> 17320000 | F16: =Prihodi!D7 -> 15970000 | G16: =Prihodi!E7 -> 16470000
D17: Prihodi od prodaje nefinancijske imovine | E17: =Prihodi!C21 -> 130000 | F17: =Prihodi!D21 -> 130000 | G17: =Prihodi!E21 -> 130000
D18: Ukupno prihodi: | E18: =E16+E17 -> 17450000 | F18: =F16+F17 -> 16100000 | G18: =G16+G17 -> 16600000
D19: Rashodi poslovanja | E19: =Rashodi!C7 -> 15118000 | F19: =Rashodi!D7 -> 13889000 | G19: =Rashodi!E7 -> 13229000
D20: Rashodi za nabavu nefinancijske imovine | E20: =Rashodi!C23 -> 3382000 | F20: =Rashodi!D23 -> 2611000 | G20: =Rashodi!E23 -> 3771000
D21: Ukupno rashodi: | E21: =E19+E20 -> 18500000 | F21: =F19+F20 -> 16500000 | G21: =G19+G20 -> 17000000
D22: Razlika višak / manjak | E22: =E18-E21 -> -1050000 | F22: =F18-F21 -> -400000 | G22: =G18-G21 -> -400000
C25: B | D25: RAČUN FINANCIRANJA | E25: Proračun 2024.g. | F25: Projekcija 2025.g. | G25: Projekcija 2026.g.
D26: Primici od financijske imovine i zaduživanja | E26: ='Racun financiranja'!C7 -> 50000 | F26: ='Racun financiranja'!D5 -> 400000 | G26: ='Racun financiranja'!E5 -> 400000
D27: Izdaci za financijsku imovinu i otplate zajmova | E27: 0 | F27: 0 | G27: 0
D28: NETO FINANCIRANJE | E28: =E26+E27 -> 50000 | F28: =F26+F27 -> 400000 | G28: =G26+G27 -> 400000
C30: C | D30: Ukupan donos viška koji će se rasporediti u 2024.g. | E30: 1000000 | F30: 0 | G30: 0
C32: D | D32: Višak / manjak + neto financiranje (A-B+C) | E32: =E22+E28+E30 -> 0 | F32: 0 | G32: 0
E36: Članak 2.
B38: U proračunsku zalihu Proračuna Grada Sinja izdvaja se 47.000,00 €.
E40: Članak 3.
B43: Prihodi i rashodi, te primici i izdaci po ekonomskoj klasifikaciji, utvrđuju se u Računu prihoda i rashoda i Računu financiranja za 2024.g, kako slijedi:

Sheet Prihodi
A1: A. PRIHODI POSLOVANJA
A3: Konto | B3: Opis prihoda | C3: Proračun 2024.g. | D3: Projekcija 2025.g. | E3: Projekcija 2026.g.
B5: PRIHODI UKUPNO (6+7) | C5: =C7+C21 -> 17450000 | D5: =D7+D21 -> 16100000 | E5: =E7+E21 -> 16600000
A7: 6 | B7: PRIHODI | C7: =C9+C11+C13+C15+C17+C19 -> 17320000 | D7: =D9+D11+D13+D15+D17+D19 -> 15970000 | E7: =E9+E11+E13+E15+E17+E19 -> 16470000
A9: 61 | B9: PRIHODI OD POREZA | C9: 6830000 | D9: 6940000 | E9: 7200000
A11: 63 | B11: POMOĆI | C11: 8700000 | D11: 7200000 | E11: 7300000
A13: 64 | B13: PRIHODI OD IMOVINE | C13: 220000 | D13: 220000 | E13: 250000
A15: 65 | B15: PRIHODI OD UPRAVNIH I ADMINISTRATIVNIH PRISTOJBI, PRISTOJBI PO POSEBNIM PROPISIMA I NAKNADA | C15: 1000000 | D15: 1040000 | E15: 1100000
A17: 66 | B17: PRIHODI OD PRODAJE PROIZVODA I ROBA | C17: 70000 | D17: 70000 | E17: 70000
A19: 68 | B19: KAZNE, UPRAVNE MJERE I OSTALI PRIHODI | C19: 500000 | D19: 500000 | E19: 550000
A21: 7 | B21: PRIHOD OD PRODAJE NEFINANCIJSKE IMOVINE | C21: =C23+C25 -> 130000 | D21: =D23+D25 -> 130000 | E21: =E23+E25 -> 130000
A23: 71 | B23: Prihod od prodaje neproizvedene imovine | C23: 100000 | D23: 100000 | E23: 100000
A25: 72 | B25: Prihod od proizvedene imovine | C25: 30000 | D25: 30000 | E25: 30000
A30: OZNAKA | B30: NAZIV | C30: Proračun 2024.g. | D30: Projekcija 2025.g. | E30: Projekcija 2026.g.
A32: UKUPNO IZVORI FINANCIRANJA | C32: =C34+C36+C38+C40+C41+C43+C45+C47+C49+C51 -> 17500000 | D32: =D34+D36+D38+D40+D41+D43+D45+D47+D49+D51 -> 16500000 | E32: =E34+E36+E38+E40+E41+E43+E45+E47+E49+E51 -> 17000000
A34: Izvor 11 | B34: Opći prihodi i primici | C34: 7196000 | D34: 7256000 | E34: 7596000
A36: Izvor 31 | B36: Vlastiti prihodi | C36: 40000 | D36: 40000 | E36: 40000
A38: Izvor 41 | B38: Namjenski prihodi | C38: 1364000 | D38: 1404000 | E38: 1464000
A40: Izvor 51 | B40: Pomoći | C40: 3280000 | D40: 2400000 | E40: 2400000
A41: Izvor 11 | B41: Opći prihodi i primici | C41: 3600000 | D41: 3600000 | E41: 3600000
A43: Izvor 52 | B43: Pomoći od EU | C43: 1820000 | D43: 1200000 | E43: 1300000
A45: Izvor 61 | B45: Donacije | C45: 70000 | D45: 70000 | E45: 70000
A47: Izvor 71 | B47: Prihodi od prodaje neproizvedene dugotrajne imovine | C47: 100000 | D47: 100000 | E47: 100000
A49: Izvor 72 | B49: Prihodi od prodaje proizvedene dugotrajne imovine | C49: 30000 | D49: 30000 | E49: 30000
A51: Izvor 84 | B51: Primici od zaduživanja | C51: 0 | D51: 400000 | E51: 400000

Sheet Rashodi
A1: B. RASHODI POSLOVANJA
A3: Konto | B3: Opis rashoda | C3: Proračun 2024.g. | D3: Projekcija 2025.g. | E3: Projekcija 2026.g.
B5: RASHODI POSLOVANJA (3+4) | C5: =C7+C23 -> 18500000 | D5: =D7+D23 -> 16500000 | E5: =E7+E23 -> 17000000
A7: 3 | B7: RASHODI POSLOVANJA | C7: =C9+C11+C13+C15+C17+C19+C21 -> 15118000 | D7: =D9+D11+D13+D15+D17+D19+D21 -> 13889000 | E7: =E9+E11+E13+E15+E17+E19+E21 -> 13229000
A9: 31 | B9: Rashodi za zaposlene | C9: 4032000 | D9: 4049000 | E9: 5859000
A11: 32 | B11: Materijalni rashodi | C11: 4758500 | D11: 4596500 | E11: 2650500
A13: 34 | B13: Financijski rashodi | C13: 41500 | D13: 30500 | E13: 30500
A15: 35 | B15: Subvencije | C15: 420000 | D15: 320000 | E15: 320000
A17: 36 | B17: Pomoći dane u inozemstvo i unutar općeg proračuna | C17: 12000 | D17: 12000 | E17: 12000
A19: 37 | B19: Naknade građanima i kućanstvima iz proračuna | C19: 2164000 | D19: 2154000 | E19: 2064000
A21: 38 | B21: Donacije i ostali rashodi | C21: 3690000 | D21: 2727000 | E21: 2293000
A23: 4 | B23: RASHODI ZA NABAVU NEFINANCIJSKE IMOVINE | C23: =C25+C27 -> 3382000 | D23: =D25+D27 -> 2611000 | E23: =E25+E27 -> 3771000
A25: 41 | B25: Rashodi za nabavu neproizvedene imovine | C25: 25000 | D25: 25000 | E25: 25000
A27: 42 | B27: Rashodi za nabavu proizvedene dugotrajne imovine | C27: 3357000 | D27: 2586000 | E27: 3746000
A32: OZNAKA | B32: NAZIV | C32: Proračun 2024.g. | D32: Projekcija 2025.g. | E32: Projekcija 2026.g.
A34: UKUPNO IZVORI FINANCIRANJA | C34: =C36+C37+C38+C40+C42+C44+C46+C48+C50+C52 -> 18500000 | D34: =D36+D38+D40+D42+D44+D46+D48+D50+D52 -> 16500000 | E34: =E36+E38+E40+E42+E44+E46+E48+E50+E52 -> 17000000
A36: Izvor 11 | B36: Opći prihodi i primici | C36: 10796000 | D36: 10856000 | E36: 11196000
B37: + donos viška općih prihoda i primitaka | C37: 1000000
A38: Izvor 31 | B38: Vlastiti prihodi | C38: 40000 | D38: 40000 | E38: 40000
A40: Izvor 41 | B40: Namjenski prihodi | C40: 1364000 | D40: 1404000 | E40: 1464000
A42: Izvor 51 | B42: Pomoći | C42: 3280000 | D42: 2400000 | E42: 2400000
A44: Izvor 52 | B44: Pomoći od EU | C44: 1820000 | D44: 1200000 | E44: 1300000
A46: Izvor 61 | B46: Donacije | C46: 70000 | D46: 70000 | E46: 70000
A48: Izvor 71 | B48: Prihodi od prodaje neproizvedene dugotrajne imovine | C48: 100000 | D48: 100000 | E48: 100000
A50: Izvor 72 | B50: Prihodi od prodaje proizvedene dugotrajne imovine | C50: 30000 | D50: 30000 | E50: 30000
A52: Izvor 84 | B52: Primici od zaduživanja | C52: 0 | D52: 400000 | E52: 400000

Sheet Funk. klasifikacija
A1: RASHODI PO FUNKCIJSKOJ KLASIFIKACIJI
A2: Oznaka | B2: Proračun 2024.g. | C2: Projekcija 2025.g. | D2: Projekcija 2026.g.
A3: RASHODI - FUNKCIJSKA KLASIFIKACIJA | B3: =B5+B34 -> 18500000 | C3: =C5+C34 -> 16500000 | D3: =D5+D34 -> 17000000
A5: Funk.klas. 0 Javnost | B5: =B6+B8+B10+B15+B19+B25+B27+B31 -> 16931000 | C5: =C6+C8+C10+C15+C19+C25+C27+C31 -> 15101000 | D5: =D6+D8+D10+D15+D19+D25+D27+D31 -> 16987000
A6: Funk.klas. 01 OPĆE JAVNE USLUGE | B6: 652000 | C6: 1732000 | D6: 1742000
A7: Funk.klas. 011 Izvršna i zakonodavna tijela, financijski i fiskalni poslovi, vanjski poslovi | B7: 652000 | C7: 1732000 | D7: 1742000
A8: Funk.klas. 03 JAVNI RED I SIGURNOST | B8: 1250000 | C8: 1250000 | D8: 1250000
A9: Funk.klas. 032 Usluge protupožarne zaštite | B9: 1250000 | C9: 1250000 | D9: 1250000
A10: Funk.klas. 04 EKONOMSKI POSLOVI | B10: =B11+B12+B13+B14 -> 2412000 | C10: =C11+C12+C13+C14 -> 2103000 | D10: =D11+D12+D13+D14 -> 2003000
A11: Funk.klas. 042 Poljoprivreda, šumarstvo, ribarstvo i lov | B11: 137000 | C11: 300000 | D11: 300000
A12: Funk.klas. 045 Promet | B12: 1203000 | C12: 998000 | D12: 888000
A13: Funk.klas. 047 Turizam | B13: 492000 | C13: 355000 | D13: 355000
A14: Funk.klas. 049 Ekonomski poslovi koji nisu drugdje svrstani | B14: 580000 | C14: 450000 | D14: 460000
A15: Funk.klas. 05 ZAŠTITA OKOLIŠA | B15: =B16+B17+B18 -> 2420000 | C15: =C16+C17+C18 -> 1354000 | D15: =D16+D17+D18 -> 2197000
A16: Funk.klas. 051 Gospodarenje otpadom | B16: 931000 | C16: 815000 | D16: 1550000
A17: Funk.klas. 052 Gospodarenje otpadnim vodama | B17: 1430000 | C17: 480000 | D17: 535000
A18: Funk.klas. 056 Poslovi i usluge zaštite okoliša koji nisu drugdje svrstani | B18: 59000 | C18: 59000 | D18: 112000
A19: Funk.klas. 06 USLUGE UNAPREĐENJA STANOVANJA I ZAJEDNICE | B19: =B20+B21+B22+B23+B24 -> 1403000 | C19: =C20+C21+C22+C23+C24 -> 1926000 | D19: =D20+D21+D22+D23+D24 -> 1733000
A20: Funk.klas. 061 Razvoj stanovanja | B20: 270000 | C20: 270000 | D20: 270000
A21: Funk.klas. 062 Razvoj zajednice | B21: 244000 | C21: 340000 | D21: 189000
A22: Funk.klas. 063 Opskrba vodom | B22: 40000 | C22: 25000 | D22: 25000
A23: Funk.klas. 064 Ulična rasvjeta | B23: 430000 | C23: 820000 | D23: 800000
A24: Funk.klas. 066 Rashodi vezani za stanovanje i kom.pogodnosti koji nisu drugdje svrstani | B24: 419000 | C24: 471000 | D24: 449000
A25: Funk.klas. 07 ZDRAVSTVO | B25: 13000 | C25: 13000 | D25: 13000
A26: Funk.klas. 075 Istraživanje i razvoj zdravstva | B26: 13000 | C26: 13000 | D26: 13000
A27: Funk.klas. 08 REKREACIJA, KULTURA, RELIGIJA | B27: =B28+B29+B30 -> 2426000 | C27: =C28+C29+C30 -> 2411000 | D27: =D28+D29+D30 -> 2341000
A28: Funk.klas. 081 Službe rekreacije i sporta | B28: 1476000 | C28: 1461000 | D28: 1440000
A29: Funk.klas. 082 Službe kulture | B29: 848000 | C29: 847000 | D29: 798000
A30: Funk.klas. 084 Religijske i druge službe zajednice | B30: 102000 | C30: 103000 | D30: 103000
A31: Funk.klas. 09 OBRAZOVANJE | B31: =B32+B33 -> 6355000 | C31: =C32+C33 -> 4312000 | D31: =D32+D33 -> 5708000
A32: Funk.klas. 091 Predškolstvo i osnovno obrazovanje | B32: 5527000 | C32: 3480000 | D32: 3490000
A33: Funk.klas. 098 Usluge obrazovanja koje nisu drugdje svrstane | B33: 828000 | C33: 832000 | D33: 2218000
A34: Funk.klas. 10 SOCIJALNA ZAŠTITA | B34: 1569000 | C34: 1399000 | D34: 13000
A35: Funk.klas. 109 Aktivnosti socijalne zaštite koji nisu drugdje svrstane | B35: 1569000 | C35: 1399000 | D35: 13000

Sheet Racun financiranja
A1: C. RAČUN FINANCIRANJA
A3: Konto | B3: Opis primici / izdaci | C3: Proračun 2024.g. | D3: Projekcija 2025.g. | E3: Projekcija 2026g.
A5: 8 | B5: PRIMICI OD FINANCIJSKE IMOVINE I ZADUŽIVANJA | C5: =C7+C9 -> 50000 | D5: =D7+D9 -> 400000 | E5: =E7+E9 -> 400000
A7: 81 | B7: Primljene otplate (povrat) glavnice zajmova | C7: 50000 | D7: 0 | E7: 0
A9: 84 | B9: Primici od zaduživanja | C9: 0 | D9: 400000 | E9: 400000
A12: OZNAKA | B12: NAZIV | C12: Proračun 2024.g. | D12: Projekcija 2025.g. | E12: Projekcija 2026.g.
A14: UKUPNO IZVOR FINANCIRANJA | C14: =C16+C18 -> 50000 | D14: 400000 | E14: 400000
A16: Izvor 11 | B16: Opći prihodi i primici | C16: 50000 | D16: 0 | E16: 0
A18: Izvor 84 | B18: Primici od zaduživanja | C18: 0 | D18: 400000 | E18: 400000

Sheet razdjel 1
A2: II. POSEBNI DIO
A4: Članak 2.
A6: Rashodi i izdaci Proračuna za 2024. i projekcije za 2025. i 2026.g. raspoređuju se po proračunskim klasifikacijama u posebnom dijelu Proračuna kako slijedi:
A9: Oznaka | B9: Konto | C9: Opis rashoda i izdataka | D9: Proračun 2024.g. | E9: Projekcija 2025.g. | F9: Projekcija 2026.g.
A10: SVEUKUPNO: | D10: =D12+'razdjel 2'!D4+'razdjel 3'!D4+'razdjel 4'!D4+352000 -> 18500000 | E10: ='razdjel 1'!E12+'razdjel 2'!E4+'razdjel 3'!E4+'razdjel 4'!E4+332000 -> 16500000 | F10: =F12+'razdjel 2'!F4+'razdjel 3'!F4+'razdjel 4'!F4+322000 -> 17000000
C12: RAZDJEL 1. 010 URED GRADA | D12: =D13+D37 -> 9453000 | E12: =E13+E37 -> 9371000 | F12: =F13+F37 -> 9382000
A13: GLAVA 1 | B13: 1005 | C13: GRADSKA UPRAVA | D13: =D15 -> 623000 | E13: =E15 -> 632000 | F13: =F15 -> 632000
A15: PROGRAM | B15: 1001 | C15: JAVNA UPRAVA I ADMINISTRACIJA | D15: =D17+D23+D31 -> 623000 | E15: =E17+E23+E31 -> 632000 | F15: =F17+F23+F31 -> 632000
A17: AKTIVNOST | B17: A100101 | C17: Administrativni i stručni poslovi Grada | D17: =D21 -> 610000 | E17: =E21 -> 620000 | F17: =F21 -> 620000
A18: FUNKCIJSKA KLASIFIKACIJA | B18: 011 | C18: Izvršna i zakonodavna tijela | D18: =D17 -> 610000 | E18: =E17 -> 620000 | F18: =F17 -> 620000
A19: IZVOR | B19: 11 | C19: Opći prihodi i primici | D19: =D17 -> 610000 | E19: =E17 -> 620000 | F19: =F17 -> 620000
B21: 32 | C21: Materijalni rashodi | D21: 610000 | E21: 620000 | F21: 620000
A23: AKTIVNOST | B23: A100102 | C23: Obveze po sudskim sporovima | D23: =D27+D29 -> 10000 | E23: =E27+E29 -> 9000 | F23: =F27+F29 -> 9000
A24: FUNKCIJSKA KLASIFIKACIJA | B24: 011 | C24: Izvršna i zakonodavna tijela | D24: =D23 -> 10000 | E24: =E23 -> 9000 | F24: =F23 -> 9000
A25: IZVOR | B25: 11 | C25: Opći prihodi i primici | D25: =D23 -> 10000 | E25: =E23 -> 9000 | F25: =F23 -> 9000
B27: 34 | C27: Financijski rashodi | D27: 8000 | E27: 7000 | F27: 7000
B29: 32 | C29: Materijalni rashodi | D29: 2000 | E29: 2000 | F29: 2000
A31: AKTIVNOST | B31: A100103 | C31: Savjet mladih | D31: =D35 -> 3000 | E31: =E35 -> 3000 | F31: =F35 -> 3000
A32: FUNKCIJSKA KLASIFIKACIJA | B32: 011 | C32: Izvršna i zakonodavna tijela | D32: =D31 -> 3000 | E32: =E31 -> 3000 | F32: =F31 -> 3000
A33: IZVOR | B33: 11 | C33: Opći prihodi i primici | D33: =D31 -> 3000 | E33: =E31 -> 3000 | F33: =F31 -> 3000
B35: 32 | C35: Materijalni rashodi | D35: 3000 | E35: 3000 | F35: 3000
A37: GLAVA 2 | B37: 1010 | C37: DRUŠTVENE DJELATNOSTI | D37: =D39+D68+D129+D192+D228+D276+D308+D346 -> 8830000 | E37: =E39+E68+E129+E192+E228+E276+E308+E346 -> 8739000 | F37: =F39+F68+F129+F192+F228+F276+F308+F346 -> 8750000
A39: PROGRAM | B39: 1002 | C39: PREDŠKOLSKI ODGOJ | D39: =D41+D56+D62 -> 2960000 | E39: =E41+E56+E62 -> 3080000 | F39: =F41+F56+F62 -> 3090000
A41: AKTIVNOST | B41: A100201 | C41: Financiranje redovne djelatnosti-DV "Bili Cvitak" Sinj | D41: =D48+D50+D52+D54 -> 2710000 | E41: =E48+E50+E52+E54 -> 2860000 | F41: =F48+F50+F52+F54 -> 2960000
A42: FUNKCIJSKA KLASIFIKACIJA | B42: 091 | C42: Predškolsko obrazovanje | D42: =D41 -> 2710000 | E42: =E41 -> 2860000 | F42: =F41 -> 2960000
A43: IZVOR | B43: 11 | C43: Opći prihodi i primici | D43: 1765000 | E43: 1848000 | F43: 1948000
B44: 31 | C44: Vlastiti prihodi | D44: 12000 | E44: 12000 | F44: 12000
B45: 51 | C45: Pomoći | D45: 860000 | E45: 1000000 | F45: 1000000
B46: 52 | C46: Pomoći iz EU | D46: 73000 | E46: 0 | F46: 0
B48: 31 | C48: Rashodi za zaposlene | D48: 2150000 | E48: 2300000 | F48: 2400000
B50: 32 | C50: Materijalni rashodi | D50: 500000 | E50: 500000 | F50: 500000
B52: 34 | C52: Financijski rashodi | D52: 4000 | E52: 4000 | F52: 4000
B54: 42 | C54: Rashodi za nabavu proizvedene dugotrajne imovine | D54: 56000 | E54: 56000 | F54: 56000
A56: AKTIVNOST | B56: A100202 | C56: Sufinanciranje predškolskog odgoja | D56: =D60 -> 130000 | E56: =E60 -> 130000 | F56: =F60 -> 130000
A57: FUNKCIJSKA KLASIFIKACIJA | B57: 091 | C57: Predškolsko obrazovanje | D57: =D56 -> 130000 | E57: =E56 -> 130000 | F57: =F56 -> 130000
A58: IZVORI | B58: 11 | C58: Opći prihodi i primici | D58: =D56 -> 130000 | E58: =E56 -> 130000 | F58: =F56 -> 130000
B60: 38 | C60: Ostali rashodi | D60: 130000 | E60: 130000 | F60: 130000
A62: AKTIVNOST | B62: A100203 | C62: Novčana pomoć roditeljima djece koji su ostvarili pravo na upis u dječji vrtić, ali nisu mogli biti upisani zbog popunjenosti kapaciteta | D62: =D66 -> 120000 | E62: =E66 -> 90000 | F62: =F66 -> 0
A63: FUNKCIJSKA KLASIFIKACIJA | B63: 091 | C63: Predškolsko obrazovanje | D63: =D62 -> 120000 | E63: =E62 -> 90000 | F63: =F62 -> 0
A64: IZVORI | B64: 11 | C64: Opći prihodi i primici | D64: =D62 -> 120000 | E64: =E62 -> 90000 | F64: =F62 -> 0
B66: 37 | C66: Naknade građanima i kućanstvima na temelju osiguranja i druge naknade | D66: 120000 | E66: 90000 | F66: 0
A68: PROGRAM | B68: 1003 | C68: KULTURA | D68: =D70+D84+D91+D97+D103+D109+D115+D121 -> 603000 | E68: =E70+E84+E91+E97+E103+E109+E115+E121 -> 557000 | F68: =F70+F84+F91+F97+F103+F109+F115+F121 -> 558000
A70: AKTIVNOST | B70: A100301 | C70: Gradska knjižnica | D70: =D76+D78+D80+D82 -> 70000 | E70: =E76+E78+E80+E82 -> 73000 | F70: =F76+F78+F80+F82 -> 73000
A71: FUNKCIJSKA KLASIFIKACIJA | B71: 082 | C71: Službe kulture | D71: =D70 -> 70000 | E71: =E70 -> 73000 | F71: =F70 -> 73000
A72: IZVORI | B72: 11 | C72: Opći prihodi i primici | D72: 55000 | E72: 58000 | F72: 58000
B73: 31 | C73: Vlastiti prihodi | D73: 8000 | E73: 8000 | F73: 8000
B74: 51 | C74: Pomoći | D74: 7000 | E74: 7000 | F74: 7000
B76: 31 | C76: Rashodi za zaposlene | D76: 46000 | E76: 49000 | F76: 49000
B78: 32 | C78: Materijalni rashodi | D78: 11500 | E78: 11500 | F78: 11500
B80: 34 | C80: Financijski rashodi | D80: 500 | E80: 500 | F80: 500
B82: 42 | C82: Rashodi za nabavu proizvedene dugotrajne imovine | D82: 12000 | E82: 12000 | F82: 12000
A84: AKTIVNOST | B84: A100302 | C84: Kulturne manifestacije - Dani Alke i Velike Gospe, Advent u Sinju i ostale manifestacije | D84: =D89 -> 220000 | E84: =E89 -> 210000 | F84: =F89 -> 210000
A85: FUNKCIJSKA KLASIFIKACIJA | B85: 082 | C85: Službe kulture | D85: =D84 -> 220000 | E85: =E84 -> 210000 | F85: =F84 -> 210000
A86: IZVORI | B86: 11 | C86: Opći prihodi i primici | D86: 210000 | E86: 200000 | F86: 200000
B87: 51 | C87: Pomoći | D87: 10000 | E87: 10000 | F87: 10000
B89: 32 | C89: Materijalni rashodi | D89: 220000 | E89: 210000 | F89: 210000
A91: AKTIVNOST | B91: A100303 | C91: Kulturno umjetnička društva i udruge | D91: =D95 -> 135000 | E91: =E95 -> 135000 | F91: =F95 -> 135000
A92: FUNKCIJSKA KLASIFIKACIJA | B92: 082 | C92: Službe kulture | D92: =D91 -> 135000 | E92: =E91 -> 135000 | F92: =F91 -> 135000
A93: IZVORI | B93: 11 | C93: Opći prihodi i primici | D93: =D91 -> 135000 | E93: =E91 -> 135000 | F93: =F91 -> 135000
B95: 38 | C95: Donacije i ostali rashodi | D95: 135000 | E95: 135000 | F95: 135000
A97: AKTIVNOST | B97: A100304 | C97: Kulturno umjetničko središte - Sinj | D97: =D101 -> 40000 | E97: =E101 -> 0 | F97: =F101 -> 0
A98: FUNKCIJSKA KLASIFIKACIJA | B98: 082 | C98: Službe kulture | D98: =D97 -> 40000 | E98: =E97 -> 0 | F98: =F97 -> 0
A99: IZVORI | B99: 11 | C99: Opći prihodi i primci | D99: =D97 -> 40000 | E99: =E97 -> 0 | F99: =F97 -> 0
B101: 38 | C101: Ostali rashodi | D101: 40000 | E101: 0 | F101: 0
A103: AKTIVNOST | B103: A100305 | C103: Financiranje tekućih rashoda | D103: =D107 -> 8000 | E103: =E107 -> 8000 | F103: =F107 -> 8000
A104: FUNKCIJSKA KLASIFIKACIJA | B104: 082 | C104: Službe kulture | D104: =D103 -> 8000 | E104: =E103 -> 8000 | F104: =F103 -> 8000
A105: IZVOR | B105: 11 | C105: Opći prihodi i primici | D105: =D103 -> 8000 | E105: =E103 -> 8000 | F105: =F103 -> 8000
B107: 32 | C107: Materijalni rashodi | D107: 8000 | E107: 8000 | F107: 8000
A109: AKTIVNOST | B109: A100306 | C109: Sufinanciranje rada Muzeja Cetinske krajine | D109: =D113 -> 7000 | E109: =E113 -> 7000 | F109: =F113 -> 7000
A110: FUNKCIJSKA KLASIFIKACIJA | B110: 082 | C110: Službe kulture | D110: =D109 -> 7000 | E110: =E109 -> 7000 | F110: =F109 -> 7000
A111: IZVOR | B111: 11 | C111: Opći prihodi i primici | D111: =D109 -> 7000 | E111: =E109 -> 7000 | F111: =F109 -> 7000
B113: 36 | C113: Pomoći dane u inozemstvo i unutar općeg proračuna | D113: 7000 | E113: 7000 | F113: 7000
A115: AKTIVNOST | B115: A100307 | C115: Gradska galerija - Sikirica | D115: =D119 -> 80000 | E115: =E119 -> 82000 | F115: =F119 -> 83000
A116: FUNKCIJSKA KLASIFIKACIJA | B116: 082 | C116: Službe kulture | D116: =D115 -> 80000 | E116: =E115 -> 82000 | F116: =F115 -> 83000
A117: IZVORI | B117: 11 | C117: Opći prihodi i primici | D117: =D115 -> 80000 | E117: =E115 -> 82000 | F117: =F115 -> 83000
B119: 38 | C119: Ostali rashodi | D119: 80000 | E119: 82000 | F119: 83000
A121: PROJEKT | B121: K100301 | C121: Sanacija Gradske tvrđave | D121: =D127 -> 43000 | E121: =E127 -> 42000 | F121: =F127 -> 42000
A122: FUNKCIJSKA KLASIFIKACIJA | B122: 082 | C122: Službe kulture | D122: =D121 -> 43000 | E122: =E121 -> 42000 | F122: =F121 -> 42000
A123: IZVORI | B123: 11 | C123: Opći prihodi i primici | D123: 14000 | E123: 13000 | F123: 13000
B124: 41 | C124: Prihodi za posebne namjene | D124: 3000 | E124: 3000 | F124: 3000
B125: 51 | C125: Pomoći | D125: 26000 | E125: 26000 | F125: 26000
B127: 42 | C127: Rashodi za nabavu proizvodne dugotrajne imovine | D127: 43000 | E127: 42000 | F127: 42000
A129: PROGRAM | B129: 1004 | C129: ŠPORT | D129: =D131+D137+D143+D149+D155+D163+D171+D177+D183 -> 1180000 | E129: =E131+E137+E143+E149+E155+E163+E171+E177+E183 -> 1180000 | F129: =F131+F137+F143+F149+F155+F163+F171+F177+F183 -> 1180000
A131: AKTIVNOST | B131: A100401 | C131: Športski klubovi i udruge | D131: =D135 -> 800000 | E131: =E135 -> 800000 | F131: =F135 -> 800000
A132: FUNKCIJSKA KLASIFIKACIJA | B132: 081 | C132: Službe rekreacije i športa | D132: =D131 -> 800000 | E132: =E131 -> 800000 | F132: =F131 -> 800000
A133: IZVOR | B133: 11 | C133: Opći prihodi i primici | D133: =D131 -> 800000 | E133: =E131 -> 800000 | F133: =F131 -> 800000
B135: 38 | C135: Ostali rashodi | D135: 800000 | E135: 800000 | F135: 800000
A137: AKTIVNOST | B137: A100402 | C137: Financiranje troškova korištenja školske športske dvorane | D137: =D141 -> 10000 | E137: =E141 -> 10000 | F137: =F141 -> 10000
A138: FUNKCIJSKA KLASIFIKACIJA | B138: 081 | C138: Službe rekreacije i športa | D138: =D137 -> 10000 | E138: =E137 -> 10000 | F138: =F137 -> 10000
A139: IZVOR | B139: 11 | C139: Opći prihodi i primici | D139: =D137 -> 10000 | E139: =E137 -> 10000 | F139: =F137 -> 10000
B141: 38 | C141: Ostali rashodi | D141: 10000 | E141: 10000 | F141: 10000
A143: AKTIVNOST | B143: A100403 | C143: Financiranje tekućih rashoda | D143: =D147 -> 8000 | E143: =E147 -> 8000 | F143: =F147 -> 8000
A144: FUNKCIJSKA KLASIFIKACIJA | B144: 081 | C144: Službe rekreacije i športa | D144: =D143 -> 8000 | E144: =E143 -> 8000 | F144: =F143 -> 8000
A145: IZVOR | B145: 11 | C145: Opći prihodi i primici | D145: =D143 -> 8000 | E145: =E143 -> 8000 | F145: =F143 -> 8000
B147: 32 | C147: Materijalni rashodi | D147: 8000 | E147: 8000 | F147: 8000
A149: AKTIVNOST | B149: A100404 | C149: Financiranje komunalnih usluga športskih klubova | D149: =D153 -> 20000 | E149: =E153 -> 20000 | F149: =F153 -> 20000
A150: FUNKCIJSKA KLASIFIKACIJA | B150: 081 | C150: Službe rekreacije i športa | D150: =D149 -> 20000 | E150: =E149 -> 20000 | F150: =F149 -> 20000
A151: IZVOR | B151: 11 | C151: Opći prihodi i primici | D151: =D149 -> 20000 | E151: =E149 -> 20000 | F151: =F149 -> 20000
B153: 38 | C153: Ostali rashodi | D153: 20000 | E153: 20000 | F153: 20000
A155: AKTIVNOST | B155: A100405 | C155: Održavanje športskih objekata i igrališta | D155: =D159+D161 -> 53000 | E155: =E159+E161 -> 53000 | F155: =F159+F161 -> 53000
...

Sheet razdjel 2
A2: Oznaka | B2: Konto | C2: Opis rashoda i izdataka | D2: Proračun 2024.g. | E2: Projekcija 2025.g. | F2: Projekcija 2026.g.
C4: RAZDJEL 2. UPRAVNI ODJEL ZA KOMUNALNI SUSTAV | D4: =D5+D137 -> 3183000 | E4: =E5+E137 -> 3333000 | F4: =F5+F137 -> 3800000
A5: GLAVA 1 | B5: 2005 | C5: KOMUNALNO GOSPODARSTVO | D5: =D7+D72+D107 -> 2287000 | E5: =E7+E72+E107 -> 2611000 | F5: =F7+F72+F107 -> 3185000
A7: PROGRAM | B7: 1010 | C7: ODRŽAVANJE KOMUNALNE INFRASTRUKTURE | D7: =D9+D16+D24+D30+D36+D42+D48+D54+D60+D66 -> 1361000 | E7: =E9+E16+E24+E30+E36+E42+E48+E54+E60+E66 -> 1365000 | F7: =F9+F16+F24+F30+F36+F42+F48+F54+F60+F66 -> 1365000
A9: AKTIVNOST | B9: A101001 | C9: Održavanje javne rasvjete | D9: =D14 -> 420000 | E9: =E14 -> 420000 | F9: =F14 -> 400000
A10: FUNKCIJSKA KLASIFIKACIJA | B10: 064 | C10: Ulična rasvjeta | D10: =D9 -> 420000 | E10: =E9 -> 420000 | F10: =F9 -> 400000
A11: IZVOR | B11: 11 | C11: Opći prihodi i primici | D11: 60000 | E11: 44000 | F11: 20000
B12: 41 | C12: Namjenski prihodi | D12: 360000 | E12: 376000 | F12: 380000
B14: 32 | C14: Materijalni rashodi | D14: 420000 | E14: 420000 | F14: 400000
A16: AKTIVNOST | B16: A101002 | C16: Održavanje nerazvrstanih cesta | D16: =D22 -> 530000 | E16: =E22 -> 530000 | F16: =F22 -> 530000
A17: FUNKCIJSKA KLASIFIKACIJA | B17: 045 | C17: Cestovni promet | D17: =D16 -> 530000 | E17: =E16 -> 530000 | F17: =F16 -> 530000
A18: IZVOR | B18: 11 | C18: Opći prihodi i primici | D18: 35000 | E18: 15000 | F18: 34000
B19: 41 | C19: Namjenski prihodi | D19: 480000 | E19: 515000 | F19: 496000
B20: 51 | C20: Pomoći | D20: 15000 | E20: 0 | F20: 0
B22: 32 | C22: Materijalni rashodi | D22: 530000 | E22: 530000 | F22: 530000
A24: AKTIVNOST | B24: A101003 | C24: Odvodnja oborinskih voda | D24: =D28 -> 35000 | E24: =E28 -> 35000 | F24: =F28 -> 35000
A25: FUNKCIJSKA KLASIFIKACIJA | B25: 052 | C25: Gospodarenje otpadnim vodama | D25: =D24 -> 35000 | E25: =E24 -> 35000 | F25: =F24 -> 35000
A26: IZVOR | B26: 41 | C26: Namjenski prihodi | D26: =D24 -> 35000 | E26: =E24 -> 35000 | F26: =F24 -> 35000
B28: 32 | C28: Materijalni rashodi | D28: 35000 | E28: 35000 | F28: 35000
A30: AKTIVNOST | B30: A101004 | C30: Održavanje čistoće javnih površina | D30: =D34 -> 128000 | E30: 132000 | F30: =F34 -> 140000
A31: FUNKCIJSKA KLASIFIKACIJA | B31: 051 | C31: Gospodarenje otpadom | D31: =D30 -> 128000 | E31: =E30 -> 132000 | F31: =F30 -> 140000
A32: IZVOR | B32: 41 | C32: Namjenski prihodi | D32: 128000 | E32: =E30 -> 132000 | F32: =F30 -> 140000
B34: 32 | C34: Materijalni rashodi | D34: 128000 | E34: 132000 | F34: 140000
A36: AKTIVNOST | B36: A101005 | C36: Održavanje javnih zelenih površina | D36: =D40 -> 97000 | E36: =E40 -> 97000 | F36: =F40 -> 100000
A37: FUNKCIJSKA KLASIFIKACIJA | B37: 051 | C37: Gospodarenje otpadom | D37: =D36 -> 97000 | E37: =E36 -> 97000 | F37: =F36 -> 100000
A38: IZVOR | B38: 41 | C38: Namjenski prihodi | D38: =D36 -> 97000 | E38: =E36 -> 97000 | F38: =F36 -> 100000
B40: 32 | C40: Materijalni rashodi | D40: 97000 | E40: 97000 | F40: 100000
A42: AKTIVNOSTI | B42: A101006 | C42: Održavanje javnih površina na kojima nije dopušten promet motornim vozilima | D42: =D46 -> 25000 | E42: =E46 -> 25000 | F42: =F46 -> 25000
A43: FUNKCIJSKA KLASIFIKACIJA | B43: 045 | C43: Cestovni promet | D43: =D42 -> 25000 | E43: =E42 -> 25000 | F43: =F42 -> 25000
A44: IZVOR | B44: 41 | C44: Namjenski prihodi | D44: =D42 -> 25000 | E44: =E42 -> 25000 | F44: =F42 -> 25000
B46: 32 | C46: Materijalni rashodi | D46: 25000 | E46: 25000 | F46: 25000
A48: AKTIVNOST | B48: A101007 | C48: Održavanje građevina, uređaja i predmeta javne namjene | D48: =D52 -> 20000 | E48: =E52 -> 20000 | F48: =F52 -> 20000
A49: FUNKCIJSKA KLASIFIKACIJA | B49: 062 | C49: Razvoj zajednice | D49: =D48 -> 20000 | E49: =E48 -> 20000 | F49: =F48 -> 20000
A50: IZVOR | B50: 41 | C50: Namjenski prihodi | D50: =D48 -> 20000 | E50: =E48 -> 20000 | F50: =F48 -> 20000
B52: 32 | C52: Materijalni rashodi | D52: 20000 | E52: 20000 | F52: 20000
A54: AKTIVNOST | B54: A101008 | C54: Dezinsekcija i deratizacija javnih površina | D54: =D58 -> 27000 | E54: =E58 -> 27000 | F54: =F58 -> 30000
A55: FUNKCIJSKA KLASIFIKACIJA | B55: 056 | C55: Poslovi i usluge zaštite okoliša | D55: =D54 -> 27000 | E55: =E54 -> 27000 | F55: =F54 -> 30000
A56: IZVOR | B56: 41 | C56: Namjenski prihodi | D56: =D54 -> 27000 | E56: =E54 -> 27000 | F56: =F54 -> 30000
B58: 32 | C58: Materijalni rashodi | D58: 27000 | E58: 27000 | F58: 30000
A60: AKTIVNOST | B60: A101009 | C60: Veterinarsko - higijeničarski poslovi | D60: =D64 -> 32000 | E60: =E64 -> 32000 | F60: =F64 -> 32000
A61: FUNKCIJSKA KLASIFIKACIJA | B61: 056 | C61: Poslovi i usluge zaštite okoliša | D61: =D60 -> 32000 | E61: =E60 -> 32000 | F61: =F60 -> 32000
A62: IZVOR | B62: 41 | C62: Namjenski prihodi | D62: =D60 -> 32000 | E62: =E60 -> 32000 | F62: =F60 -> 32000
B64: 32 | C64: Materijalni rashodi | D64: 32000 | E64: 32000 | F64: 32000
A66: AKTIVNOST | B66: A101010 | C66: Održavanje groblja | D66: =D70 -> 47000 | E66: =E70 -> 47000 | F66: =F70 -> 53000
A67: FUNKCIJSKA KLASIFIKACIJA | B67: 062 | C67: Razvoj zajednice | D67: =D66 -> 47000 | E67: =E66 -> 47000 | F67: =F66 -> 53000
A68: IZVOR | B68: 41 | C68: Namjenski prihodi | D68: =D66 -> 47000 | E68: =E66 -> 47000 | F68: =F66 -> 53000
B70: 32 | C70: Materijalni rashodi | D70: 47000 | E70: 47000 | F70: 53000
A72: PROGRAM | B72: 1011 | C72: ZAJEDNIČKI RASHODI U FUNKCIJI ODRŽAVANJA KOMUNALNE INFRASTRUKTURE | D72: =D74+D80+D86+D95+D101 -> 360000 | E72: =E74+E80+E86+E95+E101 -> 800000 | F72: =F74+F80+F86+F95+F101 -> 610000
A74: AKTIVNOST | B74: A101101 | C74: Zajedničke usluge u komunalnom gospodarstvu | D74: =D78 -> 100000 | E74: =E78 -> 100000 | F74: =F78 -> 100000
A75: FUNKCIJSKA KLASIFIKACIJA | B75: 066 | C75: Rashodi vezani za stanovanje i komunalne pogodnosti koje nisu drugdje svrstane | D75: =D74 -> 100000 | E75: =E74 -> 100000 | F75: =F74 -> 100000
A76: IZVOR | B76: 11 | C76: Opći prihodi i primici | D76: =D74 -> 100000 | E76: =E74 -> 100000 | F76: =F74 -> 100000
B78: 32 | C78: Materijalni rashodi | D78: 100000 | E78: 100000 | F78: 100000
A80: AKTIVNOST | B80: A101102 | C80: Naknada za smanjenje količine miješanog komunalnog otpada po Rješenju Fonda | D80: =D84 -> 140000 | E80: =E84 -> 140000 | F80: =F84 -> 100000
A81: FUNKCIJSKA KLASIFIKACIJA | B81: 051 | C81: Gospodarenje otpadom | D81: =D80 -> 140000 | E81: =E80 -> 140000 | F81: =F80 -> 100000
A82: IZVOR | B82: 11 | C82: Opći prihodi i primici | D82: =D80 -> 140000 | E82: =E80 -> 140000 | F82: =F80 -> 100000
B84: 38 | C84: Ostali rashodi | D84: 140000 | E84: 140000 | F84: 100000
A86: PROJEKT | B86: K101101 | C86: Energetska učinkovitost na sustavu javne rasvjete | D86: =D91+D93 -> 10000 | E86: =E91+E93 -> 400000 | F86: =F91+F93 -> 400000
A87: FUNKCIJSKA KLASIFIKACIJA | B87: 064 | C87: Ulična rasvjeta | D87: =D86 -> 10000 | E87: =E86 -> 400000 | F87: =F86 -> 400000
A88: IZVORI | B88: 11 | C88: Opći prihodi i primici | D88: 10000 | E88: 0 | F88: 0
B89: 84 | C89: Primici od zaduživanja | D89: 0 | E89: 400000 | F89: 400000
B91: 34 | C91: Financijski rashodi | D91: 10000 | E91: 0 | F91: 0
B93: 42 | C93: Rashodi za nabavu proizvodne dugotrajne imovine | D93: 0 | E93: 400000 | F93: 400000
A95: PROJEKT | B95: K101102 | C95: Nabavka urbane opreme i programa | D95: =D99 -> 10000 | E95: =E99 -> 10000 | F95: =F99 -> 10000
A96: FUNKCIJSKA KLASIFIKACIJA | B96: 062 | C96: Razvoj zajednice | D96: =D95 -> 10000 | E96: =E95 -> 10000 | F96: =F95 -> 10000
A97: IZVOR | B97: 11 | C97: Opći prihodi i primici | D97: =D95 -> 10000 | E97: =E95 -> 10000 | F97: =F95 -> 10000
B99: 42 | C99: Rashodi za nabavu proizvodne dugotrajne imovine | D99: 10000 | E99: 10000 | F99: 10000
A101: PROJEKT | B101: K101103 | C101: Projektiranje i izgradnja nadstrešnice na groblju Sv. Frane u Sinju | D101: =D105 -> 100000 | E101: =E105 -> 150000 | F101: =F105 -> 0
A102: FUNKCIJSKA KLASIFIKACIJA | B102: 062 | C102: Razvoj zajednice | D102: =D101 -> 100000 | E102: =E101 -> 150000 | F102: =F101 -> 0
A103: IZVOR | B103: 11 | C103: Opći prihodi i primici | D103: =D101 -> 100000 | E103: =E101 -> 150000 | F103: =F101 -> 0
B105: 42 | C105: Rashodi za nabavu proizvodne dugotrajne imovine | D105: 100000 | E105: 150000 | F105: 0
A107: PROGRAM | B107: 1012 | C107: ZAŠTITA OKOLIŠA | D107: =D109+D117+D123+D131 -> 566000 | E107: =E109+E117+E123+E131 -> 446000 | F107: =F109+F117+F123+F131 -> 1210000
A109: PROJEKT | B109: K101201 | C109: Sanacija odlagališta komunalnog otpada "Mojanka" | D109: =D115 -> 500000 | E109: =E115 -> 140000 | F109: =F115 -> 700000
A110: FUNKCIJSKA KLASIFIKACIJA | B110: 051 | C110: Gospodarenje otpadom | D110: =D109 -> 500000 | E110: =E109 -> 140000 | F110: =F109 -> 700000
A111: IZVOR | B111: 11 | C111: Opći prihodi i primici | D111: 125000 | E111: 0 | F111: 125000
B112: 41 | C112: Namjenski prihodi | D112: 0 | E112: 35000 | F112: 50000
B113: 51 | C113: Pomoći | D113: 375000 | E113: 105000 | F113: 525000
B115: 42 | C115: Rashodi za nabavu proizvedene dug. imovine | D115: 500000 | E115: 140000 | F115: 700000
A117: PROJEKT | B117: K101202 | C117: Gospodarenja otpadom | D117: =D121 -> 6000 | E117: =E121 -> 6000 | F117: =F121 -> 10000
A118: FUNKCIJSKA KLASIFIKACIJA | B118: 051 | C118: Gospodarenje otpadom | D118: =D117 -> 6000 | E118: =E117 -> 6000 | F118: =F117 -> 10000
A119: IZVOR | B119: 51 | C119: Pomoći | D119: =D117 -> 6000 | E119: =E117 -> 6000 | F119: =F117 -> 10000
B121: 32 | C121: Materijalni rashodi | D121: 6000 | E121: 6000 | F121: 10000
A123: PROJEKT | B123: K101203 | C123: Izgradanja sortirnice | D123: =D129 -> 40000 | E123: =E129 -> 300000 | F123: =F129 -> 500000
A124: FUNKCIJSKA KLASIFIKACIJA | B124: 051 | C124: Gospodarenje otpadom | D124: =D123 -> 40000 | E124: =E123 -> 300000 | F124: =F123 -> 500000
A125: IZVOR | B125: 11 | C125: Opći prihodi i primici | D125: 0 | E125: 0 | F125: 0
B126: 41 | C126: Namjenski prihod | D126: 40000 | E126: 60000 | F126: 100000
B127: 52 | C127: Pomoći iz EU | D127: 0 | E127: 240000 | F127: 400000
B129: 42 | C129: Rashodi za nabavu proizvodne dugotrajne imovine | D129: 40000 | E129: 300000 | F129: 500000
A131: PROJEKT | B131: K101204 | C131: Izrada projektne dokumentacije za kompostanu | D131: =D135 -> 20000 | E131: =E135 -> 0 | F131: =F135 -> 0
A132: FUNKCIJSKA KLASIFIKACIJA | B132: O51 | C132: Gospodarenje otpadom | D132: =D131 -> 20000 | E132: =E131 -> 0 | F132: =F131 -> 0
A133: IZVOR | B133: 11 | C133: Opći prihodi i primici | D133: =D131 -> 20000 | E133: =E131 -> 0 | F133: =F131 -> 0
B135: 32 | C135: Materijalni rashodi | D135: 20000 | E135: 0 | F135: 0
A137: GLAVA 2 | B137: 2010 | C137: RAZVITAK GOSPODARSTVA | D137: =D138 -> 896000 | E137: =E138 -> 722000 | F137: =F138 -> 615000
A138: PROGRAM | B138: 1013 | C138: PROGRAM GRAĐENJA KOMUNALNE INFRASTRUKTURE | D138: =D140+D147+D155+D163+D169+D176+D182+D188+D197+D203+D209+D215+D221+D227+D233+D239+D247+D255+D262+D276+D281+D287+D269 -> 896000 | E138: =E140+E147+E155+E163+E169+E176+E182+E188+E197+E203+E209+E215+E221+E227+E233+E239+E247+E255+E262+E276+E281+E287+E269 -> 722000 | F138: =F140+F147+F155+F163+F169+F176+F182+F188+F197+F203+F209+F215+F221+F227+F233+F239+F247+F255+F262+F276+F281+F287+F269 -> 615000
A140: PROJEKT | B140: K101302 | C140: Izgradnja nogostupa od Zorke Macana do spomenika Radošić Gornji | D140: =D145 -> 0 | E140: =E145 -> 30000 | F140: =F145 -> 30000
A141: FUNKCIJSKA KLASIFIKACIJA | B141: 045 | C141: Cestovni promet | D141: =D140 -> 0 | E141: =E140 -> 30000 | F141: =F140 -> 30000
A142: IZVOR | B142: 11 | C142: Opći prihodi i primici | D142: 0 | E142: 0 | F142: 0
B143: 51 | C143: Pomoći | D143: 0 | E143: 30000 | F143: 30000
B145: 42 | C145: Rashodi za nabavu proizvedene dug.imovine | D145: 0 | E145: 30000 | F145: 30000
A147: PROJEKT | B147: K101303 | C147: Proširenje groblja u Turjacima | D147: =D151+D153 -> 12000 | E147: =E151+E153 -> 50000 | F147: =F151+F153 -> 50000
A148: FUNKCIJSKA KLASIFIKACIJA | B148: 066 | C148: Rashodi vezani za stanovanje i komunalne pogodnosti koje nisu drugdje svrstane | D148: =D147 -> 12000 | E148: =E147 -> 50000 | F148: =F147 -> 50000
...

Sheet razdjel 3
A2: Oznaka | B2: Konto | C2: Opis rashoda i izdataka | D2: Proračun 2024.g. | E2: Projekcija 2025.g. | F2: Projekcija 2026.g.
C4: RAZDJEL 3. UPRAVNI ODJEL ZA GOSPODARSKI RAZVOJ, FONDOVE EU I JAVNU NABAVU | D4: =D5 -> 4475000 | E4: =E5 -> 2393000 | F4: =F5 -> 2415000
A5: GLAVA 1 | B5: 3005 | C5: JAČANJE GOSPODARSTVA | D5: =D7+D59+D137 -> 4475000 | E5: =E7+E59+E137 -> 2393000 | F5: =F7+F59+F137 -> 2415000
A7: PROGRAM | B7: 1014 | C7: JAČANJE GOSPODARSTVA I IZGRADNJA KAPITALNIH OBJEKATA | D7: =D9+D16+D24+D36+D44+D51+D30 -> 678000 | E7: =E9+E16+E24+E30+E36+E44+E51 -> 826000 | F7: =F9+F16+F24+F30+F36+F44+F51 -> 769000
A9: AKTIVNOST | B9: A101401 | C9: Priprema razvojnih programa i ostali zajednički rashodi | D9: =D14 -> 40000 | E9: =E14 -> 50000 | F9: =F14 -> 50000
A10: FUNKCIJSKA KLASIFIKACIJA | B10: 049 | C10: Ekonomski poslovi koji nisu drugdje svrstani | D10: =D9 -> 40000 | E10: =E9 -> 50000 | F10: =F9 -> 50000
A11: IZVOR | B11: 11 | C11: Opći prihodi i primici | D11: 20000 | E11: 25000 | F11: 25000
B12: 52 | C12: Pomoći iz EU sredstava | D12: 20000 | E12: 25000 | F12: 25000
B14: 32 | C14: Materijalni rashodi | D14: 40000 | E14: 50000 | F14: 50000
A16: AKTIVNOST | B16: A101402 | C16: Poticanje poduzetništva | D16: =D22 -> 320000 | E16: =E22 -> 320000 | F16: =F22 -> 320000
A17: FUNKCIJSKA KLASIFIKACIJA | B17: 049 | C17: Ekonomski poslovi koji nisu drugdje svrstani | D17: 320000 | E17: =E16 -> 320000 | F17: =F16 -> 320000
A18: IZVOR | B18: 11 | C18: Opći prihodi i primici | D18: 290000 | E18: 320000 | F18: 320000
B19: 41 | C19: Prihodi za posebne namjene | D19: 30000 | E19: 0 | F19: 0
B20: 51 | C20: Pomoći | D20: 0 | E20: 0 | F20: 0
B22: 35 | C22: Subvencije | D22: 320000 | E22: 320000 | F22: 320000
A24: AKTIVNOST | B24: A101403 | C24: Razvojna Strategija Grada Sinja | D24: =D28 -> 7000 | E24: =E28 -> 7000 | F24: =F28 -> 0
A25: FUNKCIJSKA KLASIFIKACIJA | B25: 062 | C25: Razvoj zajednice | D25: =D24 -> 7000 | E25: =E24 -> 7000 | F25: =F24 -> 0
A26: IZVORI | B26: 11 | C26: Opći prihodi i primici | D26: =D24 -> 7000 | E26: =E24 -> 7000 | F26: =F24 -> 0
B28: 32 | C28: Materijalni rashodi | D28: 7000 | E28: 7000 | F28: 0
A30: AKTIVNOST | B30: A101404 | C30: Subvencioniranje cijene vodnih usluga za kućanstva | D30: =D34 -> 100000 | E30: =E34 -> 0 | F30: =F34 -> 0
A31: FUNKCIJSKA KLASIFIKACIJA | B31: O49 | C31: Ekonomski poslovi koji nisu drugdje svrstani | D31: =D30 -> 100000 | E31: =E30 -> 0 | F31: =F30 -> 0
A32: IZVOR | B32: 11 | C32: Opći prihodi i primici | D32: =D30 -> 100000 | E32: =E30 -> 0 | F32: =F30 -> 0
B34: 35 | C34: Subvencije | D34: 100000 | E34: 0 | F34: 0
A36: PROJEKT | B36: K101401 | C36: Gospodarska zona Kukuzovac | D36: =D42 -> 133000 | E36: =E42 -> 133000 | F36: =F42 -> 133000
A37: FUNKCIJSKA KLASIFIKACIJA | B37: 045 | C37: Cestovni promet | D37: =D36 -> 133000 | E37: =E36 -> 133000 | F37: =F36 -> 133000
A38: IZVOR | B38: 11 | C38: Opći prihodi i primici | D38: 30000 | E38: 28000 | F38: 28000
B39: 51 | C39: Pomoći | D39: 3000 | E39: 25000 | F39: 25000
B40: 71 | C40: Prihod od prodaje ili zamjene nefinancijske imovine | D40: 100000 | E40: 80000 | F40: 80000
B42: 38 | C42: Ostali rashodi | D42: 133000 | E42: 133000 | F42: 133000
A44: PROJEKT | B44: K101402 | C44: Uređenje prostora za Galeriju Sikirica | D44: =D49 -> 58000 | E44: =E49 -> 250000 | F44: =F49 -> 200000
A45: FUNKCIJSKA KLASIFIKACIJA | B45: 082 | C45: Služba kulture | D45: =D44 -> 58000 | E45: =E44 -> 250000 | F45: =F44 -> 200000
A46: IZVOR | B46: 11 | C46: Opći prihodi i primici | D46: 38000 | E46: 100000 | F46: 100000
B47: 51 | C47: Pomoći | D47: 20000 | E47: 150000 | F47: 100000
B49: 32 | C49: Materijalni rashodi | D49: 58000 | E49: 250000 | F49: 200000
A51: PROJEKT | B51: K101403 | C51: Projektna dokumentacija za izgradnju stočnog pazara na području GZK | D51: =D55+D57 -> 20000 | E51: =E55+E57 -> 66000 | F51: =F55+F57 -> 66000
A52: FUNKCIJSKA KLASIFIKACIJA | B52: O62 | C52: Razvoj zajednice | D52: =D51 -> 20000 | E52: =E51 -> 66000 | F52: =F51 -> 66000
A53: IZVOR | B53: 11 | C53: Opći prihodi i primici | D53: =D51 -> 20000 | E53: =E51 -> 66000 | F53: =F51 -> 66000
B55: 32 | C55: Materijalni rashodi | D55: 20000 | E55: 0 | F55: 0
B57: 42 | C57: Rashodi za nabavu proizvedene dugotrajne imovine | D57: 0 | E57: 66000 | F57: 66000
A59: PROGRAM | B59: 1015 | C59: PRIPREMA I PROVEDBA PROJEKATA KOJI SE FINANCIRAJU IZ FONDOVA EU | D59: =D61+D67+D75+D83+D91+D99+D106+D116+D122+D130 -> 3610000 | E59: =E61+E67+E75+E83+E91+E99+E106+E116+E122+E130 -> 1527000 | F59: =F61+F67+F75+F83+F91+F99+F106+F116+F122+F130 -> 1606000
A61: PROJEKT | B61: K101501 | C61: Tekući rashodi za financiranje projekata iz fondova EU | D61: =D65 -> 40000 | E61: =E65 -> 40000 | F61: =F65 -> 40000
A62: FUNKCIJSKA KLASIFIKACIJA | B62: 049 | C62: Ekonomski poslov koji nisu drugdje svrstani | D62: =D61 -> 40000 | E62: =E61 -> 40000 | F62: =F61 -> 40000
A63: IZVORI FINANCIRANJA | B63: 52 | C63: Pomoći iz EU | D63: =D61 -> 40000 | E63: =E61 -> 40000 | F63: =F61 -> 40000
B65: 32 | C65: Materijalni rashodi | D65: 40000 | E65: 40000 | F65: 40000
A67: PROJEKT | B67: K101502 | C67: Izgradnje integriranog sustava odvodnje i strukturnih fondova EU - Aglomeracija | D67: =D73 -> 1330000 | E67: =E73 -> 395000 | F67: =F73 -> 0
A68: FUNKCIJSKA KLASIFIKACIJA | B68: 052 | C68: Gospodarenje otpadnim vodama | D68: =D67 -> 1330000 | E68: =E67 -> 395000 | F68: =F67 -> 0
A69: IZVORI FINANCIRANJA | B69: 11 | C69: Opći prihodi i primici | D69: 100000 | E69: 0 | F69: 0
B70: 51 | C70: Pomoći | D70: 752000 | E70: =E67 -> 395000 | F70: =F67 -> 0
B71: 52 | C71: Pomoći iz EU sredstava | D71: 478000 | E71: 0 | F71: 0
B73: 38 | C73: Donacije i ostali rashodi | D73: 1330000 | E73: 395000 | F73: 0
A75: PROJEKT | B75: K101503 | C75: Izgradnja dječjeg vrtića u Glavicama | D75: =D81 -> 1500000 | E75: =E81 -> 0 | F75: =F81 -> 0
A76: FUNKCIJSKA KLASIFIKACIJA | B76: 091 | C76: Predškolsko obrazovanje | D76: =D75 -> 1500000 | E76: =E75 -> 0 | F76: =F75 -> 0
A77: IZVORI FINANCIRANJA | B77: 11 | C77: Opći prihodi i primici | D77: =D75-D78-D79 -> 219000 | E77: 0 | F77: 0
B78: 51 | C78: Pomoći | D78: 320000 | E78: 0 | F78: 0
B79: 52 | C79: Pomoći iz EU sredstava | D79: 961000 | E79: 0 | F79: 0
B81: 42 | C81: Rashodi za nabavu proizvedene dugotrajne imovine | D81: 1500000 | E81: 0 | F81: 0
A83: PROJEKT | B83: K101504 | C83: Izgradnja dječjeg vrtića u Karakašici | D83: =D89 -> 30000 | E83: =E89 -> 400000 | F83: =F89 -> 400000
A84: FUNKCIJSKA KLASIFIKACIJA | B84: 091 | C84: Predškolsko obrazovanje | D84: =D83 -> 30000 | E84: =E83 -> 400000 | F84: =F83 -> 400000
A85: IZVORI FINANCIRANJA | B85: 11 | C85: Opći prihodi i primici | D85: 30000 | E85: 0 | F85: 100000
B86: 51 | C86: Pomoći | D86: 0 | E86: 121000 | F86: 100000
B87: 52 | C87: Pomoći iz EU | D87: 0 | E87: 279000 | F87: 200000
B89: 42 | C89: Rashodi za nabavu proizvedene dugotrajne imovine | D89: 30000 | E89: 400000 | F89: 400000
A91: PROJEKT | B91: K101505 | C91: Izrada projektne dokumentacije za poljoprivredno inovacijski centar na Štaliji | D91: =D97 -> 137000 | E91: =E97 -> 300000 | F91: =F97 -> 300000
A92: FUNKCIJSKA KLASIFIKACIJA | B92: 042 | C92: Poljoprivreda | D92: =D91 -> 137000 | E92: =E91 -> 300000 | F92: =F91 -> 300000
A93: IZVORI FINANCIRANJA | B93: 11 | C93: Opći prihodi i primici | D93: 7000 | E93: 0 | F93: 100000
B94: 51 | C94: Pomoći | D94: 130000 | E94: 0 | F94: 0
B95: 52 | C95: Pomoći iz EU sredstava | D95: 0 | E95: 300000 | F95: 200000
B97: 42 | C97: Rashodi za nabavu proizvedene dugotrajne imovine | D97: 137000 | E97: 300000 | F97: 300000
A99: PROJEKT | B99: K101506 | C99: Sustav energetske učinkovitosti na objektima u vlasništvu Grada | D99: =D104 -> 66000 | E99: =E104 -> 66000 | F99: =F104 -> 66000
A100: FUNKCIJSKA KLASIFIKACIJA | B100: 066 | C100: Rashodi vezani za stanovanje i komunalne pogodnosti koje nisu drugdje svrstani | D100: =D99 -> 66000 | E100: =E99 -> 66000 | F100: =F99 -> 66000
A101: IZVORI FINANCIRANJA | B101: 52 | C101: Pomoći iz EU | D101: 28000 | E101: =E99 -> 66000 | F101: =F99 -> 66000
B102: 61 | C102: Donacije | D102: 38000 | E102: 0 | F102: 0
B104: 42 | C104: Rashodi za nabavu dugotrajne proizvodne imovine | D104: 66000 | E104: 66000 | F104: 66000
A106: PROJEKT | B106: K101507 | C106: Projekt pripreme projektno tehničke dokumentacije i studije izvodljivosti za ulaganja u projekte javne turističke infrastrukture (Štale, Hipodrom, Alkarska staza..) | D106: =D112+D114 -> 214000 | E106: =E112+E114 -> 200000 | F106: =F112+F114 -> 500000
A107: FUNKCIJSKA KLASIFIKACIJA | B107: 047 | C107: Turizam | D107: =D106 -> 214000 | E107: =E106 -> 200000 | F107: =F106 -> 500000
A108: IZVORI FINANCIRANJA | B108: 11 | C108: Opći prihodi i primici | D108: 94000 | E108: 0 | F108: 131000
B109: 51 | C109: Pomoći | D109: 100000 | E109: 0 | F109: 0
B110: 52 | C110: Pomoći iz EU sredstava | D110: 20000 | E110: =E106 -> 200000 | F110: 369000
B112: 32 | C112: Materijalni rashodi | D112: 214000 | E112: 0 | F112: 0
B114: 42 | C114: Rashodi za nabavu proizvedene dugotrajne impovine | D114: 0 | E114: 200000 | F114: 500000
A116: PROJEKT | B116: K101508 | C116: Izrada projektne dokumentacije za projekt "difuznog - poduzetničkog inkubatora" | D116: =D120 -> 30000 | E116: =E120 -> 0 | F116: =F120 -> 0
A117: FUNKCIJSKA KLASIFIKACIJA | B117: 049 | C117: Ekonomski poslovi koji nisu drugdje svrstani | D117: =D116 -> 30000 | E117: =E116 -> 0 | F117: =F116 -> 0
A118: IZVORI FINANCIRANJA | B118: 11 | C118: Opći prihodi i primici | D118: =D116 -> 30000 | E118: =E116 -> 0 | F118: =F116 -> 0
B120: 42 | C120: Rashodi za nabavu proizvedene dugotrajne imovine | D120: 30000 | E120: 0 | F120: 0
A122: PROJEKT | B122: K101509 | C122: Uređenje prostora "Aerodroma" | D122: =D126+D128 -> 40000 | E122: =E126+E128 -> 26000 | F122: =F126+F128 -> 0
A123: FUNKCIJSKA KLASIFIKACIJA | B123: 081 | C123: Služba rekreacije i športa | D123: =D122 -> 40000 | E123: =E122 -> 26000 | F123: =F122 -> 0
A124: IZVORI FINANCIRANJA | B124: 11 | C124: Opći prihodi i primici | D124: 40000 | E124: 26000 | F124: 0
B126: 32 | C126: Materijalni rashodi | D126: 40000 | E126: 26000 | F126: 0
B128: 42 | C128: Rashodi za nabavu dugotrajne proizvedene imovine | D128: 0 | E128: 0 | F128: 0
A130: PROJEKT | B130: K101510 | C130: Projekt "Sinj - Pametni Grad" | D130: =D135 -> 223000 | E130: =E135 -> 100000 | F130: =F135 -> 300000
A131: FUNKCIJSKA KLASIFIKACIJA | B131: O47 | C131: Turizam | D131: =D130 -> 223000 | E131: =E130 -> 100000 | F131: =F130 -> 300000
A132: IZVORI FINANCIRANJA | B132: 11 | C132: Opći prihodi i primici | D132: 0 | E132: 0 | F132: 183000
B133: 51 | C133: Pomoći | D133: 223000 | E133: 100000 | F133: =F131-F132 -> 117000
B135: 32 | C135: Materijalni rashodi | D135: 223000 | E135: 100000 | F135: 300000
A137: PROGRAM | B137: 1016 | C137: PROVEDBA I UPRAVLJANJE EU PROJEKTIMA- OBNOVA KULTURNE BAŠTINE | D137: =D139+D145+D151 -> 187000 | E137: =E139+E145+E151 -> 40000 | F137: =F139+F145+F151 -> 40000
A139: PROJEKT | B139: K101601 | C139: Promotivne aktivnosti radi realizacije prokazatelja projekta "Sinj u sridu" | D139: =D143 -> 35000 | E139: =E143 -> 40000 | F139: =F143 -> 40000
A140: FUNKCIJSKA KLASIFIKACIJA | B140: 082 | C140: Služba kulture | D140: =D139 -> 35000 | E140: =E139 -> 40000 | F140: =F139 -> 40000
A141: IZVORI FINANCIRANJA | B141: 11 | C141: Opći prihodi i primici | D141: =D139 -> 35000 | E141: =E139 -> 40000 | F141: =F139 -> 40000
B143: 38 | C143: Donacije i ostali rashodi | D143: 35000 | E143: 40000 | F143: 40000
A145: PROJEKT | B145: K101602 | C145: Sanancija pripadajućeg zida i opremanje uz zgradu Palacine | D145: =D149 -> 22000 | E145: =E149 -> 0 | F145: =F149 -> 0
...

Sheet razdjel 4
A2: Oznaka | B2: Konto | C2: Opis rashoda i izdataka | D2: Proračun 2024.g. | E2: Projekcija 2025.g. | F2: Projekcija 2026.g.
C4: RAZDJEL 4. UPRAVNI ODJEL ZA FINANCIJE | D4: =D7 -> 1037000 | E4: =E5 -> 1071000 | F4: =F5 -> 1081000
A5: GLAVA 1 | B5: 4005 | C5: GRADSKA UPRAVA | D5: =D4 -> 1037000 | E5: =E7 -> 1071000 | F5: =F7 -> 1081000
A7: PROGRAM | B7: 1017 | C7: UPRAVLJANJE I ADMINISTRACIJA | D7: =D9+D19+D25+D31 -> 1037000 | E7: =E9+E19+E25+E31 -> 1071000 | F7: =F9+F19+F25+F31 -> 1081000
A9: AKTIVNOST | B9: A 101701 | C9: Administrativni i stručni poslovi za zaposlenike Grada | D9: =D13+D15+D17 -> 940000 | E9: =E13+E15+E17 -> 970000 | F9: =F13+F15+F17 -> 980000
A10: FUNKCIJSKA KLASIFIKACIJA | B10: 011 | C10: Izvršna i zakonodavna tijela | D10: =D9 -> 940000 | E10: =E9 -> 970000 | F10: =F9 -> 980000
A11: IZVOR | B11: 11 | C11: Opći prihodi i primici | D11: =D9 -> 940000 | E11: =E9 -> 970000 | F11: =F9 -> 980000
B13: 31 | C13: Rashodi za zaposlene | D13: 900000 | E13: 930000 | F13: 940000
B15: 32 | C15: Materijalni rashodi | D15: 22000 | E15: 22000 | F15: 22000
B17: 34 | C17: Financijski rashodi | D17: 18000 | E17: 18000 | F17: 18000
A19: AKTIVNOST | B19: A 101702 | C19: Proračunska zaliha | D19: =D23 -> 47000 | E19: =E23 -> 47000 | F19: =F23 -> 47000
A20: FUNKCIJSKA KLASIFIKACIJA | B20: 011 | C20: Izvršna i zakonodavna tijela | D20: =D19 -> 47000 | E20: =E19 -> 47000 | F20: =F19 -> 47000
A21: IZVOR | B21: 11 | C21: Opći prihodi i primici | D21: =D19 -> 47000 | E21: =E19 -> 47000 | F21: =F19 -> 47000
B23: 38 | C23: Donacije i ostali rashodi | D23: 47000 | E23: 47000 | F23: 47000
A25: AKTIVNOST | B25: A101703 | C25: Police osiguranja | D25: =D29 -> 20000 | E25: =E29 -> 20000 | F25: =F29 -> 20000
A26: FUNKCIJSKA KLASIFIKACIJA | B26: 011 | C26: Izvršna i zakonodavna tijela | D26: =D25 -> 20000 | E26: =E25 -> 20000 | F26: =F25 -> 20000
A27: IZVOR | B27: 11 | C27: Opći prihodi i primici | D27: =D25 -> 20000 | E27: =E25 -> 20000 | F27: =F25 -> 20000
B29: 32 | C29: Materijalni rashodi | D29: 20000 | E29: 20000 | F29: 20000
A31: PROJEKT | B31: K 100101 | C31: Obnova uredskih prostorija i opreme | D31: =D35 -> 30000 | E31: =E35 -> 34000 | F31: =F35 -> 34000
A32: FUNKCIJSKA KLASIFIKACIJA | B32: 011 | C32: Izvršna i zakonodavna tijela | D32: =D31 -> 30000 | E32: =E31 -> 34000 | F32: =F31 -> 34000
A33: IZVOR | B33: 11 | C33: Opći prihodi i primici | D33: =D31 -> 30000 | E33: =E31 -> 34000 | F33: =F31 -> 34000
B35: 42 | C35: Rashodi za nabavu proizvodne dugotrajne imovine | D35: 30000 | E35: 34000 | F35: 34000

Sheet razdjel 5
A2: Oznaka | B2: Konto | C2: Opis rashoda i izdataka | D2: Proračun 2024.g. | E2: Projekcija 2025.g. | F2: Projekcija 2026g.
C4: RAZDJEL 5. UPRAVNI ODJEL ZA IMOVINU I PROSTORNO UREĐENJE | D4: =D6 -> 352000 | E4: =E6 -> 332000 | F4: =F8 -> 322000
A6: GLAVA | B6: 5005 | C6: GOSPODARANJE GRADSKOM IMOVINOM | D6: =D8 -> 352000 | E6: =E8 -> 332000 | F6: =F4 -> 322000
A8: PROGRAM | B8: 1018 | C8: GOSPODARANJE GRADSKOM IMOVINOM | D8: =D11+D18+D25+D31+D37+D43+D50+D56 -> 352000 | E8: =E11+E18+E25+E31+E37+E43+E50+E56 -> 332000 | F8: =F11+F18+F25+F31+F37+F43+F50+F56 -> 322000
A11: AKTIVNOST | B11: A101801 | C11: Rješavanje imovnsko - pravnih odnosa za otkup zemljišta za realizaciju projekata | D11: =D16 -> 25000 | E11: =E16 -> 25000 | F11: =F16 -> 25000
A12: FUNKCIJSKA KLASIFIKACIJA | B12: 011 | C12: Izvršna i zakonodavna tijela | D12: =D11 -> 25000 | E12: =E11 -> 25000 | F12: =F11 -> 25000
A13: IZVORI | B13: 11 | C13: Opći prihodi i primici | D13: 25000 | E13: 5000 | F13: 5000
B14: 71 | C14: Prihodi od prodaje neproizvedene dugotrajne imovine | D14: 0 | E14: 20000 | F14: 20000
B16: 41 | C16: Rashodi za nabavu neproizvedene dugotrajne imovine | D16: 25000 | E16: 25000 | F16: 25000
A18: AKTIVNOST | B18: A101802 | C18: Gospodarenje poslovnim i stambenim prostorima | D18: =D23 -> 150000 | E18: =E23 -> 140000 | F18: =F23 -> 140000
A19: FUNKCIJSKA KLASIFIKACIJA | B19: 066 | C19: Rashodi vezani za stanovanje i komunalne pogodnosti | D19: =D18 -> 150000 | E19: =E18 -> 140000 | F19: =F18 -> 140000
A20: IZVORI | B20: 11 | C20: Opći prihodi i primici | D20: =D19-D21 -> 118000 | E20: 70000 | F20: 70000
B21: 61 | C21: Donacije | D21: 32000 | E21: 70000 | F21: 70000
B23: 32 | C23: Materijalni rashodi | D23: 150000 | E23: 140000 | F23: 140000
A25: AKTIVNOST | B25: A101803 | C25: Katastarska izmjera nerazvrstanih cesta-baza nerazvrstanih cesta | D25: =D29 -> 20000 | E25: =E29 -> 20000 | F25: =F29 -> 20000
A26: FUNKCIJSKA KLASIFIKACIJA | B26: 045 | C26: Cestovni promet | D26: =D25 -> 20000 | E26: =E25 -> 20000 | F26: =F25 -> 20000
A27: IZVOR | B27: 11 | C27: Opći prihodi i primici | D27: =D25 -> 20000 | E27: =E25 -> 20000 | F27: =F25 -> 20000
B29: 32 | C29: Materijalni rashodi | D29: 20000 | E29: 20000 | F29: 20000
A31: AKTIVNOST | B31: A101804 | C31: Odvjetničke usluge u zastupanju Grada | D31: =D35 -> 4000 | E31: =E35 -> 4000 | F31: =F35 -> 4000
A32: FUNKCIJSKA KLASIFIKACIJA | B32: 011 | C32: Izvršna i zakonodavna tijela | D32: =D31 -> 4000 | E32: =E31 -> 4000 | F32: =F31 -> 4000
A33: IZVORI | B33: 11 | C33: Opći prihodi i primici | D33: =D31 -> 4000 | E33: =E31 -> 4000 | F33: =F31 -> 4000
B35: 32 | C35: Materijalni rashodi | D35: 4000 | E35: 4000 | F35: 4000
A37: AKTIVNOST | B37: A101805 | C37: Prostorno planiranje: studije, podloge i ostala popratna dokumentacija | D37: =D41 -> 20000 | E37: =E41 -> 20000 | F37: =F41 -> 20000
A38: FUNKCIJSKA KLASIFIKACIJA | B38: 062 | C38: Razvoj zajednice | D38: =D37 -> 20000 | E38: =E37 -> 20000 | F38: =F37 -> 20000
A39: IZVORI | B39: 11 | C39: Opći prihodi i primici | D39: 20000 | E39: 20000 | F39: 20000
B41: 32 | C41: Materijalni rashodi | D41: 20000 | E41: 20000 | F41: 20000
A43: PROJEKT | B43: K101801 | C43: Kupnja nekretnina od interesa za Grad Sinj | D43: =D48 -> 50000 | E43: 40000 | F43: 50000
A44: FUNKCIJSKA KLASIFIKACIJA | B44: 049 | C44: Ekonomski poslovi koji nisu drugdje svrstani | D44: =D43 -> 50000 | E44: =E43 -> 40000 | F44: 50000
A45: IZVORI | B45: 11 | C45: Opći prihodi i primici | D45: 20000 | E45: 10000 | F45: 20000
B46: 72 | C46: Prihodi od prodaje proizvedene dugotrajne imovine | D46: 30000 | E46: 30000 | F46: 30000
B48: 42 | C48: Rashodi za nabavu proizvedene dugotrajne impovine | D48: 50000 | E48: 40000 | F48: 50000
A50: PROJEKT | B50: K101802 | C50: GIS Grada Sinja | D50: =D54 -> 63000 | E50: =E54 -> 63000 | F50: =F54 -> 43000
A51: FUNKCIJSKA KLASIFIKACIJA | B51: 066 | C51: Rashodi vezani za stanovanje i komunalne pogodnosti | D51: =D50 -> 63000 | E51: =E50 -> 63000 | F51: =F50 -> 43000
A52: IZVORI | B52: 11 | C52: Opći prihodi i primici | D52: =D50 -> 63000 | E52: =E50 -> 63000 | F52: =F50 -> 43000
B54: 32 | C54: Materijalni rashodi | D54: 63000 | E54: 63000 | F54: 43000
A56: PROJEKT | B56: K101803 | C56: Izrada prostornih planova | D56: =D60 -> 20000 | E56: =E60 -> 20000 | F56: =F60 -> 20000
A57: FUNKCIJSKA KLASIFIKACIJA | B57: 062 | C57: Razvoj zajednice | D57: =D56 -> 20000 | E57: =E56 -> 20000 | F57: =F56 -> 20000
A58: IZVORI | B58: 11 | C58: Opći prihodi i primici | D58: 20000 | E58: 20000 | F58: 20000
B60: 42 | C60: Rashodi za nabavu proizvedene dugotrajne imovine | D60: 20000 | E60: 20000 | F60: 20000
C64: III. PRIJELAZNE I ZAKLJUČNE ODREDBE
A66: Članak 3.
A68: Obrazloženje općeg i posebnog dijela sastavni su dio Proračuna za 2024.g. sa projekcijama 2025.g. i 2026.g.
C71: Članak 4.
B73: Proračun Grada Sinja za 2024.g. sa projekcijama za 2025. i 2026.g. objavit ce se u "Slubenom glasniku Grada Sinja", a primjenjuje se od 01. siječnja 2024. godine.
A78: Gradsko vijeće Grada Sinja
A79: Klasa: 400-01/23-01/16
A80: Ur.broj: 2181-8-03-23-2
A81: Sinj, ______ 2023. godine
E85: Predsjednik Gradskog vijeća:
E86: Petar Župić
