Workbook
Name OLE_LINK1: REKAPIT!#REF!
Name OLE_LINK4: REKAPIT!#REF!

Sheet TRO
C4: NARUČITELJ: GRAD SINJ
C6: GRAĐEVINA: IZGRADNJA DJEČJEG IGRALIŠTA U NASELJU BRNAZE NA k.č. 8440, k.o. BRNAZE
C8: IZRADA PROJEKTA: T.A.U.OPREMA d.o.o, Kaštel Novi, Šantićeva 23, OIB:92902361494
C19: TROŠKOVNIK GRAĐEVINSKIH RADOVA I RADOVA OPREMANJA
C41: KAŠTEL NOVI, ožujak 2025.

Sheet uvod
B3: Uvodne napomene:
B6: Predmet troškovnika:
B9: Predmet troškovnika su građevinsko zanatski radovi na izgradnji dječjeg igrališta
B12: Količine radova:
B14: Količine radova dane u Troškovniku nisu konačne.
B15: Osnova za obračun i plaćanje su stvarno izvedene količine utvrđene u građevinskoj knjizi, ovjerenoj od strane
B16: izvođača i nadzornog inženjera.
B17: Za radove koji se nakon dovršetka objekta ne mogu provjeriti izmjerom,
B18: potrebno je voditi evidenciju u građevinskom dnevniku.
B19: Točnost unesenih podataka ovjeravaju predstavnik izvođača i nadzorni inženjer.
B21: Cijene radova:
B23: Cijene radova dane u ovom ponudbenom Troškovniku odnose se na jediničnu cijenu gotovog posla.
... B27: objekata, dovoz i montaža strojeva i opreme te demontaža i odvoz istih po završetku posla, troškovi
B28: osiguranja radilišta, troškovi provedbe | C28: mjera zaštite na radu tj. troškovi osiguranja izvođenja radova
B29: na siguran način, troškovi dovođenja radilišta u uredno stanje. Po završetku radova, troškovi općih rizika,
B30: odgovornosti i obveza proizišlih iz Ugovora i svi ostali troškovi potrebni za pravilno izvršenje pojedinog rada.
B31: Također, jediničnim cijenama su obuhvaćeni svi troškovi koji proizlaze iz obveze izvođača da osigura dokaze
B32: o kvaliteti ugrađenih materijala i izvedenih radova.
B33: Ponuđač je dužan ostvariti uvid u stanje i uvjete koji vladaju na terenu te iste uzeti u obzir
B34: i uključiti u jediničnecijene radova.
B35: Sve predradnje i zahvate potrebne za pristup do gradilišta izvođač izvodi sam, a trošak istih
B36: uključen je u jedinične cijene radova iz ovog troškovnika.
B38: Izvođenje radova:
B40: Sve radove izvođač mora izvesti u skladu s projektnom dokumentacijom, važećim zakonima i propisima,
B41: hrvatskim normama i pravilnicima.
B42: Izvođač je dužan o svom trošku osigurati gradilište i građevinu od vremenskih i drugih nepogoda.
... B59: Tijekom izvođenja radova izvođač je dužan o vlastitom trošku držati gradilište u urednom stanju, a tijekom
B60: dana privremeno | C60: zauzete prometne površine detaljno očistiti i nakon radnog vremena vratiti u funkciju.
B61: Nalaženje odlagališta otpadnog građevinskog materijala obveza je izvođača, a trošak naknade za
B62: korištenje i uređenje odlagališta mora biti uključen u jedinične cijene ovog Troškovnika.
B64: Ove uvodne napomene sastavni su dio ponudbenog troškovnika i obvezne su za ponuđača odnosno izvođača.

Sheet 1
A1: Građevina: | D1: T.A.U.OPREMA d.o.o. | G1: oznaka projekta:
A2: IZGRADNJA DJEČJEG IGRALIŠTA U NASELJU BRNAZE NA k.č.8440 k.o. BRNAZE | G2: GP-11/25
D3: Šantićeva 23, Kaštel Novi
A4: A. | C4: GRAĐEVINSKO ZANATSKI RADOVI
A5: R.b. | C5: Opis stavke | D5: Jed. mjere | E5: Količina | F5: Jed. cijena | G5: Iznos
A7: 1 | C7: PRIPREMNI RADOVI
A9: 1. | C9: Nabava, doprema i ugradnja gradilišne ograde
C10: Obračun po m' ograde. | D10: m | E10: 10 | G10: =E10*F10 -> 0
A13: =+A7 -> 1 | C13: =+C7 -> PRIPREMNI RADOVI | E13: UKUPNO: | G13: =SUM(G7:G11) -> 0

Sheet 2
A1: Građevina: | D1: T.A.U.OPREMA d.o.o. | G1: oznaka projekta:
A2: IZGRADNJA DJEČJEG IGRALIŠTA U NASELJU BRNAZE NA k.č.8440 k.o. BRNAZE | G2: GP-11/25
D3: Šantićeva 23, Kaštel Novi
A4: A. | C4: GRAĐEVINSKO ZANATSKI RADOVI
A5: R.b. | C5: Opis stavke | D5: Jed. mjere | E5: Količina | F5: Jed. cijena | G5: Iznos
A7: 2 | C7: ZEMLJANI RADOVI
A9: 1 | C9: Strojni iskop materijala u širokom otkopu u svrhu
C10: profiliranja terena do projektom predviđenih kota.
C11: Rad obuhvaća:
C12: _ strojni iskop u širokom otkopu
C13: Predmjerom se predviđa:
C14: _ u materijalu ”B” iskopne kategorije
C15: Obračun po m3 iskopanog materijala u sraslom stanju. | D15: m3 | E15: 25 | G15: =E15*F15 -> 0
A17: 2 | C17: Strojni iskop temelja zidova.
C18: Rad obuhvaća:
C19: _ strojni iskop u širokom otkopu
C20: Predmjerom se predviđa:
C21: _ u materijalu ”B” iskopne kategorije
C22: Obračun po m3 iskopanog materijala u sraslom stanju. | D22: m3 | E22: 2 | G22: =E22*F22 -> 0
A24: 3 | C24: Strojni iskop temelja sprava
C25: Rad obuhvaća:
C26: _ strojni iskop u širokom otkopu
C27: Predmjerom se predviđa:
C28: _ u materijalu ”B” iskopne kategorije
C29: Obračun po m3 iskopanog materijala u sraslom stanju. | D29: m3 | E29: 2 | G29: =E29*F29 -> 0
A31: 4. | C31: Ručni iskop u blizini postojećih komunalnih instalacija.
C32: Rad obuhvaća:
C33: _ ručni iskop
C34: _ izbacivanje iskopanog materijala sa strane rova/jame
C35: Predmjerom se predviđa:
C36: _ u materijalu ”B” iskopne kategorije
C37: Obračun po m3 iskopanog materijala u sraslom stanju. | D37: m3 | E37: 1 | G37: =E37*F37 -> 0
A39: 5. | C39: Strojni utovar i odvoz viška iskopanog materijala.
C40: Rad obuhvaća:
C41: _ utovar materijala u teretno vozilo
C42: _ odvoz i istovar materijala na odgovarajuću deponiju
C43: otpadnog materijala
C44: U cijenu je uključena i taksa deponije.
C45: Obračun po m3 iskopanog materijala u sraslom stanju. | D45: m3 | E45: =E15+E22+E29+E37 -> 30 | G45: =E45*F45 -> 0
A47: 6. | C47: Uređenje posteljice igrališta.
...

Sheet 3
A1: Građevina: | D1: T.A.U.OPREMA d.o.o. | G1: oznaka projekta:
A2: IZGRADNJA DJEČJEG IGRALIŠTA U NASELJU BRNAZE NA k.č.8440 k.o. BRNAZE | G2: GP-11/25
D3: Šantićeva 23, Kaštel Novi
A4: A, | C4: GRAĐEVINSKO ZANATSKI RADOVI
A5: R.b. | C5: Opis stavke | D5: Jed. mjere | E5: Količina | F5: Jed. cijena | G5: Iznos
A7: 3 | C7: BETONSKI I ARMIRANOBETONSKI RADOVI
A9: 1. | C9: Izrada a.b. temelja zidova i sprava za igru
C10: Beton klase C25/30.
C11: Rad obuhvaća:
C12: _ dobavu i transport betona na mjesto ugradnje
C13: _ betoniranje vijenca
C14: _ njegu betona nakon ugradnje prema TPBK
C15: Obračun po m3 ugrađenog betona. | D15: m3 | E15: 1.5 | G15: =E15*F15 -> 0
A17: 2. | C17: Izrada a.b zida
C18: Beton klase C25/30.
C19: Rad obuhvaća:
C20: _ dobavu i transport betona na mjesto ugradnje
C21: _ betoniranje vijenca
C22: _ njegu betona nakon ugradnje prema TPBK
C23: Obračun po m3 ugrađenog betona. | D23: m3 | E23: 1 | G23: =E23*F23 -> 0
A25: 3. | C25: Izrada i ugradnja mrežaste armature zidova, temelja.
C26: Rad uključuje:
C27: _ dobavu i izradu armature prema projektu (MA 500/560)
C28: U cijenu uključen i sav pomoćni materijal (distanceri, žica ..)
C29: Obračun po kg ugrađene armature.
C30: _ MA 500/560 | D30: kg | E30: 150 | G30: =E30*F30 -> 0
A32: =+A7 -> 3 | C32: =+C7 -> BETONSKI I ARMIRANOBETONSKI RADOVI | E32: UKUPNO: | G32: =SUM($G$7:G31) -> 0

Sheet 4
A1: Građevina: | D1: T.A.U.OPREMA d.o.o. | G1: oznaka projekta:
A2: IZGRADNJA DJEČJEG IGRALIŠTA U NASELJU BRNAZE NA k.č.8440 k.o. BRNAZE | G2: GP-11/25
D3: Šantićeva 23, Kaštel Novi
A4: A. | C4: GRAĐEVINSKO ZANATSKI RADOVI
A5: R.b. | C5: Opis stavke | D5: Jed. mjere | E5: Količina | F5: Jed. cijena | G5: Iznos
A7: 4 | C7: RADOVI GORNJEG USTROJA
A9: 1 | C9: Dobava i ugradnja geotekstil platna, min 300 g/m2.
C10: Geotekstil se polaže na posteljicu.
C11: Rad obuhvaća:
C12: _ dobavu i transport geotekstila na mjesto ugradnje
C13: _ ugradnju
C14: Obračun po m2 ugrađenog geotekstila. | D14: m2 | E14: 110 | G14: =E14*F14 -> 0
A16: 2. | C16: Zasipanje terena kamenim drobljencem 0-64mm
C17: u sloju debljine 15cm
C18: Ugradnju vršiti u slojevima debljine do 20 cm
C19: uz kontinuirano stabiliziranje odgovarajućim sredstvom
C20: (vibronabijač, vibroploča).
C21: Zasip izvršiti do visine kako je to određeno projektom.
C22: Rad obuhvaća:
C23: _ strojno ili ručno zasipanje predmetnim materijalom iza
C24: zidova, u slojevima debljine do 20 cm uz nabijanje
C25: Obračun po m3 ugrađenog materijala. | D25: m3 | E25: 15 | G25: =E25*F25 -> 0
A27: 3 | C27: Izrada lijevane antitraumatske podloge za dječja igrališta
C28: deklarirane visine pada (HIC) 150 cm
C29: Izvodi se lijevanjem smjese granula pluta i poliuretanskog
C30: veziva u omjeru po uputama proizvođača
C31: u ukupnoj debljini od 50 mm
C32: Donji bazni sloj se izvodi sa granulama pluta promjera
C33: 4-5 mm i pripadajućeg poliuretanskog veziva u debljini
C34: od 35 mm na posteljicu zbijenog kamenog agregata
C35: minimalne vrijednosti 40 MPa.
C36: Gornji habajući sloj se izvodi od granula pluta
C37: promjera 2-3 mm i pripadajućeg poliuretanskog veziva
C38: u debljini od 15 mm
C39: Sustav treba zadovoljavati normu EN 1177 što treba d
C40: okazati priloženim certifikatom .
C41: Obračun po m2 | D41: m2 | E41: 50 | G41: =E41*F41 -> 0
A43: 4. | C43: Prskanje tamponske podloge bitumenskom emulzijom.
C44: Obračun po m2 | D44: m2 | E44: 50 | G44: =E44*F44 -> 0
A46: 5. | C46: Rad obuhvaća nabavu,prijevoz i ugradnju asfaltne mase
...

Sheet 5
A1: Građevina: | D1: T.A.U.OPREMA d.o.o. | G1: oznaka projekta:
A2: IZGRADNJA DJEČJEG IGRALIŠTA U NASELJU BRNAZE NA k.č.8440 k.o. BRNAZE | G2: GP-11/25
D3: Šantićeva 23, Kaštel Novi
A4: A. | C4: GRAĐEVINSKO ZANATSKI RADOVI
A5: R.b. | C5: Opis stavke | D5: Jed. mjere | E5: Količina | F5: Jed. cijena | G5: Iznos
A7: 5 | C7: ZANATSKI RADOVI | G7: =+F7*E7 -> 0
G8: =+F8*E8 -> 0
A9: 1. | C9: Dobava i ugradnja ograde igrališta.
C10: Ograda je sistem od niza stupova i ogradnih panela.
C11: Stupovi su od čel. cijevnih profila pravokutnog presjeka,
C12: dimenzija u pop. presjeku 40/60 mm.
C13: Poredani su i usidreni u pravilnom razmaku.
C14: Temelje se podložnom pločom i sidrenim vijcima u
C15: betonski temeljni zid. Na temeljne vijke stavit zaštitne kapice.
C16: Ogradni paneli sastoje se od mreže dvostrukih horizontalnih
C17: (ø8 mm) i vertikalnih žica (ø6 mm), dimenzije otvora (oka)
C18: 50/200 mm.
C19: Duljina panela je 250cm, a visine od 1,00m
C20: Paneli se na svojim krajevima fiksiraju na stupove u najmanje
C21: tri mjesta pričvršćenja.
... C34: _ ugradnju prema projektu
C35: stup visine 1,08m (presjek 40/60mm) | D35: kom | E35: 8 | G35: =E35*F35 -> 0
C36: stup visine 1,28m (presjek 40/60mm) | D36: kom | E36: 7 | G36: =E36*F36 -> 0
C37: panel 8/6/8, L=250cm, h=1,00m | D37: kom | E37: 6 | G37: =E37*F37 -> 0
C38: panel 8/6/8, L=250cm, h=1,20m | D38: kom | E38: 3 | G38: =E38*F38 -> 0
C39: zaštitni rukohvat žute boje | D39: kom | E39: 9 | G39: =E39*F39 -> 0
C40: vrata visine 1,m, svijetle širine 1,40m, ispuna kao panel | G40: =E40*F40 -> 0
C41: ograde | D41: kom | E41: 1 | G41: =E41*F41 -> 0
A43: 2. | C43: Izrada opločanja obodne pješačke staze.
C44: Opločanje se izvodi ugradnjom tipskih predgotovljenih
C45: betonskih elemenata - ploča 40/40/4 cm, sa
C46: površinskom obradom od riječnog kulir zrna (oblutka)
C47: veličine 8-16 mm.
C48: Ploče se polažu na pripremljenu podlogu od
C49: pjeska 2-4 mm, debljine 4-5 cm.
C50: Ugrađene betonske ploče moraju:
C51: _ biti otporni na UV zrake, smrzavanje i sol
C52: _ biti hidrofobne strukture
C53: _ biti ispitani i imati certifikat o kvaliteti
C54: Rad obuhvaća:
...

Sheet 6
A1: Građevina: | D1: T.A.U.OPREMA d.o.o. | G1: oznaka projekta:
A2: IZGRADNJA DJEČJEG IGRALIŠTA U NASELJU BRNAZE NA k.č.8440 k.o. BRNAZE | G2: GP-11/25
D3: Šantićeva 23, Kaštel Novi
A4: B. | C4: =+C43 -> OPREMA
A5: R.b. | C5: Opis stavke | D5: Jed. mjere | E5: Količina | F5: Jed. cijena | G5: Iznos
C6: Potrebno je dobaviti i ugraditi tipski predgotovljeni proizvod iz
C7: serijske proizvodnje poznatog proizvođača.
C8: Ponuđač je dužan, prilikom davanja ponude dostaviti:
C9: tehničku specifikaciju proizvoda
C10: grafički prikaz (nacrte, 3D slike)
C11: Sprava mora biti usklađena s normom HRN EN 1176 ili
C12: jednakovrijednom, što se dokazuje uvjerenjem (certifikatom)
C13: o kvaliteti.
C14: Certifikat izdaje ovlaštena tvrtka ili ustanova. Iz certifikata
C15: mora biti vidljivo da je proizvod odnosno njegovi sastavni
C16: dijelovi ispravan i siguran za upotrebu. Ponuđač je prije
C17: montaže dužan dostaviti nadzornom inženjeru traženi
... C42: _ ugradnju prema projektu i uputi proizvođača.
A43: 6. | C43: OPREMA
A45: 1. | C45: Dobava i ugradnja na pripremljenom betonskom temelju,
C46: sprave oznake 1. ”Ljuljačka jednosjed"
C47: Temeljenje duboko.
C48: Oblik i sadržaj sprave:
C49: Sastoji se od:
C50: _ konstruktivnih stupova
C51: _ sjedišta s lancima
C52: Dimenzije (DxŠxV):20 x 233 x 235 cm +/- 5%
C53: Zona sigurnosti: 720 x 175 cm +/- 5%
C54: Visina pada: 134 cm
C55: Konstruktivni stupovi su od akacija (bagremovih oblica)
C56: Sjedišta su aluminijska sa gumenom oblogom.
C57: Lanci su nehrđajućeg čelika promjera 6mm.
C58: Obračun po komadu ugrađene sprave. | D58: kom | E58: 1 | G58: =E58*F58 -> 0
A60: 2. | C60: Dobava i ugradnja na pripremljenom betonskom temelju,
C61: sprave oznake 2. ”Opružna klackalica dvosjed"
C62: Temeljenje plitko.
C63: Oblik i sadržaj sprave:
C64: Sastoji se od:
C65: _ konstruktivne grede s temeljnim elementom
C66: _ dva sjedišta
...

Sheet REKAPIT
A1: Građevina: | D1: T.A.U.OPREMA d.o.o. | G1: oznaka projekta:
A2: IZGRADNJA DJEČJEG IGRALIŠTA U NASELJU BRNAZE NA k.č.8440 k.o. BRNAZE | G2: GP-11/25
D3: Šantićeva 23, Kaštel Novi
A5: R.b. | C5: Opis stavke | G5: Iznos
A8: A. | B8: A | C8: GRAĐEVINSKO ZANATSKI RADOVI
A10: ='1'!A7 -> 1 | C10: ='1'!C7 -> PRIPREMNI RADOVI | G10: ='1'!G13 -> 0
A12: =+'2'!A62 -> 2 | C12: =+'2'!C62 -> ZEMLJANI RADOVI | G12: =+'2'!G62 -> 0
A14: =+'3'!A32 -> 3 | C14: =+'3'!C32 -> BETONSKI I ARMIRANOBETONSKI RADOVI | G14: =+'3'!G32 -> 0
A16: =+'4'!A51 -> 4 | C16: =+'4'!C51 -> RADOVI GORNJEG USTROJA | G16: =+'4'!G51 -> 0
A18: =+'5'!A88 -> 5 | C18: =+'5'!C88 -> ZANATSKI RADOVI | G18: =+'5'!G88 -> 0
A20: A. | C20: REKAPITULACIJA GRAĐEVINSKOG ZANATSKIH RADOVA | G20: =G10+G12+G14+G16+G18 -> 0
A22: B. | B22: B | C22: OPREMA
C24: OPREMA | G24: ='6'!G114 -> 0
A26: B. | C26: REKAPITULACIJA OPREMA | G26: =G24 -> 0
A29: A+B | C29: REKAPITULACIJA SVEUKUPNO | G29: =G20+G26 -> 0
C31: PDV | G31: =G29*0.25 -> 0
C33: SVEUKUPNO SA PDV-om | G33: =G29+G31 -> 0
C35: Obračun po stvarno izvedenim količinama
